Workbook

Sheet OLSZTYN
A1: Załącznik nr 2a do OPZ Załącznik nr 2a do Umowy
A2: WYKAZ POJAZDÓW ZARZĄDU DRÓG WOJEWÓDZKICH W OLSZTYNIE DO UBEZPIECZENIA NA LATA 2019-2020
A3: 4 | B3: 20 | C3: 8 | D3: 8 | E3: 5 | F3: 8 | G3: 8 | H3: 8 | I3: 9 | J3: 9 | K3: 9 | L3: 9 | M3: 8 | N3: 11 | O3: 7 | P3: 7 | Q3: 7 | R3: 7 | S3: 7 | T3: 7 | U3: 7 | V3: 7 | W3: 7 | X3: 7 | Y3: 7 | Z3: 9 | AA3: 7 | AB3: 7 | AC3: 7 | AD3: 9 | AE3: 7 | AF3: 7 | AG3: 7 | AH3: 7 | AI3: 7 | AJ3: 7 | AK3: 7 | AL3: 7 | AM3: 7 | AN3: 7 | AO3: 7 | AP3: 8 | AQ3: 8 | AR3: 8 | AS3: 8 | AT3: 8 | AU3: 8 | AV3: 8 | AW3: 9 | AX3: 4 | AY3: 4 | AZ3: 4 | BA3: 4 | BB3: 7 | BC3: 31
A4: lp | B4: Marka, model, typ pojazdu | C4: Nr rejestr. | D4: Rodzaj | E4: Rok prod. | F4: Data I rejestr. | G4: Data bad. techn. | H4: Poj. silnika / moc [kW] | I4: Liczba miejsc / ładowność w kg | J4: DMC [kg] | K4: Nr nadwozia | L4: Nr silnika | M4: Liczba kluczyków | N4: Zabezpiecz. | O4: Przebieg w km | P4: Przebieg w km 11.2008 | Q4: Przebieg w km 11.2009 | R4: Przebieg w km 11.2010 | S4: Przebieg 10.2011 [km] | T4: Przebieg 10.2012 [km] | U4: Przebieg 09.2013 [km] | V4: Przebieg 09.2014 [km] | W4: Przebieg 10.2015 [km] | X4: Przebieg 10.2016 [km] | Y4: Przebieg 06.2018 [km] | Z4: Wartość z VAT [zł] | AA4: Wartość 2020 | AB4: Wartość 2019 | AC4: Wartość 2018 | AD4: Wartość z VAT - 2 lata - 2017 i 2018 [zł] | AE4: Wartość 2017 | AF4: Wartość 2016 | AG4: Wartość 2015 | AH4: Wartość 2014 | AI4: Wartość 2013 | AJ4: Wartość 2012 | AK4: Wartość 2011 | AL4: Wartość 2010 | AM4: Wartość 2008/2009 | AN4: Wartość 2007/2008 | AO4: Wartość nowa | AP4: Składka [zł] * | AX4: Okres ubezpieczenia | BB4: Rejon | BC4: Uwagi
J5: dopuszczalna masa całkowita | M5: oryg./ nieoryg. | AP5: OC | AQ5: ZK zielona karta | AR5: AC | AS5: AC - % SU | AT5: NNW | AU5: Assistance podstawowy | AV5: Assistance rozszerzony | AW5: Łącznie za pojazd | AX5: od | AZ5: do
A6: 1 | B6: SKODA OCTAVIA III AMBITION 1,8 TSI 6-M sedan | C6: NO3549K | D6: osobowy | E6: 2013 | F6: 10.03.2014 | G6: 11.03.2014 | H6: 1798 / 132 | I6: 5 / 585 | J6: 1830 | K6: TMBAD7NE0E0096564 | M6: 2 / 0 | N6: immobiliser, autoalarm z transponderem | V6: 18714 | W6: 48154 | X6: 73050 | Y6: 123100 | Z6: 43000 | AA6: 39000 | AB6: 43000 | AC6: 48600 | AD6: 54000 | AE6: 54000 | AF6: 58000 | AG6: 63300 | AH6: 78265 | AQ6: X | AW6: =SUM(AP6:AR6,AT6:AV6) -> 0 | AX6: 2019. | AY6: 42073 | AZ6: 2020. | BA6: 42438 | BB6: Olsztyn
A7: 2 | B7: SKODA FABIA sedan Comfort | C7: NO34307 | D7: osob. | E7: 2003 | F7: 21.05.2003 | G7: 19.08.2015 | H7: 1390 / 74 | I7: 5 / | J7: 1610 | K7: TMBCD46Y833796117 | L7: BBZ059843 | M7: 2 / 0 | N7: autoalarm immobiliser | O7: 111475 | P7: 125086 | Q7: 146000 | R7: 169187 | S7: 188527 | T7: 209515 | U7: 230000 | V7: 258961 | W7: 286248 | X7: 298202 | Y7: 315700 | Z7: 5000 | AA7: 4500 | AB7: 5000 | AC7: 5500 | AD7: 6100 | AE7: 6100 | AF7: 6700 | AG7: 7400 | AH7: 9000 | AI7: 10500 | AJ7: 11500 | AK7: 12500 | AL7: 14200 | AM7: 17500 | AN7: 20000 | AQ7: X | AW7: =SUM(AP7:AR7,AT7:AV7) -> 0 | AX7: 2019. | AY7: 42145 | AZ7: 2020. | BA7: 42510 | BB7: Olsztyn
A8: 3 | B8: SKODA OCTAVIA II AMBIENTE 1,8 TSI - 6G manual sedan | C8: NO7687E | D8: osob. | E8: 2010 | F8: 07.06.2010 | G8: 07.07.2015 | H8: 1798 / 118 | I8: 5 / | J8: 1955 | K8: TMBCK61Z2A2126759 | L8: - | M8: 2 / 0 | N8: autoalarm, immobiliser z transponderem | O8: - | P8: - | Q8: - | R8: 7300 | S8: 28843 | T8: 47100 | U8: 68000 | V8: 122039 | W8: 173614 | X8: 199153 | Y8: 260000 | Z8: 19700 | AA8: 18200 | AB8: 19700 | AC8: 21000 | AD8: 23300 | AE8: 23300 | AF8: 25500 | AG8: 31500 | AH8: 36000 | AI8: 42000 | AJ8: 50000 | AK8: 59000 | AL8: 69800 | AM8: - | AN8: - | AQ8: X | AW8: =SUM(AP8:AR8,AT8:AV8) -> 0 | AX8: 2019. | AY8: 42162 | AZ8: 2020. | BA8: 42527 | BB8: Olsztyn
A9: 4 | B9: SKODA OCTAVIA II LIFTBACK AMBIENTE | C9: NO85008 | D9: osob. | E9: 2007 | F9: 16.07.2007 | G9: 08.07.214 | H9: 1598 / 85 | I9: 5 / | J9: 1925 | K9: TMBCB61Z288008203 | L9: - | M9: 2 / 0 | N9: autoalarm immobiliser | O9: 9549 | P9: 36430 | Q9: 51000 | R9: 72970 | S9: 92668 | T9: 114100 | U9: 136000 | V9: 177655 | W9: 220782 | X9: 260093 | Y9: 309700 | Z9: 10400 | AA9: 9600 | AB9: 10400 | AC9: 11400 | AD9: 12700 | AE9: 12700 | AF9: 15000 | AG9: 18500 | AH9: 20500 | AI9: 23000 | AJ9: 28500 | AK9: 34500 | AL9: 40000 | AM9: 43000 | AN9: 60000 | AQ9: X | AW9: =SUM(AP9:AR9,AT9:AV9) -> 0 | AX9: 2019. | AY9: 42201 | AZ9: 2020. | BA9: 42566 | BB9: Olsztyn
A10: 5 | B10: Peugeot C 208 Active+ hatchback | C10: NO3489S | D10: osobowy | E10: 2018 | F10: 09.08.2018 | H10: 1199 / 60 | I10: 5 / 571 | J10: 1546 | K10: VF3CCHMZ6JT021578 | M10: 2 / 0 | N10: immobiliser | Z10: 45000 | AA10: 40000 | AB10: 45000 | AC10: 50890 | AO10: 50890 | AQ10: X | AW10: =SUM(AP10:AR10,AT10:AV10) -> 0 | AX10: 2019. | AY10: 43686 | AZ10: 2020. | BA10: 44051 | BB10: Olsztyn
A11: 6 | B11: SKODA zakup w grudniu 2018 | D11: osobowy | E11: 2018 | F11: 07.2018 | M11: 2 / 0 | N11: immobiliser | Z11: 122000 | AA11: 103000 | AB11: 122000 | AC11: 142000 | AO11: 142000 | AW11: =SUM(AP11:AR11,AT11:AV11) -> 0 | AX11: 2019. | AZ11: 2020. | BB11: Olsztyn | BC11: Rosja na terytorium Obwodu Kaliningradzkiego
A12: 7 | B12: Renault Trafic Grand Passenger L2 Pack Clim | C12: NO0786L | D12: osobowy | E12: 2014 | F12: 25.09.2014 | G12: 21.10.2014 | H12: 1995 / 84 | I12: 9 / 987 | J12: 3055 | K12: VF1JLB7B2EY780123 | M12: 2 / 0 | N12: autoalarm immobiliser | V12: 751 | W12: 29074 | X12: 46579 | Y12: 72700 | Z12: 55000 | AA12: 49000 | AB12: 55000 | AC12: 59600 | AD12: 66300 | AE12: 66300 | AF12: 75000 | AG12: 90000 | AH12: 114500 | AW12: =SUM(AP12:AR12,AT12:AV12) -> 0 | AX12: 2019. | AY12: 42272 | AZ12: 2020. | BA12: 42637 | BB12: Olsztyn | BC12: Rosja na terytorium Obwodu Kaliningradzkiego
A13: 8 | B13: Hyundai i30 Comfort Hatchback | C13: NO5451M | D13: osobowy | E13: 2015 | F13: 06.11.2015 | H13: 1582 / 81 | I13: 5 / | J13: 1920 | K13: TMAD351UAGJ298993 | M13: 2 / 0 | N13: autoalarm immobiliser | X13: 31148 | Y13: 90400 | Z13: 33600 | AA13: 30000 | AB13: 33600 | AC13: 39000 | AD13: 45300 | AE13: 45300 | AF13: 52100 | AG13: 64600 | AO13: 64600 | AQ13: X | AW13: =SUM(AP13:AR13,AT13:AV13) -> 0 | AX13: 2019. | AY13: 42680 | AZ13: 2020. | BA13: 43044 | BB13: Olsztyn
A14: 9 | B14: Skoda Octavia Ambition 1.8 TSI sedan | C14: NO5105R | D14: osobowy | E14: 2017 | F14: 05.12.2017 | H14: 1798 / 132 | I14: 5 / 585 | J14: 1830 | K14: TMBAD7NE8J0187396 | M14: 2 / 0 | N14: autoalarm immobiliser | Y14: 19300 | Z14: 58000 | AA14: 52000 | AB14: 58000 | AC14: 70000 | AD14: 90000 | AE14: 90000 | AO14: 90000 | AQ14: X | AW14: =SUM(AP14:AR14,AT14:AV14) -> 0 | AX14: 2019. | AY14: 43074 | AZ14: 2020. | BA14: 43073 | BB14: Olsztyn
AP15: =SUM(AP6:AP14) -> 0 | AQ15: =SUM(AQ6:AQ14) -> 0 | AR15: =SUM(AR6:AR14) -> 0 | AS15: X | AT15: =SUM(AT6:AT14) -> 0 | AU15: =SUM(AU6:AU14) -> 0 | AV15: =SUM(AV6:AV14) -> 0 | AW15: =SUM(AW6:AW14) -> 0 | AX15: Razem 2019 rok
A16: * | B16: w przypadku bezskładkowego objęcia ochroną danego zakresu ubezpieczenia proszę wpisać 0 zł | AP16: =SUM(AP15:AV15) -> 0 | AX16: Ogółem 2019 rok
A17: 10 | B17: SKODA OCTAVIA III AMBITION 1,8 TSI 6-M sedan | C17: NO3549K | D17: osobowy | E17: 2013 | F17: 10.03.2014 | G17: 11.03.2014 | H17: 1798 / 132 | I17: 5 / 585 | J17: 1830 | K17: TMBAD7NE0E0096564 | M17: 2 / 0 | N17: immobiliser, autoalarm z transponderem | V17: 18714 | W17: 48154 | X17: 73050 | Y17: 123100 | Z17: 39000 | AA17: 39000 | AB17: 43000 | AC17: 48600 | AD17: 54000 | AE17: 54000 | AF17: 58000 | AG17: 63300 | AH17: 78265 | AQ17: X | AW17: =SUM(AP17:AR17,AT17:AV17) -> 0 | AX17: 2020. | AY17: 42073 | AZ17: 2021. | BA17: 42438 | BB17: Olsztyn
A18: 11 | B18: SKODA FABIA sedan Comfort | C18: NO34307 | D18: osob. | E18: 2003 | F18: 21.05.2003 | G18: 19.08.2015 | H18: 1390 / 74 | I18: 5 / | J18: 1610 | K18: TMBCD46Y833796117 | L18: BBZ059843 | M18: 2 / 0 | N18: autoalarm immobiliser | O18: 111475 | P18: 125086 | Q18: 146000 | R18: 169187 | S18: 188527 | T18: 209515 | U18: 230000 | V18: 258961 | W18: 286248 | X18: 298202 | Y18: 315700 | Z18: 4500 | AA18: 4500 | AB18: 5000 | AC18: 5500 | AD18: 6100 | AE18: 6100 | AF18: 6700 | AG18: 7400 | AH18: 9000 | AI18: 10500 | AJ18: 11500 | AK18: 12500 | AL18: 14200 | AM18: 17500 | AN18: 20000 | AQ18: X | AW18: =SUM(AP18:AR18,AT18:AV18) -> 0 | AX18: 2020. | AY18: 42145 | AZ18: 2021. | BA18: 42510 | BB18: Olsztyn
A19: 12 | B19: SKODA OCTAVIA II AMBIENTE 1,8 TSI - 6G manual sedan | C19: NO7687E | D19: osob. | E19: 2010 | F19: 07.06.2010 | G19: 07.07.2015 | H19: 1798 / 118 | I19: 5 / | J19: 1955 | K19: TMBCK61Z2A2126759 | L19: - | M19: 2 / 0 | N19: autoalarm, immobiliser z transponderem | O19: - | P19: - | Q19: - | R19: 7300 | S19: 28843 | T19: 47100 | U19: 68000 | V19: 122039 | W19: 173614 | X19: 199153 | Y19: 260000 | Z19: 18200 | AA19: 18200 | AB19: 19700 | AC19: 21000 | AD19: 23300 | AE19: 23300 | AF19: 25500 | AG19: 31500 | AH19: 36000 | AI19: 42000 | AJ19: 50000 | AK19: 59000 | AL19: 69800 | AM19: - | AN19: - | AQ19: X | AW19: =SUM(AP19:AR19,AT19:AV19) -> 0 | AX19: 2020. | AY19: 42162 | AZ19: 2021. | BA19: 42527 | BB19: Olsztyn
A20: 13 | B20: SKODA OCTAVIA II LIFTBACK AMBIENTE | C20: NO85008 | D20: osob. | E20: 2007 | F20: 16.07.2007 | G20: 08.07.214 | H20: 1598 / 85 | I20: 5 / | J20: 1925 | K20: TMBCB61Z288008203 | L20: - | M20: 2 / 0 | N20: autoalarm immobiliser | O20: 9549 | P20: 36430 | Q20: 51000 | R20: 72970 | S20: 92668 | T20: 114100 | U20: 136000 | V20: 177655 | W20: 220782 | X20: 260093 | Y20: 309700 | Z20: 9600 | AA20: 9600 | AB20: 10400 | AC20: 11400 | AD20: 12700 | AE20: 12700 | AF20: 15000 | AG20: 18500 | AH20: 20500 | AI20: 23000 | AJ20: 28500 | AK20: 34500 | AL20: 40000 | AM20: 43000 | AN20: 60000 | AQ20: X | AW20: =SUM(AP20:AR20,AT20:AV20) -> 0 | AX20: 2020. | AY20: 42201 | AZ20: 2021. | BA20: 42566 | BB20: Olsztyn
A21: 14 | B21: Peugeot C 208 Active+ hatchback | C21: NO3489S | D21: osobowy | E21: 2018 | F21: 09.08.2018 | H21: 1199 / 60 | I21: 5 / 571 | J21: 1546 | K21: VF3CCHMZ6JT021578 | M21: 2 / 0 | N21: immobiliser | Z21: 40000 | AA21: 40000 | AB21: 45000 | AC21: 50890 | AO21: 50890 | AQ21: X | AW21: =SUM(AP21:AR21,AT21:AV21) -> 0 | AX21: 2020. | AY21: 43686 | AZ21: 2021. | BA21: 44051 | BB21: Olsztyn
A22: 15 | B22: SKODA zakup w grudniu 2018 | D22: osobowy | E22: 2018 | M22: 2 / 0 | N22: immobiliser | Z22: 103000 | AA22: 103000 | AB22: 122000 | AC22: 142000 | AO22: 142000 | AW22: =SUM(AP22:AR22,AT22:AV22) -> 0 | AX22: 2020. | AZ22: 2021. | BB22: Olsztyn | BC22: Rosja na terytorium Obwodu Kaliningradzkiego
A23: 16 | B23: Renault Trafic Grand Passenger L2 Pack Clim | C23: NO0786L | D23: osobowy | E23: 2014 | F23: 25.09.2014 | G23: 21.10.2014 | H23: 1995 / 84 | I23: 9 / 987 | J23: 3055 | K23: VF1JLB7B2EY780123 | M23: 2 / 0 | N23: autoalarm immobiliser | V23: 751 | W23: 29074 | X23: 46579 | Y23: 72700 | Z23: 49000 | AA23: 49000 | AB23: 55000 | AC23: 59600 | AD23: 66300 | AE23: 66300 | AF23: 75000 | AG23: 90000 | AH23: 114500 | AW23: =SUM(AP23:AR23,AT23:AV23) -> 0 | AX23: 2020. | AY23: 42272 | AZ23: 2021. | BA23: 42637 | BB23: Olsztyn | BC23: Rosja na terytorium Obwodu Kaliningradzkiego
A24: 17 | B24: Hyundai i30 Comfort Hatchback | C24: NO5451M | D24: osobowy | E24: 2015 | F24: 06.11.2015 | H24: 1582 / 81 | I24: 5 / | J24: 1920 | K24: TMAD351UAGJ298993 | M24: 2 / 0 | N24: autoalarm immobiliser | X24: 31148 | Y24: 90400 | Z24: 30000 | AA24: 30000 | AB24: 33600 | AC24: 39000 | AD24: 45300 | AE24: 45300 | AF24: 52100 | AG24: 64600 | AO24: 64600 | AQ24: X | AW24: =SUM(AP24:AR24,AT24:AV24) -> 0 | AX24: 2020. | AY24: 42680 | AZ24: 2021. | BA24: 43044 | BB24: Olsztyn
A25: 18 | B25: Skoda Octavia Ambition 1.8 TSI sedan | C25: NO5105R | D25: osobowy | E25: 2017 | F25: 05.12.2017 | H25: 1798 / 132 | I25: 5 / 585 | J25: 1830 | K25: TMBAD7NE8J0187396 | M25: 2 / 0 | N25: autoalarm immobiliser | Y25: 19300 | Z25: 52000 | AA25: 52000 | AB25: 58000 | AC25: 70000 | AD25: 90000 | AE25: 90000 | AO25: 90000 | AQ25: X | AW25: =SUM(AP25:AR25,AT25:AV25) -> 0 | AX25: 2020. | AY25: 43074 | AZ25: 2021. | BA25: 43073 | BB25: Olsztyn
AI26: =SUM(AI7:AI13) -> 75500 | AJ26: =SUM(AJ7:AJ13) -> 90000 | AP26: =SUM(AP17:AP25) -> 0 | AQ26: =SUM(AQ17:AQ25) -> 0 | AR26: =SUM(AR17:AR25) -> 0 | AS26: X | AT26: =SUM(AT17:AT25) -> 0 | AU26: =SUM(AU17:AU25) -> 0 | AV26: =SUM(AV17:AV25) -> 0 | AW26: =SUM(AW6:AW14) -> 0 | AX26: Razem 2020 rok
A27: * | B27: w przypadku bezskładkowego objęcia ochroną danego zakresu ubezpieczenia proszę wpisać 0 zł | AP27: =SUM(AP26:AV26) -> 0 | AX27: Ogółem 2020 rok
AP28: =SUM(AP15,AP26) -> 0 | AQ28: =SUM(AQ15,AQ26) -> 0 | AR28: =SUM(AR15,AR26) -> 0 | AS28: X | AT28: =SUM(AT15,AT26) -> 0 | AU28: =SUM(AU15,AU26) -> 0 | AV28: =SUM(AV15,AV26) -> 0 | AX28: Łącznie za 2 lata
AP29: =SUM(AP28:AV28) -> 0
Z31: =SUM(Z6:Z14) -> 391700
Z32: =SUM(Z17:Z25) -> 345300
Z33: =SUM(Z31:Z32) -> 737000

Sheet ELBLĄG
A1: Załącznik nr 2b do OPZ Załącznik nr 2b do Umowy
A2: WYKAZ POJAZDÓW ZARZĄDU DRÓG WOJEWÓDZKICH W ELBLĄGU DO UBEZPIECZENIA NA LATA 2019-2020
A3: 4 | B3: 20 | C3: 8 | D3: 8 | E3: 5 | F3: 8 | G3: 8 | H3: 8 | I3: 9 | J3: 9 | K3: 9 | L3: 9 | M3: 8 | N3: 11 | O3: 7 | P3: 7 | Q3: 7 | R3: 7 | S3: 7 | T3: 7 | U3: 7 | V3: 7 | W3: 7 | X3: 7 | Y3: 7 | Z3: 9 | AA3: 7 | AB3: 7 | AC3: 7 | AD3: 9 | AE3: 7 | AF3: 7 | AG3: 7 | AH3: 7 | AI3: 7 | AJ3: 7 | AK3: 7 | AL3: 7 | AM3: 7 | AN3: 7 | AO3: 7 | AP3: 8 | AQ3: 8 | AR3: 8 | AS3: 8 | AT3: 8 | AU3: 8 | AV3: 8 | AW3: 9 | AX3: 4 | AY3: 4 | AZ3: 4 | BA3: 4 | BB3: 7 | BC3: 31
A4: lp | B4: Marka, model, typ pojazdu | C4: Nr rejestr. | D4: Rodzaj | E4: Rok prod. | F4: Data I rejestr. | G4: Data bad. techn. | H4: Poj. silnika / moc [kW] | I4: Liczba miejsc / ładowność w kg | J4: DMC [kg] | K4: Nr nadwozia | L4: Nr silnika | M4: Liczba kluczyków | N4: Zabezpiecz. | O4: Przebieg w km | P4: Przebieg w km 11.2008 | Q4: Przebieg w km 11.2009 | R4: Przebieg w km 11.2010 | S4: Przebieg 10.2011 [km] | T4: Przebieg 10.2012 [km] | U4: Przebieg 09.2013 [km] | V4: Przebieg 09.2014 [km] | W4: Przebieg 10.2015 [km] | X4: Przebieg 10.2016 [km] | Y4: Przebieg 06.2018 [km] | Z4: Wartość z VAT [zł] | AA4: Wartość 2020 | AB4: Wartość 2019 | AC4: Wartość 2018 | AD4: Wartość z VAT - 2 lata - 2017 i 2018 [zł] | AE4: Wartość 2017 | AF4: Wartość 2016 | AG4: Wartość 2015 | AH4: Wartość 2014 | AI4: Wartość 2013 | AJ4: Wartość 2012 | AK4: Wartość 2011 | AL4: Wartość 2010 | AM4: Wartość 2008/2009 | AN4: Wartość 2007/2008 | AO4: Wartość nowa | AP4: Składka [zł] * | AX4: Okres ubezpieczenia | BB4: Rejon | BC4: Uwagi
J5: dopuszczalna masa całkowita | M5: oryg./ nieoryg. | AP5: OC | AQ5: ZK zielona karta | AR5: AC | AS5: AC - % SU | AT5: NNW | AU5: Assistance podstawowy | AV5: Assistance rozszerzony | AW5: Łącznie za pojazd | AX5: od | AZ5: do
A6: 1 | B6: Kosiarka samojezdna Husqvarna TS342 | C6: b/n | D6: kosiarka | E6: 2014 | F6: - | H6: - | K6: 111014A001223 | X6: - | Y6: - | Z6: - | AA6: - | AB6: - | AO6: 29192 | AQ6: X | AR6: X | AS6: X | AU6: X | AV6: X | AW6: =SUM(AP6:AR6,AT6:AV6) -> 0 | AX6: 2019. | AY6: 42736 | AZ6: 2019. | BA6: 43100 | BB6: Elbląg
A7: 2 | B7: PRONAR T 653 | C7: NE2010E | D7: przyczepa ciężarowa rolnicza | E7: 2016 | F7: 13.01.2017 | H7: - | I7: 0 / 4000 | J7: 5950 | K7: SZB6530XXH1X08961 | M7: - | X7: - | Y7: - | Z7: 18000 | AA7: 15200 | AB7: 18000 | AC7: 22000 | AD7: 27060 | AE7: 27060 | AO7: 27060 | AQ7: X | AT7: X | AU7: X | AV7: X | AW7: =SUM(AP7:AR7,AT7:AV7) -> 0 | AX7: 2019. | AY7: 42748 | AZ7: 2020. | BA7: 43112 | BB7: Elbląg
A8: 3 | B8: URSUS C-360 | C8: NE0065 | D8: ciągnik roln. | E8: 1986 | F8: 30.04.1986 | G8: 28.09.2017 | H8: 3120 / | I8: 1 / | J8: - | K8: 544723 | L8: 239/83 | M8: 0 / 1 | N8: - | O8: 2150 mtg | P8: 2403+76 | Q8: 479 | R8: 759 mtg | S8: - | T8: - | U8: 1354 mtg | V8: 1556 mtg | W8: - | X8: - | Y8: - | Z8: - | AA8: - | AB8: - | AC8: - | AD8: - | AE8: - | AF8: - | AG8: - | AH8: - | AI8: - | AJ8: - | AK8: - | AL8: - | AM8: - | AN8: - | AQ8: X | AR8: X | AS8: X | AU8: X | AV8: X | AW8: =SUM(AP8:AR8,AT8:AV8) -> 0 | AX8: 2019. | AY8: 41314 | AZ8: 2020. | BA8: 41678 | BB8: Elbląg
A9: 4 | B9: AUTOSAN SANOK D-35M | C9: NE04757 | D9: p-pa | E9: 1972 | F9: 16.03.1972 | G9: 26.10.2016 | H9: - | I9: 0 / 3500 | J9: 4600 | K9: 82160 | L9: - | M9: 0 | N9: - | O9: - | P9: - | Q9: - | R9: - | S9: - | T9: - | U9: - | W9: - | X9: - | Y9: - | Z9: - | AA9: - | AB9: - | AC9: - | AD9: - | AE9: - | AF9: - | AG9: - | AH9: - | AI9: - | AJ9: - | AK9: - | AL9: - | AM9: - | AN9: - | AQ9: X | AR9: X | AS9: X | AT9: X | AU9: X | AV9: X | AW9: =SUM(AP9:AR9,AT9:AV9) -> 0 | AX9: 2019. | AY9: 41314 | AZ9: 2020. | BA9: 41678 | BB9: Elbląg
A10: 5 | B10: Renault Kangoo Oasis 1,5 d | C10: NE90347 | D10: osob. | E10: 2012 | F10: 19.04.2012 | G10: 08.05.2017 | H10: 1461 / 66 | I10: 5 / 531 | J10: 1954 | K10: VF1KW25B547034819 | M10: 2 / 0 | N10: immobiliser autoalarm | O10: - | T10: 14460 | U10: 37700 | V10: 65231 | W10: 101120 | X10: 131219 | Y10: 181827 | Z10: 19300 | AA10: 17400 | AB10: 19300 | AC10: 21100 | AD10: 23400 | AE10: 23400 | AF10: 26100 | AG10: 32100 | AH10: 37000 | AI10: 44000 | AJ10: 59955 | AQ10: X | AV10: X | AW10: =SUM(AP10:AR10,AT10:AV10) -> 0 | AX10: 2019. | AY10: 41383 | AZ10: 2020. | BA10: 41747 | BB10: Elbląg
A11: 6 | B11: Wiola W3 | C11: NE53711 | D11: p-pa | E11: 2009 | F11: 06.05.2009 | G11: - | H11: - | I11: 0 / 310 | J11: 600 | K11: SUCW3F30F92001936 | L11: - | M11: - | N11: - | O11: - | P11: - | Q11: - | R11: - | S11: - | T11: - | U11: - | W11: - | X11: - | Y11: - | Z11: - | AA11: - | AB11: - | AC11: - | AD11: - | AE11: - | AF11: - | AG11: - | AH11: - | AI11: - | AJ11: - | AK11: - | AL11: - | AM11: - | AN11: - | AQ11: X | AR11: X | AS11: X | AT11: X | AU11: X | AV11: X | AW11: =SUM(AP11:AR11,AT11:AV11) -> 0 | AX11: 2019. | AY11: 41400 | AZ11: 2020. | BA11: 41764 | BB11: Elbląg
A12: 7 | B12: Renault Trafic Pack Clim | C12: NE84968 | D12: ciężarowy | E12: 2011 | F12: 16.05.2011 | G12: 12.06.2016 | H12: 1995 / 84 | I12: 6 / 1035 | J12: 2960 | K12: VF1FLBHB6BY379567 | L12: - | M12: 2 / 0 | N12: autoalarm immobiliser z transponderem | O12: - | P12: - | Q12: - | R12: - | S12: 9134 | T12: 33534 | U12: 51460 | V12: 71264 | W12: 91400 | X12: 110580 | Y12: 150127 | Z12: 28800 | AA12: 26200 | AB12: 28800 | AC12: 33300 | AD12: 37000 | AE12: 37000 | AF12: 40000 | AG12: 43500 | AH12: 49500 | AI12: 60000 | AJ12: 75000 | AK12: 113869.71 | AL12: - | AM12: - | AN12: - | AQ12: X | AV12: X | AW12: =SUM(AP12:AR12,AT12:AV12) -> 0 | AX12: 2019. | AY12: 41410 | AZ12: 2020. | BA12: 41774 | BB12: Elbląg
A13: 8 | B13: Renault Kangoo Oasis 1,5 d | C13: NE84969 | D13: osobowy | E13: 2011 | F13: 16.05.2011 | G13: 16.05.2016 | H13: 1461 / 66 | I13: 5 / 528 | J13: 1954 | K13: VF1KW25B545045810 | L13: - | M13: 2 / 0 | N13: autoalarm immobiliser | O13: - | P13: - | Q13: - | R13: - | S13: 11279 | T13: 38685 | U13: 60319 | V13: 89204 | W13: 120175 | X13: 147506 | Y13: 202046 | Z13: 16700 | AA13: 15500 | AB13: 16700 | AC13: 19300 | AD13: 21400 | AE13: 21400 | AF13: 24000 | AG13: 27600 | AH13: 32000 | AI13: 37000 | AJ13: 45000 | AK13: 54899.98 | AL13: - | AM13: - | AN13: - | AQ13: X | AV13: X | AW13: =SUM(AP13:AR13,AT13:AV13) -> 0 | AX13: 2019. | AY13: 41410 | AZ13: 2020. | BA13: 41774 | BB13: Elbląg
A14: 9 | B14: Renault Kangoo Oasis 1,5 d | C14: NE84970 | D14: osobowy | E14: 2011 | F14: 16.05.2011 | G14: 16.05.2016 | H14: 1461 / 66 | I14: 5 / 528 | J14: 1954 | K14: VF1KW25B545144512 | L14: - | M14: 2 / 0 | N14: autoalarm immobiliser | O14: - | P14: - | Q14: - | R14: - | S14: 11917 | T14: 39872 | U14: 59986 | V14: 87692 | W14: 118430 | X14: 142959 | Y14: 187848 | Z14: 17200 | AA14: 16100 | AB14: 17200 | AC14: 19300 | AD14: 21400 | AE14: 21400 | AF14: 24000 | AG14: 27600 | AH14: 32000 | AI14: 37000 | AJ14: 45000 | AK14: 54899.98 | AL14: - | AM14: - | AN14: - | AQ14: X | AV14: X | AW14: =SUM(AP14:AR14,AT14:AV14) -> 0 | AX14: 2019. | AY14: 41410 | AZ14: 2020. | BA14: 41774 | BB14: Elbląg
A15: 10 | B15: Renault Trafic Furgon Pack Clim 2,9t L2H1 dCi | C15: NE76879 | D15: ciężar. | E15: 2010 | F15: 11.06.2010 | G15: 11.06.2016 | H15: 1995 / 84 | I15: 6 / 860 | J15: 2960 | K15: VF1FLBHB6AV383811 | L15: - | M15: 2 / 0 | N15: autoalarm, immobiliser z transponderem | O15: - | P15: - | Q15: 1968 | R15: 5474 | S15: 26921 | T15: 48636 | U15: 66767 | V15: 90905 | W15: 116506 | X15: 130034 | Y15: 184835 | Z15: 26100 | AA15: 24000 | AB15: 26100 | AC15: 29700 | AD15: 33000 | AE15: 33000 | AF15: 35000 | AG15: 37300 | AH15: 42500 | AI15: 49500 | AJ15: 63000 | AK15: 80000 | AL15: 105950 | AM15: - | AN15: - | AQ15: X | AV15: X | AW15: =SUM(AP15:AR15,AT15:AV15) -> 0 | AX15: 2019. | AY15: 41436 | AZ15: 2020. | BA15: 41800 | BB15: Elbląg
A16: 11 | B16: NIEWIADÓW B 750 | C16: NE53099 | D16: p-pa | E16: 2007 | F16: 15.06.2007 | G16: bezterminowo | H16: - | I16: 0 / 365 | J16: 600 | K16: SWNB7500070031496 | L16: - | M16: - | N16: - | P16: - | Q16: - | R16: - | S16: - | T16: - | U16: - | W16: - | X16: - | Y16: - | Z16: - | AA16: - | AB16: - | AC16: - | AD16: - | AE16: - | AF16: - | AG16: - | AH16: - | AI16: - | AJ16: - | AK16: - | AL16: - | AM16: - | AN16: - | AQ16: X | AR16: X | AS16: X | AT16: X | AU16: X | AV16: X | AW16: =SUM(AP16:AR16,AT16:AV16) -> 0 | AX16: 2019. | AY16: 41440 | AZ16: 2020. | BA16: 41804 | BB16: Elbląg
A17: 12 | B17: NIEWIADÓW B 750 | C17: NE53100 | D17: p-pa | E17: 2007 | F17: 15.06.2007 | G17: bezterminowo | H17: - | I17: 0 / 365 | J17: 600 | K17: SWNB7500070031490 | L17: - | M17: - | N17: - | O17: - | P17: - | Q17: - | R17: - | S17: - | T17: - | U17: - | W17: - | X17: - | Y17: - | Z17: - | AA17: - | AB17: - | AC17: - | AD17: - | AE17: - | AF17: - | AG17: - | AH17: - | AI17: - | AJ17: - | AK17: - | AL17: - | AM17: - | AN17: - | AQ17: X | AR17: X | AS17: X | AT17: X | AU17: X | AV17: X | AW17: =SUM(AP17:AR17,AT17:AV17) -> 0 | AX17: 2019. | AY17: 41440 | AZ17: 2020. | BA17: 41804 | BB17: Elbląg
A18: 13 | B18: SKODA OCTAVIA II LIFTBACK AMBIENTE | C18: NE92152 | D18: osob. | E18: 2007 | F18: 16.07.2007 | G18: 11.09.2016 | H18: 1598 / 85 | I18: 5 / | J18: 1925 | K18: TMBCB61Z882021282 | L18: BLF350526 | M18: 2 / 0 | N18: autoalarm immobiliser z transponderem | O18: 13183 | P18: 39880 | Q18: 68375 | R18: 97226 | S18: 127785 | T18: 155916 | U18: 181880 | V18: 212932 | W18: 246253 | X18: 269081 | Y18: 302980 | Z18: 10300 | AA18: 9400 | AB18: 10300 | AC18: 11250 | AD18: 12500 | AE18: 12500 | AF18: 14500 | AG18: 16000 | AH18: 18000 | AI18: 22000 | AJ18: 27000 | AK18: 32000 | AL18: 39000 | AM18: 44000 | AN18: 60000 | AQ18: X | AV18: X | AW18: =SUM(AP18:AR18,AT18:AV18) -> 0 | AX18: 2019. | AY18: 41471 | AZ18: 2020. | BA18: 41835 | BB18: Elbląg
A19: 14 | B19: SKODA OCTAVIA II LIFTBACK AMBIENTE | C19: NO85010 | D19: osob. | E19: 2007 | F19: 16.07.2007 | G19: 03.07.2016 | H19: 1598 / 85 | I19: 5 / | J19: 1925 | K19: TMBCB61Z682019644 | L19: - | M19: 2 / 0 | N19: autoalarm immobiliser | O19: 7484 | P19: 27040 | Q19: 43000 | R19: 66300 | S19: 94469 | T19: 117600 | U19: 145000 | V19: 179056 | W19: 209180 | X19: 230594 | Y19: 259884 | Z19: 11500 | AA19: 10600 | AB19: 11500 | AC19: 12400 | AD19: 13800 | AE19: 13800 | AF19: 16800 | AG19: 18500 | AH19: 20500 | AI19: 23000 | AJ19: 28500 | AK19: 35000 | AL19: 41000 | AM19: 44600 | AN19: 60000 | AQ19: X | AW19: =SUM(AP19:AR19,AT19:AV19) -> 0 | AX19: 2019. | AY19: 41471 | AZ19: 2020. | BA19: 41835 | BB19: Elbląg | BC19: Ubezpieczony: ZDW Olsztyn
A20: 15 | B20: Renault Trafic Furgon Pack Clim 2,9t L2H1 dCi | C20: NE72390 | D20: ciężar. | E20: 2009 | F20: 23.07.2009 | G20: 21.07.2016 | H20: 1995 / 84 | I20: 6 / 1235 | J20: 2960 | K20: VF1FLBHB69V350356 | L20: - | M20: 2 / 0 | N20: autoalarm, immobiliser z transponderem | O20: - | P20: - | Q20: 4134 | R20: 25559 | S20: 47293 | T20: 70738 | U20: 88801 | V20: 109224 | W20: 131316 | X20: 151362 | Y20: 181945 | Z20: 23500 | AA20: 21400 | AB20: 23500 | AC20: 25200 | AD20: 28000 | AE20: 28000 | AF20: 29900 | AG20: 32200 | AH20: 36500 | AI20: 41000 | AJ20: 48000 | AK20: 63000 | AL20: 77000 | AM20: 100333 | AN20: - | AQ20: X | AV20: X | AW20: =SUM(AP20:AR20,AT20:AV20) -> 0 | AX20: 2019. | AY20: 41478 | AZ20: 2020. | BA20: 41842 | BB20: Elbląg
A21: 16 | B21: Wiola W3 | C21: NE76143 | D21: p-pa | E21: 2010 | F21: 23.07.2010 | G21: - | H21: - | I21: 0 / 310 | J21: 600 | K21: SUCW3F30FA2002582 | L21: - | M21: - | N21: - | O21: - | P21: - | Q21: - | R21: - | S21: - | T21: - | U21: - | W21: - | X21: - | Y21: - | Z21: - | AA21: - | AB21: - | AD21: - | AE21: - | AF21: - | AG21: - | AH21: - | AI21: - | AJ21: - | AK21: - | AL21: - | AM21: - | AN21: - | AQ21: X | AR21: X | AS21: X | AT21: X | AU21: X | AV21: X | AW21: =SUM(AP21:AR21,AT21:AV21) -> 0 | AX21: 2019. | AY21: 41478 | AZ21: 2020. | BA21: 41842 | BB21: Elbląg
A22: 17 | B22: Citroen Berlingo B9 VP XTR VTI 120 Kombi | C22: NE9439C | D22: osob. | E22: 2016 | F22: 29.07.2016 | H22: 1598 / 88 | I22: 5 / | J22: 2000 | K22: VF77J5FS6GJ760037 | M22: 2 / 0 | N22: autoalarm immobiliser | X22: 4657 | Y22: 32675 | Z22: 34500 | AA22: 31200 | AB22: 34500 | AC22: 45800 | AD22: 54100 | AE22: 54100 | AF22: 67650 | AO22: 67650 | AQ22: X | AW22: =SUM(AP22:AR22,AT22:AV22) -> 0 | AX22: 2019. | AY22: 42580 | AZ22: 2020. | BA22: 42944 | BB22: Elbląg
A23: 18 | B23: Wiola W3H Krakus Komfort Plus | C23: NO8012S | D23: przyczepa lekka | E23: 2018 | F23: 06.09.2018 | H23: - | I23: 473 | J23: 750 | K23: SUCE4ASA4J1000377 | X23: - | Y23: - | Z23: 6600 | AA23: 5460 | AB23: 6600 | AC23: 8270 | AO23: 8270 | AQ23: X | AT23: X | AU23: X | AV23: X | AW23: =SUM(AP23:AR23,AT23:AV23) -> 0 | AX23: 2019. | AY23: 43714 | AZ23: 2020. | BA23: 44079 | BB23: Elbląg | BC23: Ubezpieczony: ZDW Olsztyn
A24: 19 | B24: CASE IH FARMALL 105C z wyposażeniem dodatkowym | C24: NE4251 | D24: ciągnik rolniczy | E24: 2017 | F24: 03.10.2017 | H24: 3387 / 79 | I24: 2 / | J24: 6200 | K24: HLRFC105JHLF03530 | M24: 2 / 0 | N24: immobiliser | Y24: 212 | Z24: 197600 | AA24: 177400 | AB24: 197600 | AC24: 223300 | AD24: 261498 | AE24: 261498 | AO24: =199260 + 45264 +16974 -> 261498 | AQ24: X | AU24: X | AV24: X | AW24: =SUM(AP24:AR24,AT24:AV24) -> 0 | AX24: 2019. | AY24: 43011 | AZ24: 2020. | BA24: 43010 | BB24: Elbląg | BC24: Wyposażenie dodatkowe: wysięgnik tylny KWT550 o nr fabrycznym: 0030867 oraz myjką do znaków drogowych SAMASZ ROLLER 1000 o nr fabrycznym 0031240, rok prod. 2017.
A25: 20 | B25: DAEWOO LANOS SX | C25: NE82663 | D25: osob. | E25: 2000 | F25: 11.10.2000 | G25: 05.03.2016 | H25: 1598 / 77 | I25: 5 / | J25: 1595 | K25: SUPTF696DYW123713 | L25: A16DMS010374R | M25: 2 / 0 | N25: autoalarm immobiliser | O25: 148034 | P25: 175026 | Q25: 201644 | R25: 226920 | S25: 253705 | T25: 267162 | U25: 277256 | V25: 292213 | W25: 309024 | X25: 314949 | Y25: - | Z25: - | AA25: - | AB25: - | AC25: - | AD25: - | AE25: - | AF25: 2200 | AG25: 2500 | AH25: 3000 | AI25: 3400 | AJ25: 3800 | AK25: 5400 | AL25: 6300 | AM25: 7500 | AN25: 9500 | AQ25: X | AR25: X | AS25: X | AT25: X | AU25: X | AV25: X | AW25: =SUM(AP25:AR25,AT25:AV25) -> 0 | AX25: 2019. | AY25: 41558 | AZ25: 2020. | BA25: 41922 | BB25: Elbląg
A26: 21 | B26: NIEWIADÓW B 7520H | C26: NE04993 | D26: p-pa | E26: 2000 | F26: 20.11.2000 | G26: bezterminowo | H26: - | I26: 0 / 545 | J26: 750 | K26: SWNB75000Y0006862 | L26: - | M26: - | N26: - | O26: - | P26: - | Q26: - | R26: - | S26: - | T26: - | U26: - | W26: - | X26: - | Y26: - | Z26: - | AA26: - | AB26: - | AC26: - | AD26: - | AE26: - | AF26: - | AG26: - | AH26: - | AI26: - | AJ26: - | AK26: - | AL26: - | AM26: - | AN26: - | AQ26: X | AR26: X | AS26: X | AT26: X | AU26: X | AV26: X | AW26: =SUM(AP26:AR26,AT26:AV26) -> 0 | AX26: 2019. | AY26: 41609 | AZ26: 2020. | BA26: 41973 | BB26: Elbląg
A27: 22 | B27: Citroen Berlingo B9 VP XTR VTI 120 Kombi | C27: NE2219E | D27: osob. | E27: 2016 | F27: 09.12.2016 | H27: 1598 / 88 | I27: 5 / | J27: 2000 | M27: 2 / 0 | N27: autoalarm immobiliser | X27: - | Y27: 26245 | Z27: 34000 | AA27: 30800 | AB27: 34000 | AC27: 45800 | AD27: 54100 | AE27: 54100 | AF27: 67650 | AO27: 67650 | AQ27: X | AW27: =SUM(AP27:AR27,AT27:AV27) -> 0 | AX27: 2019. | AY27: 43078 | AZ27: 2020. | BA27: 43442 | BB27: Elbląg
A28: 23 | B28: WIOLA W-600H | C28: NE2088C | D28: p-pa lekka | E28: 2015 | F28: 11.12.2015 | H28: - | I28: 0 / 284 | J28: 500 | K28: SUCE3ASA3F1000542 | M28: - | N28: - | W28: - | X28: - | Y28: - | Z28: 8470 | AA28: 7590 | AB28: 8470 | AC28: 9880 | AD28: 11700 | AE28: 11700 | AF28: =4500 + 9700 -> 14200 | AG28: 17650.5 | AO28: =5596.5 + 12054 -> 17650.5 | AQ28: X | AT28: X | AU28: X | AV28: X | AW28: =SUM(AP28:AR28,AT28:AV28) -> 0 | AX28: 2019. | AY28: 41619 | AZ28: 2020. | BA28: 41983 | BB28: Elbląg | BC28: przyczepa z dostosowaniem do przewozu tablicy ostrzegawczej typu U26C o wartości 5780 zł
A29: 24 | B29: Wiola W-600H Krakus Komfort | C29: NE0612A | D29: p-pa lekka | E29: 2014 | F29: 16.12.2014 | G29: beztermino-wo | H29: - | I29: 0 / 550 | J29: 750 | M29: - | N29: - | W29: - | X29: - | Y29: - | Z29: 6450 | AA29: 5850 | AB29: 6450 | AC29: 7200 | AD29: 8500 | AE29: 8500 | AF29: =3000+8500 -> 11500 | AG29: =3542+8458 -> 12000 | AH29: =4428+10572 -> 15000 | AI29: =4428+10572 -> 15000 | AJ29: =4428+10572 -> 15000 | AK29: =4428+10572 -> 15000 | AL29: =4428+10572 -> 15000 | AM29: =4428+10572 -> 15000 | AN29: =4428+10572 -> 15000 | AO29: =4428+10572 -> 15000 | AQ29: X | AT29: X | AU29: X | AV29: X | AW29: =SUM(AP29:AR29,AT29:AV29) -> 0 | AX29: 2019. | AY29: 41624 | AZ29: 2020. | BA29: 41988 | BB29: Elbląg | BC29: przyczepa z dostosowaniem do przewozu tablicy ostrzegawczej typu U26C o wartości 4550 zł
A30: 25 | B30: Wiola W-600H Krakus Komfort | C30: NE0613A | D30: p-pa lekka | E30: 2014 | F30: 16.12.2014 | G30: beztermino-wo | H30: - | I30: 0 / 550 | J30: 750 | M30: - | N30: - | W30: - | X30: - | Y30: - | Z30: 6450 | AA30: 5850 | AB30: 6450 | AC30: 7200 | AD30: 8500 | AE30: 8500 | AF30: =3000+8500 -> 11500 | AG30: =3542+8458 -> 12000 | AO30: =4428+10572 -> 15000 | AQ30: X | AT30: X | AU30: X | AV30: X | AW30: =SUM(AP30:AR30,AT30:AV30) -> 0 | AX30: 2019. | AY30: 41624 | AZ30: 2020. | BA30: 41988 | BB30: Elbląg | BC30: przyczepa z dostosowaniem do przewozu tablicy ostrzegawczej typu U26C o wartości 4550 zł
AP31: =SUM(AP6:AP30) -> 0 | AQ31: X | AR31: =SUM(AR6:AR30) -> 0 | AS31: X | AT31: =SUM(AT6:AT30) -> 0 | AU31: =SUM(AU6:AU30) -> 0 | AV31: =SUM(AV6:AV30) -> 0 | AW31: =SUM(AW6:AW30) -> 0 | AX31: Razem 2019 rok
A32: * | B32: w przypadku bezskładkowego objęcia ochroną danego zakresu ubezpieczenia proszę wpisać 0 zł | AP32: =SUM(AP31:AV31) -> 0 | AX32: Ogółem 2019 rok
A33: 26 | B33: Kosiarka samojezdna Husqvarna TS342 | C33: b/n | D33: kosiarka | E33: 2014 | F33: - | H33: - | K33: 111014A001223 | X33: - | Y33: - | Z33: - | AA33: - | AB33: - | AO33: 29192 | AQ33: X | AR33: X | AS33: X | AU33: X | AV33: X | AW33: =SUM(AP33:AR33,AT33:AV33) -> 0 | AX33: 2020. | AY33: 42736 | AZ33: 2020. | BA33: 43100 | BB33: Elbląg
A34: 27 | B34: PRONAR T 653 | C34: NE2010E | D34: przyczepa ciężarowa rolnicza | E34: 2016 | F34: 13.01.2017 | H34: - | I34: 0 / 4000 | J34: 5950 | K34: SZB6530XXH1X08961 | M34: - | X34: - | Y34: - | Z34: 15200 | AA34: 15200 | AB34: 18000 | AC34: 22000 | AD34: 27060 | AE34: 27060 | AO34: 27060 | AQ34: X | AT34: X | AU34: X | AV34: X | AW34: =SUM(AP34:AR34,AT34:AV34) -> 0 | AX34: 2020. | AY34: 42748 | AZ34: 2021. | BA34: 43112 | BB34: Elbląg
A35: 28 | B35: URSUS C-360 | C35: NE0065 | D35: ciągnik roln. | E35: 1986 | F35: 30.04.1986 | G35: 28.09.2017 | H35: 3120 / | I35: 1 / | J35: - | K35: 544723 | L35: 239/83 | M35: 0 / 1 | N35: - | O35: 2150 mtg | P35: 2403+76 | Q35: 479 | R35: 759 mtg | S35: - | T35: - | U35: 1354 mtg | V35: 1556 mtg | W35: - | X35: - | Y35: - | Z35: - | AA35: - | AB35: - | AC35: - | AD35: - | AE35: - | AF35: - | AG35: - | AH35: - | AI35: - | AJ35: - | AK35: - | AL35: - | AM35: - | AN35: - | AQ35: X | AR35: X | AS35: X | AU35: X | AV35: X | AW35: =SUM(AP35:AR35,AT35:AV35) -> 0 | AX35: 2020. | AY35: 41314 | AZ35: 2021. | BA35: 41678 | BB35: Elbląg
A36: 29 | B36: AUTOSAN SANOK D-35M | C36: NE04757 | D36: p-pa | E36: 1972 | F36: 16.03.1972 | G36: 26.10.2016 | H36: - | I36: 0 / 3500 | J36: 4600 | K36: 82160 | L36: - | M36: 0 | N36: - | O36: - | P36: - | Q36: - | R36: - | S36: - | T36: - | U36: - | W36: - | X36: - | Y36: - | Z36: - | AA36: - | AB36: - | AC36: - | AD36: - | AE36: - | AF36: - | AG36: - | AH36: - | AI36: - | AJ36: - | AK36: - | AL36: - | AM36: - | AN36: - | AQ36: X | AR36: X | AS36: X | AT36: X | AU36: X | AV36: X | AW36: =SUM(AP36:AR36,AT36:AV36) -> 0 | AX36: 2020. | AY36: 41314 | AZ36: 2021. | BA36: 41678 | BB36: Elbląg
A37: 30 | B37: Renault Kangoo Oasis 1,5 d | C37: NE90347 | D37: osob. | E37: 2012 | F37: 19.04.2012 | G37: 08.05.2017 | H37: 1461 / 66 | I37: 5 / 531 | J37: 1954 | K37: VF1KW25B547034819 | M37: 2 / 0 | N37: immobiliser autoalarm | O37: - | T37: 14460 | U37: 37700 | V37: 65231 | W37: 101120 | X37: 131219 | Y37: 181827 | Z37: 17400 | AA37: 17400 | AB37: 19300 | AC37: 21100 | AD37: 23400 | AE37: 23400 | AF37: 26100 | AG37: 32100 | AH37: 37000 | AI37: 44000 | AJ37: 59955 | AQ37: X | AV37: X | AW37: =SUM(AP37:AR37,AT37:AV37) -> 0 | AX37: 2020. | AY37: 41383 | AZ37: 2021. | BA37: 41747 | BB37: Elbląg
A38: 31 | B38: Wiola W3 | C38: NE53711 | D38: p-pa | E38: 2009 | F38: 06.05.2009 | G38: - | H38: - | I38: 0 / 310 | J38: 600 | K38: SUCW3F30F92001936 | L38: - | M38: - | N38: - | O38: - | P38: - | Q38: - | R38: - | S38: - | T38: - | U38: - | W38: - | X38: - | Y38: - | Z38: - | AA38: - | AB38: - | AC38: - | AD38: - | AE38: - | AF38: - | AG38: - | AH38: - | AI38: - | AJ38: - | AK38: - | AL38: - | AM38: - | AN38: - | AQ38: X | AR38: X | AS38: X | AT38: X | AU38: X | AV38: X | AW38: =SUM(AP38:AR38,AT38:AV38) -> 0 | AX38: 2020. | AY38: 41400 | AZ38: 2021. | BA38: 41764 | BB38: Elbląg
A39: 32 | B39: Renault Trafic Pack Clim | C39: NE84968 | D39: ciężarowy | E39: 2011 | F39: 16.05.2011 | G39: 12.06.2016 | H39: 1995 / 84 | I39: 6 / 1035 | J39: 2960 | K39: VF1FLBHB6BY379567 | L39: - | M39: 2 / 0 | N39: autoalarm immobiliser z transponderem | O39: - | P39: - | Q39: - | R39: - | S39: 9134 | T39: 33534 | U39: 51460 | V39: 71264 | W39: 91400 | X39: 110580 | Y39: 150127 | Z39: 26200 | AA39: 26200 | AB39: 28800 | AC39: 33300 | AD39: 37000 | AE39: 37000 | AF39: 40000 | AG39: 43500 | AH39: 49500 | AI39: 60000 | AJ39: 75000 | AK39: 113869.71 | AL39: - | AM39: - | AN39: - | AQ39: X | AV39: X | AW39: =SUM(AP39:AR39,AT39:AV39) -> 0 | AX39: 2020. | AY39: 41410 | AZ39: 2021. | BA39: 41774 | BB39: Elbląg
A40: 33 | B40: Renault Kangoo Oasis 1,5 d | C40: NE84969 | D40: osobowy | E40: 2011 | F40: 16.05.2011 | G40: 16.05.2016 | H40: 1461 / 66 | I40: 5 / 528 | J40: 1954 | K40: VF1KW25B545045810 | L40: - | M40: 2 / 0 | N40: autoalarm immobiliser | O40: - | P40: - | Q40: - | R40: - | S40: 11279 | T40: 38685 | U40: 60319 | V40: 89204 | W40: 120175 | X40: 147506 | Y40: 202046 | Z40: 15500 | AA40: 15500 | AB40: 16700 | AC40: 19300 | AD40: 21400 | AE40: 21400 | AF40: 24000 | AG40: 27600 | AH40: 32000 | AI40: 37000 | AJ40: 45000 | AK40: 54899.98 | AL40: - | AM40: - | AN40: - | AQ40: X | AV40: X | AW40: =SUM(AP40:AR40,AT40:AV40) -> 0 | AX40: 2020. | AY40: 41410 | AZ40: 2021. | BA40: 41774 | BB40: Elbląg
A41: 34 | B41: Renault Kangoo Oasis 1,5 d | C41: NE84970 | D41: osobowy | E41: 2011 | F41: 16.05.2011 | G41: 16.05.2016 | H41: 1461 / 66 | I41: 5 / 528 | J41: 1954 | K41: VF1KW25B545144512 | L41: - | M41: 2 / 0 | N41: autoalarm immobiliser | O41: - | P41: - | Q41: - | R41: - | S41: 11917 | T41: 39872 | U41: 59986 | V41: 87692 | W41: 118430 | X41: 142959 | Y41: 187848 | Z41: 16100 | AA41: 16100 | AB41: 17200 | AC41: 19300 | AD41: 21400 | AE41: 21400 | AF41: 24000 | AG41: 27600 | AH41: 32000 | AI41: 37000 | AJ41: 45000 | AK41: 54899.98 | AL41: - | AM41: - | AN41: - | AQ41: X | AV41: X | AW41: =SUM(AP41:AR41,AT41:AV41) -> 0 | AX41: 2020. | AY41: 41410 | AZ41: 2021. | BA41: 41774 | BB41: Elbląg
A42: 35 | B42: Renault Trafic Furgon Pack Clim 2,9t L2H1 dCi | C42: NE76879 | D42: ciężar. | E42: 2010 | F42: 11.06.2010 | G42: 11.06.2016 | H42: 1995 / 84 | I42: 6 / 860 | J42: 2960 | K42: VF1FLBHB6AV383811 | L42: - | M42: 2 / 0 | N42: autoalarm, immobiliser z transponderem | O42: - | P42: - | Q42: 1968 | R42: 5474 | S42: 26921 | T42: 48636 | U42: 66767 | V42: 90905 | W42: 116506 | X42: 130034 | Y42: 184835 | Z42: 24000 | AA42: 24000 | AB42: 26100 | AC42: 29700 | AD42: 33000 | AE42: 33000 | AF42: 35000 | AG42: 37300 | AH42: 42500 | AI42: 49500 | AJ42: 63000 | AK42: 80000 | AL42: 105950 | AM42: - | AN42: - | AQ42: X | AV42: X | AW42: =SUM(AP42:AR42,AT42:AV42) -> 0 | AX42: 2020. | AY42: 41436 | AZ42: 2021. | BA42: 41800 | BB42: Elbląg
A43: 36 | B43: NIEWIADÓW B 750 | C43: NE53099 | D43: p-pa | E43: 2007 | F43: 15.06.2007 | G43: bezterminowo | H43: - | I43: 0 / 365 | J43: 600 | K43: SWNB7500070031496 | L43: - | M43: - | N43: - | P43: - | Q43: - | R43: - | S43: - | T43: - | U43: - | W43: - | X43: - | Y43: - | Z43: - | AA43: - | AB43: - | AC43: - | AD43: - | AE43: - | AF43: - | AG43: - | AH43: - | AI43: - | AJ43: - | AK43: - | AL43: - | AM43: - | AN43: - | AQ43: X | AR43: X | AS43: X | AT43: X | AU43: X | AV43: X | AW43: =SUM(AP43:AR43,AT43:AV43) -> 0 | AX43: 2020. | AY43: 41440 | AZ43: 2021. | BA43: 41804 | BB43: Elbląg
A44: 37 | B44: NIEWIADÓW B 750 | C44: NE53100 | D44: p-pa | E44: 2007 | F44: 15.06.2007 | G44: bezterminowo | H44: - | I44: 0 / 365 | J44: 600 | K44: SWNB7500070031490 | L44: - | M44: - | N44: - | O44: - | P44: - | Q44: - | R44: - | S44: - | T44: - | U44: - | W44: - | X44: - | Y44: - | Z44: - | AA44: - | AB44: - | AC44: - | AD44: - | AE44: - | AF44: - | AG44: - | AH44: - | AI44: - | AJ44: - | AK44: - | AL44: - | AM44: - | AN44: - | AQ44: X | AR44: X | AS44: X | AT44: X | AU44: X | AV44: X | AW44: =SUM(AP44:AR44,AT44:AV44) -> 0 | AX44: 2020. | AY44: 41440 | AZ44: 2021. | BA44: 41804 | BB44: Elbląg
A45: 38 | B45: SKODA OCTAVIA II LIFTBACK AMBIENTE | C45: NE92152 | D45: osob. | E45: 2007 | F45: 16.07.2007 | G45: 11.09.2016 | H45: 1598 / 85 | I45: 5 / | J45: 1925 | K45: TMBCB61Z882021282 | L45: BLF350526 | M45: 2 / 0 | N45: autoalarm immobiliser z transponderem | O45: 13183 | P45: 39880 | Q45: 68375 | R45: 97226 | S45: 127785 | T45: 155916 | U45: 181880 | V45: 212932 | W45: 246253 | X45: 269081 | Y45: 302980 | Z45: 9400 | AA45: 9400 | AB45: 10300 | AC45: 11250 | AD45: 12500 | AE45: 12500 | AF45: 14500 | AG45: 16000 | AH45: 18000 | AI45: 22000 | AJ45: 27000 | AK45: 32000 | AL45: 39000 | AM45: 44000 | AN45: 60000 | AQ45: X | AV45: X | AW45: =SUM(AP45:AR45,AT45:AV45) -> 0 | AX45: 2020. | AY45: 41471 | AZ45: 2021. | BA45: 41835 | BB45: Elbląg
A46: 39 | B46: SKODA OCTAVIA II LIFTBACK AMBIENTE | C46: NO85010 | D46: osob. | E46: 2007 | F46: 16.07.2007 | G46: 03.07.2016 | H46: 1598 / 85 | I46: 5 / | J46: 1925 | K46: TMBCB61Z682019644 | L46: - | M46: 2 / 0 | N46: autoalarm immobiliser | O46: 7484 | P46: 27040 | Q46: 43000 | R46: 66300 | S46: 94469 | T46: 117600 | U46: 145000 | V46: 179056 | W46: 209180 | X46: 230594 | Y46: 259884 | Z46: 10600 | AA46: 10600 | AB46: 11500 | AC46: 12400 | AD46: 13800 | AE46: 13800 | AF46: 16800 | AG46: 18500 | AH46: 20500 | AI46: 23000 | AJ46: 28500 | AK46: 35000 | AL46: 41000 | AM46: 44600 | AN46: 60000 | AQ46: X | AW46: =SUM(AP46:AR46,AT46:AV46) -> 0 | AX46: 2020. | AY46: 41471 | AZ46: 2021. | BA46: 41835 | BB46: Elbląg | BC46: Ubezpieczony: ZDW Olsztyn
A47: 40 | B47: Renault Trafic Furgon Pack Clim 2,9t L2H1 dCi | C47: NE72390 | D47: ciężar. | E47: 2009 | F47: 23.07.2009 | G47: 21.07.2016 | H47: 1995 / 84 | I47: 6 / 1235 | J47: 2960 | K47: VF1FLBHB69V350356 | L47: - | M47: 2 / 0 | N47: autoalarm, immobiliser z transponderem | O47: - | P47: - | Q47: 4134 | R47: 25559 | S47: 47293 | T47: 70738 | U47: 88801 | V47: 109224 | W47: 131316 | X47: 151362 | Y47: 181945 | Z47: 21400 | AA47: 21400 | AB47: 23500 | AC47: 25200 | AD47: 28000 | AE47: 28000 | AF47: 29900 | AG47: 32200 | AH47: 36500 | AI47: 41000 | AJ47: 48000 | AK47: 63000 | AL47: 77000 | AM47: 100333 | AN47: - | AQ47: X | AV47: X | AW47: =SUM(AP47:AR47,AT47:AV47) -> 0 | AX47: 2020. | AY47: 41478 | AZ47: 2021. | BA47: 41842 | BB47: Elbląg
A48: 41 | B48: Wiola W3 | C48: NE76143 | D48: p-pa | E48: 2010 | F48: 23.07.2010 | G48: - | H48: - | I48: 0 / 310 | J48: 600 | K48: SUCW3F30FA2002582 | L48: - | M48: - | N48: - | O48: - | P48: - | Q48: - | R48: - | S48: - | T48: - | U48: - | W48: - | X48: - | Y48: - | Z48: - | AA48: - | AB48: - | AD48: - | AE48: - | AF48: - | AG48: - | AH48: - | AI48: - | AJ48: - | AK48: - | AL48: - | AM48: - | AN48: - | AQ48: X | AR48: X | AS48: X | AT48: X | AU48: X | AV48: X | AW48: =SUM(AP48:AR48,AT48:AV48) -> 0 | AX48: 2020. | AY48: 41478 | AZ48: 2021. | BA48: 41842 | BB48: Elbląg
A49: 42 | B49: Citroen Berlingo B9 VP XTR VTI 120 Kombi | C49: NE9439C | D49: osob. | E49: 2016 | F49: 29.07.2016 | H49: 1598 / 88 | I49: 5 / | J49: 2000 | K49: VF77J5FS6GJ760037 | M49: 2 / 0 | N49: autoalarm immobiliser | X49: 4657 | Y49: 32675 | Z49: 31200 | AA49: 31200 | AB49: 34500 | AC49: 45800 | AD49: 54100 | AE49: 54100 | AF49: 67650 | AO49: 67650 | AQ49: X | AW49: =SUM(AP49:AR49,AT49:AV49) -> 0 | AX49: 2020. | AY49: 42580 | AZ49: 2021. | BA49: 42944 | BB49: Elbląg
A50: 43 | B50: Wiola W3H Krakus Komfort Plus | C50: NO8012S | D50: przyczepa lekka | E50: 2018 | F50: 06.09.2018 | H50: - | I50: 473 | J50: 750 | K50: SUCE4ASA4J1000377 | X50: - | Y50: - | Z50: 5460 | AA50: 5460 | AB50: 6600 | AC50: 8270 | AO50: 8270 | AQ50: X | AT50: X | AU50: X | AV50: X | AW50: =SUM(AP50:AR50,AT50:AV50) -> 0 | AX50: 2020. | AY50: 43714 | AZ50: 2021. | BA50: 44079 | BB50: Elbląg | BC50: Ubezpieczony: ZDW Olsztyn
A51: 44 | B51: CASE IH FARMALL 105C z wyposażeniem dodatkowym | C51: NE4251 | D51: ciągnik rolniczy | E51: 2017 | F51: 03.10.2017 | H51: 3387 / 79 | I51: 2 / | J51: 6200 | K51: HLRFC105JHLF03530 | M51: 2 / 0 | N51: immobiliser | Y51: 212 | Z51: 177400 | AA51: 177400 | AB51: 197600 | AC51: 223300 | AD51: 261498 | AE51: 261498 | AO51: =199260 + 45264 +16974 -> 261498 | AQ51: X | AU51: X | AV51: X | AW51: =SUM(AP51:AR51,AT51:AV51) -> 0 | AX51: 2020. | AY51: 43011 | AZ51: 2021. | BA51: 43010 | BB51: Elbląg | BC51: Wyposażenie dodatkowe: wysięgnik tylny KWT550 o nr fabrycznym: 0030867 oraz myjką do znaków drogowych SAMASZ ROLLER 1000 o nr fabrycznym 0031240, rok prod. 2017.
A52: 45 | B52: DAEWOO LANOS SX | C52: NE82663 | D52: osob. | E52: 2000 | F52: 11.10.2000 | G52: 05.03.2016 | H52: 1598 / 77 | I52: 5 / | J52: 1595 | K52: SUPTF696DYW123713 | L52: A16DMS010374R | M52: 2 / 0 | N52: autoalarm immobiliser | O52: 148034 | P52: 175026 | Q52: 201644 | R52: 226920 | S52: 253705 | T52: 267162 | U52: 277256 | V52: 292213 | W52: 309024 | X52: 314949 | Y52: - | Z52: - | AA52: - | AB52: - | AC52: - | AD52: - | AE52: - | AF52: 2200 | AG52: 2500 | AH52: 3000 | AI52: 3400 | AJ52: 3800 | AK52: 5400 | AL52: 6300 | AM52: 7500 | AN52: 9500 | AQ52: X | AR52: X | AS52: X | AT52: X | AU52: X | AV52: X | AW52: =SUM(AP52:AR52,AT52:AV52) -> 0 | AX52: 2020. | AY52: 41558 | AZ52: 2021. | BA52: 41922 | BB52: Elbląg
A53: 46 | B53: NIEWIADÓW B 7520H | C53: NE04993 | D53: p-pa | E53: 2000 | F53: 20.11.2000 | G53: bezterminowo | H53: - | I53: 0 / 545 | J53: 750 | K53: SWNB75000Y0006862 | L53: - | M53: - | N53: - | O53: - | P53: - | Q53: - | R53: - | S53: - | T53: - | U53: - | W53: - | X53: - | Y53: - | Z53: - | AA53: - | AB53: - | AC53: - | AD53: - | AE53: - | AF53: - | AG53: - | AH53: - | AI53: - | AJ53: - | AK53: - | AL53: - | AM53: - | AN53: - | AQ53: X | AR53: X | AS53: X | AT53: X | AU53: X | AV53: X | AW53: =SUM(AP53:AR53,AT53:AV53) -> 0 | AX53: 2020. | AY53: 41609 | AZ53: 2021. | BA53: 41973 | BB53: Elbląg
A54: 47 | B54: Citroen Berlingo B9 VP XTR VTI 120 Kombi | C54: NE2219E | D54: osob. | E54: 2016 | F54: 09.12.2016 | H54: 1598 / 88 | I54: 5 / | J54: 2000 | M54: 2 / 0 | N54: autoalarm immobiliser | X54: - | Y54: 26245 | Z54: 30800 | AA54: 30800 | AB54: 34000 | AC54: 45800 | AD54: 54100 | AE54: 54100 | AF54: 67650 | AO54: 67650 | AQ54: X | AW54: =SUM(AP54:AR54,AT54:AV54) -> 0 | AX54: 2020. | AY54: 43078 | AZ54: 2021. | BA54: 43442 | BB54: Elbląg
A55: 48 | B55: WIOLA W-600H | C55: NE2088C | D55: p-pa lekka | E55: 2015 | F55: 11.12.2015 | H55: - | I55: 0 / 284 | J55: 500 | K55: SUCE3ASA3F1000542 | M55: - | N55: - | W55: - | X55: - | Y55: - | Z55: 7590 | AA55: 7590 | AB55: 8470 | AC55: 9880 | AD55: 11700 | AE55: 11700 | AF55: =4500 + 9700 -> 14200 | AG55: 17650.5 | AO55: =5596.5 + 12054 -> 17650.5 | AQ55: X | AT55: X | AU55: X | AV55: X | AW55: =SUM(AP55:AR55,AT55:AV55) -> 0 | AX55: 2020. | AY55: 41619 | AZ55: 2021. | BA55: 41983 | BB55: Elbląg | BC55: przyczepa z dostosowaniem do przewozu tablicy ostrzegawczej typu U26C o wartości 5180 zł
A56: 49 | B56: Wiola W-600H Krakus Komfort | C56: NE0612A | D56: p-pa lekka | E56: 2014 | F56: 16.12.2014 | G56: beztermino-wo | H56: - | I56: 0 / 550 | J56: 750 | M56: - | N56: - | W56: - | X56: - | Y56: - | Z56: 5850 | AA56: 5850 | AB56: 6450 | AC56: 7200 | AD56: 8500 | AE56: 8500 | AF56: =3000+8500 -> 11500 | AG56: =3542+8458 -> 12000 | AH56: =4428+10572 -> 15000 | AI56: =4428+10572 -> 15000 | AJ56: =4428+10572 -> 15000 | AK56: =4428+10572 -> 15000 | AL56: =4428+10572 -> 15000 | AM56: =4428+10572 -> 15000 | AN56: =4428+10572 -> 15000 | AO56: =4428+10572 -> 15000 | AQ56: X | AT56: X | AU56: X | AV56: X | AW56: =SUM(AP56:AR56,AT56:AV56) -> 0 | AX56: 2020. | AY56: 41624 | AZ56: 2021. | BA56: 41988 | BB56: Elbląg | BC56: przyczepa z dostosowaniem do przewozu tablicy ostrzegawczej typu U26C o wartości 4120 zł
A57: 50 | B57: Wiola W-600H Krakus Komfort | C57: NE0613A | D57: p-pa lekka | E57: 2014 | F57: 16.12.2014 | G57: beztermino-wo | H57: - | I57: 0 / 550 | J57: 750 | M57: - | N57: - | W57: - | X57: - | Y57: - | Z57: 5850 | AA57: 5850 | AB57: 6450 | AC57: 7200 | AD57: 8500 | AE57: 8500 | AF57: =3000+8500 -> 11500 | AG57: =3542+8458 -> 12000 | AO57: =4428+10572 -> 15000 | AQ57: X | AT57: X | AU57: X | AV57: X | AW57: =SUM(AP57:AR57,AT57:AV57) -> 0 | AX57: 2020. | AY57: 41624 | AZ57: 2021. | BA57: 41988 | BB57: Elbląg | BC57: przyczepa z dostosowaniem do przewozu tablicy ostrzegawczej typu U26C o wartości 4120 zł
AP58: =SUM(AP33:AP57) -> 0 | AQ58: X | AR58: =SUM(AR33:AR57) -> 0 | AS58: X | AT58: =SUM(AT33:AT57) -> 0 | AU58: =SUM(AU33:AU57) -> 0 | AV58: =SUM(AV33:AV57) -> 0 | AW58: =SUM(AW33:AW57) -> 0 | AX58: Razem 2020 rok
A59: * | B59: w przypadku bezskładkowego objęcia ochroną danego zakresu ubezpieczenia proszę wpisać 0 zł | AP59: =SUM(AP58:AV58) -> 0 | AX59: Ogółem 2020 rok
AP60: =SUM(AP31,AP58) -> 0 | AQ60: X | AR60: =SUM(AR31,AR58) -> 0 | AS60: X | AT60: =SUM(AT31,AT58) -> 0 | AU60: =SUM(AU31,AU58) -> 0 | AV60: =SUM(AV31,AV58) -> 0 | AX60: Łącznie za 2 lata
AP61: =SUM(AP60:AV60) -> 0
Z63: =SUM(Z6:Z30) -> 465470
Z64: =SUM(Z33:Z57) -> 419950
Z65: =SUM(Z63:Z64) -> 885420
AP97: =SUM(AP6:AP30) -> 0 | AQ97: =SUM(AQ6:AQ30) -> 0 | AR97: =SUM(AR6:AR30) -> 0 | AT97: =SUM(AT6:AT30) -> 0 | AU97: =SUM(AU6:AU30) -> 0 | AV97: =SUM(AV6:AV30) -> 0
AP98: =SUM(AP97:AW97) -> 0

Sheet KĘTRZYN
A1: Załącznik nr 2c do OPZ Załącznik nr 2c do Umowy
A2: WYKAZ POJAZDÓW ZARZĄDU DRÓG WOJEWÓDZKICH W OLSZTYNIE REJON DRÓG W KĘTRZYNIE DO UBEZPIECZENIA NA LATA 2019-2020
A3: 4 | B3: 20 | C3: 8 | D3: 8 | E3: 5 | F3: 8 | G3: 8 | H3: 8 | I3: 9 | J3: 9 | K3: 9 | L3: 9 | M3: 8 | N3: 11 | O3: 7 | P3: 7 | Q3: 7 | R3: 7 | S3: 7 | T3: 7 | U3: 7 | V3: 7 | W3: 7 | X3: 7 | Y3: 7 | Z3: 9 | AA3: 7 | AB3: 7 | AC3: 7 | AD3: 9 | AE3: 7 | AF3: 7 | AG3: 7 | AH3: 7 | AI3: 7 | AJ3: 7 | AK3: 7 | AL3: 7 | AM3: 7 | AN3: 7 | AO3: 7 | AP3: 8 | AQ3: 8 | AR3: 8 | AS3: 8 | AT3: 8 | AU3: 8 | AV3: 8 | AW3: 9 | AX3: 4 | AY3: 4 | AZ3: 4 | BA3: 4 | BB3: 7 | BC3: 31
A4: lp | B4: Marka, model, typ pojazdu | C4: Nr rejestr. | D4: Rodzaj | E4: Rok prod. | F4: Data I rejestr. | G4: Data bad. techn. | H4: Poj. silnika / moc [kW] | I4: Liczba miejsc / ładowność w kg | J4: DMC [kg] | K4: Nr nadwozia | L4: Nr silnika | M4: Liczba kluczyków | N4: Zabezpiecz. | O4: Przebieg w km | P4: Przebieg w km 11.2008 | Q4: Przebieg w km 11.2009 | R4: Przebieg w km 11.2010 | S4: Przebieg 10.2011 [km] | T4: Przebieg 10.2012 [km] | U4: Przebieg 09.2013 [km] | V4: Przebieg 09.2014 [km] | W4: Przebieg 10.2015 [km] | X4: Przebieg 10.2016 [km] | Y4: Przebieg 06.2018 [km] | Z4: Wartość z VAT [zł] | AA4: Wartość 2020 | AB4: Wartość 2019 | AC4: Wartość 2018 | AD4: Wartość z VAT - 2 lata - 2017 i 2018 [zł] | AE4: Wartość 2017 | AF4: Wartość 2016 | AG4: Wartość 2015 | AH4: Wartość 2014 | AI4: Wartość 2013 | AJ4: Wartość 2012 | AK4: Wartość 2011 | AL4: Wartość 2010 | AM4: Wartość 2008/2009 | AN4: Wartość 2007/2008 | AO4: Wartość nowa | AP4: Składka [zł] * | AX4: Okres ubezpieczenia | BB4: Rejon | BC4: Uwagi
J5: dopuszczalna masa całkowita | M5: oryg./ nieoryg. | AP5: OC | AQ5: ZK zielona karta | AR5: AC | AS5: AC - % SU | AT5: NNW | AU5: Assistance podstawowy | AV5: Assistance rozszerzony | AW5: Łącznie za pojazd | AX5: od | AZ5: do
A6: 1 | B6: Kosiarka samobieżna HUSQVARNA TS 342 | C6: b/n | D6: kosiarka | E6: 2015 | F6: - | G6: - | H6: - | I6: - | J6: - | K6: - | L6: - | M6: - | N6: - | O6: - | P6: - | Q6: - | R6: - | S6: - | T6: - | U6: - | V6: - | W6: - | X6: - | Y6: - | Z6: - | AA6: - | AB6: - | AC6: - | AD6: - | AE6: - | AO6: 29191.89 | AQ6: X | AR6: X | AS6: X | AU6: X | AV6: X | AW6: =SUM(AP6:AR6,AT6:AV6) -> 0 | AX6: 2019. | AY6: 41640 | AZ6: 2019. | BA6: 42004 | BB6: Kętrzyn
A7: 2 | B7: URSUS C-385 | C7: NKEY375 | D7: ciągnik rolniczy | E7: 1971 | F7: 15.05.1973 | G7: 31.01.2016 | H7: 4562 | I7: 2 / | J7: 5010 | K7: 15754 | L7: 54809 | M7: 1/0 | N7: - | X7: - | Y7: 2508 | Z7: - | AA7: - | AB7: - | AC7: - | AD7: - | AE7: - | AQ7: X | AR7: X | AS7: X | AU7: X | AV7: X | AW7: =SUM(AP7:AR7,AT7:AV7) -> 0 | AX7: 2019. | AY7: 41640 | AZ7: 2019. | BA7: 42004 | BB7: Kętrzyn
A8: 3 | B8: URSUS C-360 | C8: NKEY153 | D8: ciągnik rolniczy | E8: 1985 | F8: 15.03.1985 | G8: 23.08.2015 | H8: 3120 | I8: 1 / | J8: - | K8: 531065 | L8: 28123 | M8: 1/0 | N8: - | X8: - | Y8: 5067 | Z8: - | AA8: - | AB8: - | AC8: - | AD8: - | AE8: - | AQ8: X | AR8: X | AS8: X | AU8: X | AV8: X | AW8: =SUM(AP8:AR8,AT8:AV8) -> 0 | AX8: 2019. | AY8: 41640 | AZ8: 2019. | BA8: 42004 | BB8: Kętrzyn
A9: 4 | B9: ZIŁ D-470 | C9: OLP1123 | D9: specjal. | E9: 1985 | F9: 29.10.1985 | G9: 14.10.2015 | H9: 19100 | I9: 3 / | J9: 9000 | K9: 66335 | L9: 8411I514 | M9: 1/0 | N9: - | X9: - | Y9: 10330 | Z9: - | AA9: - | AB9: - | AC9: - | AD9: - | AE9: - | AQ9: X | AR9: X | AS9: X | AU9: X | AV9: X | AW9: =SUM(AP9:AR9,AT9:AV9) -> 0 | AX9: 2019. | AY9: 41640 | AZ9: 2019. | BA9: 42004 | BB9: Kętrzyn
A10: 5 | B10: Autosan D-734 | C10: NKEP326 | D10: p-pa ciężarowa roln. | E10: 1990 | F10: 29.05.1990 | G10: 02.09.2016 | H10: - | I10: 0 / 4000 | J10: - | K10: 0267 | L10: - | M10: - | N10: - | X10: - | Y10: - | Z10: - | AA10: - | AB10: - | AC10: - | AD10: - | AE10: - | AQ10: X | AR10: X | AS10: X | AT10: X | AU10: X | AV10: X | AW10: =SUM(AP10:AR10,AT10:AV10) -> 0 | AX10: 2019. | AY10: 41640 | AZ10: 2019. | BA10: 42004 | BB10: Kętrzyn
A11: 6 | B11: Autosan D-732 | C11: NKEP316 | D11: p-pa ciężarowa roln. | E11: 1988 | F11: 06.04.1988 | G11: 27.08.2015 | H11: - | I11: 0 / 4000 | J11: - | K11: 47539 | L11: - | M11: - | N11: - | X11: - | Y11: - | Z11: - | AA11: - | AB11: - | AC11: - | AD11: - | AE11: - | AQ11: X | AR11: X | AS11: X | AT11: X | AU11: X | AV11: X | AW11: =SUM(AP11:AR11,AT11:AV11) -> 0 | AX11: 2019. | AY11: 41640 | AZ11: 2019. | BA11: 42004 | BB11: Kętrzyn
A12: 7 | B12: ZPC ŚWIDNIK 23.62 | C12: NKE83PE | D12: p-pa lekka | E12: 2007 | F12: 09.01.2008 | G12: - | H12: - | I12: 0 / 515 | J12: 750 | K12: SWH2362S17B004812 | L12: - | M12: - | N12: - | X12: - | Y12: - | Z12: - | AA12: - | AB12: - | AC12: - | AD12: - | AE12: - | AQ12: X | AR12: X | AS12: X | AT12: X | AU12: X | AV12: X | AW12: =SUM(AP12:AR12,AT12:AV12) -> 0 | AX12: 2019. | AY12: 41648 | AZ12: 2020. | BA12: 42012 | BB12: Kętrzyn
A13: 8 | B13: PRONAR T 653 | C13: NKE65PW | D13: przyczepa ciężarowa rolnicza | E13: 2016 | F13: 12.01.2017 | H13: - | I13: 0 / 4000 | J13: 5950 | K13: SZB6530XXH1X08962 | O13: - | P13: - | Q13: - | R13: - | S13: - | T13: - | U13: - | V13: - | W13: - | X13: - | Y13: - | Z13: 18000 | AA13: 15200 | AB13: 18000 | AC13: 22000 | AD13: 27060 | AE13: 27060 | AO13: 27060 | AQ13: X | AT13: X | AU13: X | AV13: X | AW13: =SUM(AP13:AR13,AT13:AV13) -> 0 | AX13: 2019. | AY13: 42747 | AZ13: 2020. | BA13: 43111 | BB13: Kętrzyn
A14: 9 | B14: ZPC ŚWIDNIK 23.62 | C14: NKE69PG | D14: p-pa lekka | E14: 2008 | F14: 08.01.2009 | G14: - | H14: - | I14: 0 / 515 | J14: 750 | K14: SWH2362S18B005357 | L14: - | M14: - | N14: - | O14: - | P14: - | Q14: - | R14: - | S14: - | T14: - | U14: - | W14: - | X14: - | Y14: - | Z14: - | AA14: - | AB14: - | AC14: - | AD14: - | AE14: - | AF14: - | AG14: - | AH14: - | AI14: - | AJ14: - | AK14: - | AL14: - | AM14: - | AN14: - | AQ14: X | AR14: X | AS14: X | AT14: X | AU14: X | AV14: X | AW14: =SUM(AP14:AR14,AT14:AV14) -> 0 | AX14: 2019. | AY14: 41292 | AZ14: 2020. | BA14: 41656 | BB14: Kętrzyn
A15: 10 | B15: ZPC ŚWIDNIK 23.62 | C15: NKE70PG | D15: p-pa lekka | E15: 2008 | F15: 08.01.2009 | G15: - | H15: - | I15: 0 / 515 | J15: 750 | K15: SWH2362S18B005356 | L15: - | M15: - | N15: - | O15: - | P15: - | Q15: - | R15: - | S15: - | T15: - | U15: - | W15: - | X15: - | Y15: - | Z15: - | AA15: - | AB15: - | AC15: - | AD15: - | AE15: - | AF15: - | AG15: - | AH15: - | AI15: - | AJ15: - | AK15: - | AL15: - | AM15: - | AN15: - | AQ15: X | AR15: X | AS15: X | AT15: X | AU15: X | AV15: X | AW15: =SUM(AP15:AR15,AT15:AV15) -> 0 | AX15: 2019. | AY15: 41292 | AZ15: 2020. | BA15: 41656 | BB15: Kętrzyn
A16: 11 | B16: SKODA FABIA Classic sedan 04 | C16: NKE68GU | D16: osob. | E16: 2004 | F16: 15.03.2004 | G16: 02.07.2015 | H16: 1390 / 55 | I16: 5 / | J16: 1605 | K16: TMBD46Y644023116 | L16: Y432420 | M16: 2 / 0 | N16: immobiliser | O16: 82805 | P16: 88552 | Q16: 95700 | R16: 103720 | S16: 111585 | T16: 118395 | U16: 124597 | V16: 134313 | W16: 143439 | X16: 151287 | Y16: 163698 | Z16: 6700 | AA16: 6200 | AB16: 6700 | AC16: 7300 | AD16: 8100 | AE16: 8100 | AF16: 8800 | AG16: 9600 | AH16: 10500 | AI16: 11500 | AJ16: 13500 | AK16: 15600 | AL16: 16800 | AM16: 18000 | AN16: 20000 | AQ16: X | AV16: X | AW16: =SUM(AP16:AR16,AT16:AV16) -> 0 | AX16: 2019. | AY16: 41348 | AZ16: 2020. | BA16: 41712 | BB16: Kętrzyn
A17: 12 | B17: Nissan Navara D40 SE Long 2.5D 4WD | C17: NO4704K | D17: ciężarowy | E17: 2014 | F17: 25.03.2014 | G17: 25.04.2014 | H17: 2488 / 140 | I17: 5 / 720 | J17: 2805 | K17: VSKCVND40U0544016 | M17: 2 / 0 | N17: autoalarm immobiliser | V17: 21408 | W17: 59715 | X17: 85294 | Y17: 116580 | Z17: 69000 | AA17: 61200 | AB17: 69000 | AC17: 73800 | AD17: 82000 | AE17: 82000 | AF17: 91000 | AG17: 105000 | AH17: 127182 | AQ17: X | AW17: =SUM(AP17:AR17,AT17:AV17) -> 0 | AX17: 2019. | AY17: 42087 | AZ17: 2020. | BA17: 42452 | BB17: Kętrzyn | BC17: Ubezpieczony: ZDW Olsztyn
A18: 13 | B18: Peugeot Partner Tepee Active BlueHDi kombi | C18: NKEFM86 | D18: osob. | E18: 2016 | F18: 15.04.2016 | H18: 1560 / 73 | I18: 5 / 686 | J18: 2060 | K18: VF37JBHY6GJ522257 | M18: 2 / 0 | N18: immobiliser autoalarm | X18: 11654 | Y18: 71521 | Z18: 46000 | AA18: 42000 | AB18: 46000 | AC18: 49300 | AD18: 58000 | AE18: 58000 | AF18: 72570 | AO18: 72570 | AQ18: X | AW18: =SUM(AP18:AR18,AT18:AV18) -> 0 | AX18: 2019. | AY18: 42475 | AZ18: 2020. | BA18: 42839 | BB18: Kętrzyn
A19: 14 | B19: Renault Kangoo Oasis 1,5 d | C19: NKE36VC | D19: osob. | E19: 2012 | F19: 19.04.2012 | G19: 09.05.2016 | H19: 1461 / 66 | I19: 5 / 531 | J19: 1954 | K19: VF1KW25B547034821 | M19: 2 / 0 | N19: immobiliser autoalarm | O19: - | T19: 5286 | U19: 16980 | V19: 32145 | W19: 46437 | X19: 59863 | Y19: 82799 | Z19: 22000 | AA19: 20500 | AB19: 22000 | AC19: 23900 | AD19: 26600 | AE19: 26600 | AF19: 29200 | AG19: 33800 | AH19: 38000 | AI19: 45000 | AJ19: 59955 | AQ19: X | AV19: X | AW19: =SUM(AP19:AR19,AT19:AV19) -> 0 | AX19: 2019. | AY19: 41383 | AZ19: 2020. | BA19: 41747 | BB19: Kętrzyn
A20: 15 | B20: Renault Kangoo Oasis 1,5 d | C20: NKE37VC | D20: osob. | E20: 2012 | F20: 19.04.2012 | G20: 19.04.2015 | H20: 1461 / 66 | I20: 5 / 531 | J20: 1954 | K20: VF1KW25B547034820 | M20: 2 / 0 | N20: immobiliser autoalarm | O20: - | T20: 5479 | U20: 17136 | V20: 32148 | W20: 45900 | X20: 60418 | Y20: 86040 | Z20: 22000 | AA20: 20500 | AB20: 22000 | AC20: 23900 | AD20: 26600 | AE20: 26600 | AF20: 29200 | AG20: 33800 | AH20: 38000 | AI20: 45000 | AJ20: 59955 | AQ20: X | AV20: X | AW20: =SUM(AP20:AR20,AT20:AV20) -> 0 | AX20: 2019. | AY20: 41383 | AZ20: 2020. | BA20: 41747 | BB20: Kętrzyn
A21: 16 | B21: SKODA OCTAVIA II LIFTBACK AMBIENTE TSI | C21: NKE10KX | D21: osob. | E21: 2009 | F21: 29.04.2009 | G21: 08.05.2015 | H21: 1798 / 118 | I21: 5 / | J21: 1965 | K21: TMBCK61Z492052921 | L21: CDA032738 | M21: 2 / 0 | N21: autoalarm immobiliser z transponderem | O21: - | P21: - | Q21: 12992 | R21: 31826 | S21: 51793 | T21: 69740 | U21: 84555 | V21: 102367 | W21: 123703 | X21: 142322 | Y21: 178217 | Z21: 20300 | AA21: 18400 | AB21: 20300 | AC21: 23400 | AD21: 26000 | AE21: 26000 | AF21: 28000 | AG21: 30000 | AH21: 33000 | AI21: 38000 | AJ21: 44000 | AK21: 52000 | AL21: 61000 | AM21: 71400 | AN21: - | AQ21: X | AV21: X | AW21: =SUM(AP21:AR21,AT21:AV21) -> 0 | AX21: 2019. | AY21: 41393 | AZ21: 2020. | BA21: 41757 | BB21: Kętrzyn
A22: 17 | B22: Renault Trafic Pack Clim | C22: NKE13TU | D22: ciężar. | E22: 2011 | F22: 09.05.2011 | G22: 15.04.2015 | H22: 1995 / 84 | I22: 6 / 1035 | J22: 2960 | K22: VF1FLBHB6BY382202 | L22: - | M22: 2 / 0 | N22: autoalarm immobiliser z transponderem | O22: - | P22: - | Q22: - | R22: - | S22: 6427 | T22: 21880 | U22: 34232 | V22: 49028 | W22: 62716 | X22: 78114 | Y22: 102269 | Z22: 31000 | AA22: 27800 | AB22: 31000 | AC22: 34600 | AD22: 38500 | AE22: 38500 | AF22: 41500 | AG22: 44600 | AH22: 51000 | AI22: 61000 | AJ22: 75000 | AK22: 113869.71 | AL22: - | AM22: - | AN22: - | AQ22: X | AV22: X | AW22: =SUM(AP22:AR22,AT22:AV22) -> 0 | AX22: 2019. | AY22: 41403 | AZ22: 2020. | BA22: 41767 | BB22: Kętrzyn
A23: 18 | B23: Renault Trafic Pack Clim | C23: NKE14TU | D23: ciężar. | E23: 2011 | F23: 09.05.2011 | G23: 08.05.2016 | H23: 1995 / 84 | I23: 6 / 1035 | J23: 2960 | K23: VF1FLBHB6BV413730 | L23: - | M23: 2 / 0 | N23: autoalarm, immobiliser z transponderem | O23: - | P23: - | Q23: - | R23: - | S23: 6346 | T23: 22675 | U23: 38610 | V23: 56683 | W23: 73775 | X23: 91247 | Y23: 121585 | Z23: 29900 | AA23: 27000 | AB23: 29900 | AC23: 34300 | AD23: 38100 | AE23: 38100 | AF23: 41000 | AG23: 44200 | AH23: 51000 | AI23: 61000 | AJ23: 75000 | AK23: 113869.71 | AL23: - | AM23: - | AN23: - | AQ23: X | AV23: X | AW23: =SUM(AP23:AR23,AT23:AV23) -> 0 | AX23: 2019. | AY23: 41403 | AZ23: 2020. | BA23: 41767 | BB23: Kętrzyn
A24: 19 | B24: Renault Kangoo Oasis 1,5 d | C24: NKE41TU | D24: osobowy | E24: 2011 | F24: 11.05.2011 | G24: 08.05.2016 | H24: 1461 / 66 | I24: 5 / 528 | J24: 1954 | K24: VF1KW25B545045802 | L24: - | M24: 2 / 0 | N24: autoalarm immobiliser | O24: - | P24: - | Q24: - | R24: - | S24: 7173 | T24: 24363 | U24: 38492 | V24: 57147 | W24: 71572 | X24: 84401 | Y24: 108813 | Z24: 19000 | AA24: 18000 | AB24: 19000 | AC24: 21400 | AD24: 23800 | AE24: 23800 | AF24: 25600 | AG24: 29200 | AH24: 33000 | AI24: 38000 | AJ24: 45000 | AK24: 54899.9 | AL24: - | AM24: - | AN24: - | AQ24: X | AV24: X | AW24: =SUM(AP24:AR24,AT24:AV24) -> 0 | AX24: 2019. | AY24: 41405 | AZ24: 2020. | BA24: 41769 | BB24: Kętrzyn
A25: 20 | B25: SKODA FABIA Classic sedan | C25: NKEW576 | D25: osob. | E25: 2003 | F25: 21.05.2003 | G25: 15.05.2015 | H25: 1390 / 55 | I25: 5 / | J25: 1605 | K25: TMBDC467433805273 | L25: BBY398567 | M25: 2 / 0 | N25: immobiliser | O25: 116696 | P25: 129067 | Q25: 133408 | R25: 138002 | S25: 144861 | T25: 149650 | U25: 154274 | V25: 161301 | W25: 166900 | X25: 173517 | Y25: 195171 | Z25: 6000 | AA25: 5500 | AB25: 6000 | AC25: 6500 | AD25: 7200 | AE25: 7200 | AF25: 7900 | AG25: 8500 | AH25: 9500 | AI25: 10000 | AJ25: 11000 | AK25: 12500 | AL25: 14400 | AM25: 15400 | AN25: 18000 | AQ25: X | AV25: X | AW25: =SUM(AP25:AR25,AT25:AV25) -> 0 | AX25: 2019. | AY25: 41415 | AZ25: 2020. | BA25: 41779 | BB25: Kętrzyn
A26: 21 | B26: Renault Trafic Furgon Pack Clim 2,9t L2H1 dCi | C26: NKE46LG | D26: ciężar. | E26: 2009 | F26: 20.07.2009 | G26: 17.08.2015 | H26: 1995 / 84 | I26: 6 / 1235 | J26: 2960 | K26: VF1FLBHB69V350358 | L26: - | M26: 2 / 0 | N26: autoalarm, immobiliser z transponderem | O26: - | P26: - | Q26: 6863 | R26: 33733 | S26: 64877 | T26: 95820 | U26: 110269 | V26: 132314 | W26: 153666 | X26: 177784 | Y26: 217392 | Z26: 22300 | AA26: 20300 | AB26: 22300 | AC26: 24700 | AD26: 27400 | AE26: 27400 | AF26: 29100 | AG26: 31400 | AH26: 35000 | AI26: 40000 | AJ26: 48000 | AK26: 62000 | AL26: 77000 | AM26: 100333 | AN26: - | AQ26: X | AV26: X | AW26: =SUM(AP26:AR26,AT26:AV26) -> 0 | AX26: 2019. | AY26: 41475 | AZ26: 2020. | BA26: 41839 | BB26: Kętrzyn
A27: 22 | B27: Renault Trafic Furgon Pack Clim 2,9t L2H1 dCi | C27: NKE48LG | D27: ciężar. | E27: 2009 | F27: 20.07.2009 | G27: 20.07.2015 | H27: 1995 / 84 | I27: 6 / 1235 | J27: 2960 | K27: VF1FLBHB69V350359 | L27: - | M27: 2 / 0 | N27: autoalarm, immobiliser z transponderem | O27: - | P27: - | Q27: 8012 | R27: 39199 | S27: 65604 | T27: 89371 | U27: 124880 | V27: 158573 | W27: 190717 | X27: 222454 | Y27: 262174 | Z27: 20400 | AA27: 18500 | AB27: 20400 | AC27: 23000 | AD27: 25500 | AE27: 25500 | AF27: 28000 | AG27: 30300 | AH27: 34000 | AI27: 40000 | AJ27: 48000 | AK27: 61000 | AL27: 77000 | AM27: 100333 | AN27: - | AQ27: X | AV27: X | AW27: =SUM(AP27:AR27,AT27:AV27) -> 0 | AX27: 2019. | AY27: 41475 | AZ27: 2020. | BA27: 41839 | BB27: Kętrzyn
A28: 23 | B28: Wiola W3H | C28: NKE02PW | D28: przyczepa lekka | E28: 2016 | F28: 25.08.2016 | H28: - | I28: 0 / 458 | J28: 750 | K28: SUCE4ASA4G1000240 | M28: - | N28: - | X28: - | Y28: - | Z28: 11150 | AA28: 9560 | AB28: 11150 | AC28: 13200 | AD28: 15900 | AE28: 15900 | AF28: 19919 | AO28: =7988 + 11931 -> 19919 | AQ28: X | AT28: X | AU28: X | AV28: X | AW28: =SUM(AP28:AR28,AT28:AV28) -> 0 | AX28: 2019. | AY28: 42607 | AZ28: 2020. | BA28: 42971 | BB28: Kętrzyn | BC28: przyczepa z dostosowaniem do przewozu tablicy ostrzegawczej typu U26C o wartości 6680 zł
A29: 24 | B29: Wiola W3H | C29: NKE03PW | D29: przyczepa lekka | E29: 2016 | F29: 25.08.2016 | H29: - | I29: 0 / 458 | J29: 750 | K29: SUCE4ASA4G1000238 | M29: - | N29: - | X29: - | Y29: - | Z29: 4470 | AA29: 3830 | AB29: 4470 | AC29: 5300 | AD29: 6400 | AE29: 6400 | AF29: 7988 | AO29: 7988 | AQ29: X | AT29: X | AU29: X | AV29: X | AW29: =SUM(AP29:AR29,AT29:AV29) -> 0 | AX29: 2019. | AY29: 42607 | AZ29: 2020. | BA29: 42971 | BB29: Kętrzyn | BC29: przyczepa bez tablicy
A30: 25 | B30: Wiola W1 | C30: NKE02PY | D30: przyczepa ciężarowa skrzyniowa | E30: 2017 | F30: 23.08.2017 | H30: - | I30: 0 / 509 | J30: 751 | K30: SUCE5ASA3H1001403 | M30: - | N30: - | O30: - | P30: - | Q30: - | R30: - | S30: - | T30: - | U30: - | V30: - | W30: - | X30: - | Y30: - | Z30: 12930 | AA30: 10970 | AB30: 12930 | AC30: 15670 | AD30: 19593.2 | AE30: 19593.2 | AO30: =7539.2 + 12054 -> 19593.2 | AQ30: X | AT30: X | AU30: X | AV30: X | AW30: =SUM(AP30:AR30,AT30:AV30) -> 0 | AX30: 2019. | AY30: 42970 | AZ30: 2020. | BA30: 43334 | BB30: Kętrzyn | BC30: Przyczepa z dostosowaniem do przewozu tablicy ostrzegawczej typu U26C o wartości 7950 zł z plandeką i podjazdami
A31: 26 | B31: CASE IH Farmall 95A | C31: NKE26YG | D31: ciągnik rolniczy | E31: 2016 | F31: 31.10.2016 | H31: 3387 / 73 | I31: 2 / | J31: 6000 | K31: ZGLB00821 | M31: 2 / 0 | N31: - | X31: - | Y31: 669 | Z31: 136000 | AA31: 127200 | AB31: 136000 | AC31: 146500 | AD31: 164000 | AE31: 164000 | AF31: 175890 | AO31: 175890 | AQ31: X | AU31: X | AV31: X | AW31: =SUM(AP31:AR31,AT31:AV31) -> 0 | AX31: 2019. | AY31: 43039 | AZ31: 2020. | BA31: 43403 | BB31: Kętrzyn
A32: 27 | B32: Citroen Berlingo B9 VP XTR VTI 120 Kombi | C32: NKEGS34 | D32: osob. | E32: 2016 | F32: 08.12.2016 | H32: 1598 / 88 | I32: 5 / | J32: 2000 | K32: VF77J5FS6GJ865415 | M32: 2 / 0 | N32: autoalarm immobiliser | Y32: 15072 | Z32: 35000 | AA32: 31000 | AB32: 35000 | AC32: 45800 | AD32: 54100 | AE32: 54100 | AF32: 67650 | AO32: 67650 | AQ32: X | AW32: =SUM(AP32:AR32,AT32:AV32) -> 0 | AX32: 2019. | AY32: 43077 | AZ32: 2020. | BA32: 43441 | BB32: Kętrzyn
A33: 28 | B33: WIOLA W-600H | C33: NKE86PU | D33: przyczepa lekka | E33: 2015 | F33: 15.12.2015 | H33: - | I33: 0 / 284 | J33: 500 | K33: SUCE3ASA3F1000543 | M33: - | N33: - | X33: - | Y33: - | Z33: 8470 | AA33: 7590 | AB33: 8470 | AC33: 9880 | AD33: 11700 | AE33: 11700 | AF33: =4500 + 9700 -> 14200 | AG33: 17650.5 | AO33: =5596.5 + 12054 -> 17650.5 | AQ33: X | AT33: X | AU33: X | AV33: X | AW33: =SUM(AP33:AR33,AT33:AV33) -> 0 | AX33: 2019. | AY33: 42719 | AZ33: 2020. | BA33: 43083 | BB33: Kętrzyn | BC33: przyczepa z dostosowaniem do przewozu tablicy ostrzegawczej typu U26C o wartości 5780 zł
AI34: =SUM(AI7:AI33) -> 389500 | AJ34: =SUM(AJ7:AJ33) -> 479410 | AP34: =SUM(AP6:AP33) -> 0 | AQ34: X | AR34: =SUM(AR6:AR33) -> 0 | AS34: X | AT34: =SUM(AT6:AT33) -> 0 | AU34: =SUM(AU6:AU33) -> 0 | AV34: =SUM(AV6:AV33) -> 0 | AW34: =SUM(AW6:AW33) -> 0 | AX34: Razem 2019 rok
A35: * | B35: w przypadku bezskładkowego objęcia ochroną danego zakresu ubezpieczenia proszę wpisać 0 zł | AP35: =SUM(AP34:AV34) -> 0 | AX35: Ogółem 2019 rok
A36: 29 | B36: Kosiarka samobieżna HUSQVARNA TS 342 | C36: b/n | D36: kosiarka | E36: 2015 | F36: - | G36: - | H36: - | I36: - | J36: - | K36: - | L36: - | M36: - | N36: - | O36: - | P36: - | Q36: - | R36: - | S36: - | T36: - | U36: - | V36: - | W36: - | X36: - | Y36: - | Z36: - | AA36: - | AB36: - | AC36: - | AD36: - | AE36: - | AO36: 29191.89 | AQ36: X | AR36: X | AS36: X | AU36: X | AV36: X | AW36: =SUM(AP36:AR36,AT36:AV36) -> 0 | AX36: 2020. | AY36: 41640 | AZ36: 2020. | BA36: 42004 | BB36: Kętrzyn
A37: 30 | B37: URSUS C-385 | C37: NKEY375 | D37: ciągnik rolniczy | E37: 1971 | F37: 15.05.1973 | G37: 31.01.2016 | H37: 4562 | I37: 2 / | J37: 5010 | K37: 15754 | L37: 54809 | M37: 1/0 | N37: - | X37: - | Y37: 2508 | Z37: - | AA37: - | AB37: - | AC37: - | AD37: - | AE37: - | AQ37: X | AR37: X | AS37: X | AU37: X | AV37: X | AW37: =SUM(AP37:AR37,AT37:AV37) -> 0 | AX37: 2020. | AY37: 41640 | AZ37: 2020. | BA37: 42004 | BB37: Kętrzyn
A38: 31 | B38: URSUS C-360 | C38: NKEY153 | D38: ciągnik rolniczy | E38: 1985 | F38: 15.03.1985 | G38: 23.08.2015 | H38: 3120 | I38: 1 / | J38: - | K38: 531065 | L38: 28123 | M38: 1/0 | N38: - | X38: - | Y38: 5067 | Z38: - | AA38: - | AB38: - | AC38: - | AD38: - | AE38: - | AQ38: X | AR38: X | AS38: X | AU38: X | AV38: X | AW38: =SUM(AP38:AR38,AT38:AV38) -> 0 | AX38: 2020. | AY38: 41640 | AZ38: 2020. | BA38: 42004 | BB38: Kętrzyn
A39: 32 | B39: ZIŁ D-470 | C39: OLP1123 | D39: specjal. | E39: 1985 | F39: 29.10.1985 | G39: 14.10.2015 | H39: 19100 | I39: 3 / | J39: 9000 | K39: 66335 | L39: 8411I514 | M39: 1/0 | N39: - | X39: - | Y39: 10330 | Z39: - | AA39: - | AB39: - | AC39: - | AD39: - | AE39: - | AQ39: X | AR39: X | AS39: X | AU39: X | AV39: X | AW39: =SUM(AP39:AR39,AT39:AV39) -> 0 | AX39: 2020. | AY39: 41640 | AZ39: 2020. | BA39: 42004 | BB39: Kętrzyn
A40: 33 | B40: Autosan D-734 | C40: NKEP326 | D40: przyczepa ciężarowa rolnicza | E40: 1990 | F40: 29.05.1990 | G40: 02.09.2016 | H40: - | I40: 0 / 4000 | J40: - | K40: 0267 | L40: - | M40: - | N40: - | X40: - | Y40: - | Z40: - | AA40: - | AB40: - | AC40: - | AD40: - | AE40: - | AQ40: X | AR40: X | AS40: X | AT40: X | AU40: X | AV40: X | AW40: =SUM(AP40:AR40,AT40:AV40) -> 0 | AX40: 2020. | AY40: 41640 | AZ40: 2020. | BA40: 42004 | BB40: Kętrzyn
A41: 34 | B41: Autosan D-732 | C41: NKEP316 | D41: przyczepa ciężarowa rolnicza | E41: 1988 | F41: 06.04.1988 | G41: 27.08.2015 | H41: - | I41: 0 / 4000 | J41: - | K41: 47539 | L41: - | M41: - | N41: - | X41: - | Y41: - | Z41: - | AA41: - | AB41: - | AC41: - | AD41: - | AE41: - | AQ41: X | AR41: X | AS41: X | AT41: X | AU41: X | AV41: X | AW41: =SUM(AP41:AR41,AT41:AV41) -> 0 | AX41: 2020. | AY41: 41640 | AZ41: 2020. | BA41: 42004 | BB41: Kętrzyn
A42: 35 | B42: ZPC ŚWIDNIK 23.62 | C42: NKE83PE | D42: p-pa lekka | E42: 2007 | F42: 09.01.2008 | G42: - | H42: - | I42: 0 / 515 | J42: 750 | K42: SWH2362S17B004812 | L42: - | M42: - | N42: - | X42: - | Y42: - | Z42: - | AA42: - | AB42: - | AC42: - | AD42: - | AE42: - | AQ42: X | AR42: X | AS42: X | AT42: X | AU42: X | AV42: X | AW42: =SUM(AP42:AR42,AT42:AV42) -> 0 | AX42: 2020. | AY42: 41648 | AZ42: 2021. | BA42: 42012 | BB42: Kętrzyn
A43: 36 | B43: PRONAR T 653 | C43: NKE65PW | D43: przyczepa ciężarowa rolnicza | E43: 2016 | F43: 12.01.2017 | H43: - | I43: 0 / 4000 | J43: 5950 | K43: SZB6530XXH1X08962 | O43: - | P43: - | Q43: - | R43: - | S43: - | T43: - | U43: - | V43: - | W43: - | X43: - | Y43: - | Z43: 15200 | AA43: 15200 | AB43: 18000 | AC43: 22000 | AD43: 27060 | AE43: 27060 | AO43: 27060 | AQ43: X | AT43: X | AU43: X | AV43: X | AW43: =SUM(AP43:AR43,AT43:AV43) -> 0 | AX43: 2020. | AY43: 42747 | AZ43: 2021. | BA43: 43111 | BB43: Kętrzyn
A44: 37 | B44: ZPC ŚWIDNIK 23.62 | C44: NKE69PG | D44: p-pa lekka | E44: 2008 | F44: 08.01.2009 | G44: - | H44: - | I44: 0 / 515 | J44: 750 | K44: SWH2362S18B005357 | L44: - | M44: - | N44: - | O44: - | P44: - | Q44: - | R44: - | S44: - | T44: - | U44: - | W44: - | X44: - | Y44: - | Z44: - | AA44: - | AB44: - | AC44: - | AD44: - | AE44: - | AF44: - | AG44: - | AH44: - | AI44: - | AJ44: - | AK44: - | AL44: - | AM44: - | AN44: - | AQ44: X | AR44: X | AS44: X | AT44: X | AU44: X | AV44: X | AW44: =SUM(AP44:AR44,AT44:AV44) -> 0 | AX44: 2020. | AY44: 41292 | AZ44: 2021. | BA44: 41656 | BB44: Kętrzyn
A45: 38 | B45: ZPC ŚWIDNIK 23.62 | C45: NKE70PG | D45: p-pa lekka | E45: 2008 | F45: 08.01.2009 | G45: - | H45: - | I45: 0 / 515 | J45: 750 | K45: SWH2362S18B005356 | L45: - | M45: - | N45: - | O45: - | P45: - | Q45: - | R45: - | S45: - | T45: - | U45: - | W45: - | X45: - | Y45: - | Z45: - | AA45: - | AB45: - | AC45: - | AD45: - | AE45: - | AF45: - | AG45: - | AH45: - | AI45: - | AJ45: - | AK45: - | AL45: - | AM45: - | AN45: - | AQ45: X | AR45: X | AS45: X | AT45: X | AU45: X | AV45: X | AW45: =SUM(AP45:AR45,AT45:AV45) -> 0 | AX45: 2020. | AY45: 41292 | AZ45: 2021. | BA45: 41656 | BB45: Kętrzyn
A46: 39 | B46: SKODA FABIA Classic sedan 04 | C46: NKE68GU | D46: osob. | E46: 2004 | F46: 15.03.2004 | G46: 02.07.2015 | H46: 1390 / 55 | I46: 5 / | J46: 1605 | K46: TMBD46Y644023116 | L46: Y432420 | M46: 2 / 0 | N46: immobiliser | O46: 82805 | P46: 88552 | Q46: 95700 | R46: 103720 | S46: 111585 | T46: 118395 | U46: 124597 | V46: 134313 | W46: 143439 | X46: 151287 | Y46: 163698 | Z46: 6200 | AA46: 6200 | AB46: 6700 | AC46: 7300 | AD46: 8100 | AE46: 8100 | AF46: 8800 | AG46: 9600 | AH46: 10500 | AI46: 11500 | AJ46: 13500 | AK46: 15600 | AL46: 16800 | AM46: 18000 | AN46: 20000 | AQ46: X | AV46: X | AW46: =SUM(AP46:AR46,AT46:AV46) -> 0 | AX46: 2020. | AY46: 41348 | AZ46: 2021. | BA46: 41712 | BB46: Kętrzyn
A47: 40 | B47: Nissan Navara D40 SE Long 2.5D 4WD | C47: NO4704K | D47: ciężarowy | E47: 2014 | F47: 25.03.2014 | G47: 25.04.2014 | H47: 2488 / 140 | I47: 5 / 720 | J47: 2805 | K47: VSKCVND40U0544016 | M47: 2 / 0 | N47: autoalarm immobiliser | V47: 21408 | W47: 59715 | X47: 85294 | Y47: 116580 | Z47: 61200 | AA47: 61200 | AB47: 69000 | AC47: 73800 | AD47: 82000 | AE47: 82000 | AF47: 91000 | AG47: 105000 | AH47: 127182 | AQ47: X | AW47: =SUM(AP47:AR47,AT47:AV47) -> 0 | AX47: 2020. | AY47: 42087 | AZ47: 2021. | BA47: 42452 | BB47: Kętrzyn | BC47: Ubezpieczony: ZDW Olsztyn
A48: 41 | B48: Peugeot Partner Tepee Active BlueHDi kombi | C48: NKEFM86 | D48: osob. | E48: 2016 | F48: 15.04.2016 | H48: 1560 / 73 | I48: 5 / 686 | J48: 2060 | K48: VF37JBHY6GJ522257 | M48: 2 / 0 | N48: immobiliser autoalarm | X48: 11654 | Y48: 71521 | Z48: 42000 | AA48: 42000 | AB48: 46000 | AC48: 49300 | AD48: 58000 | AE48: 58000 | AF48: 72570 | AO48: 72570 | AQ48: X | AW48: =SUM(AP48:AR48,AT48:AV48) -> 0 | AX48: 2020. | AY48: 42475 | AZ48: 2021. | BA48: 42839 | BB48: Kętrzyn
A49: 42 | B49: Renault Kangoo Oasis 1,5 d | C49: NKE36VC | D49: osob. | E49: 2012 | F49: 19.04.2012 | G49: 09.05.2016 | H49: 1461 / 66 | I49: 5 / 531 | J49: 1954 | K49: VF1KW25B547034821 | M49: 2 / 0 | N49: immobiliser autoalarm | O49: - | T49: 5286 | U49: 16980 | V49: 32145 | W49: 46437 | X49: 59863 | Y49: 82799 | Z49: 20500 | AA49: 20500 | AB49: 22000 | AC49: 23900 | AD49: 26600 | AE49: 26600 | AF49: 29200 | AG49: 33800 | AH49: 38000 | AI49: 45000 | AJ49: 59955 | AQ49: X | AV49: X | AW49: =SUM(AP49:AR49,AT49:AV49) -> 0 | AX49: 2020. | AY49: 41383 | AZ49: 2021. | BA49: 41747 | BB49: Kętrzyn
A50: 43 | B50: Renault Kangoo Oasis 1,5 d | C50: NKE37VC | D50: osob. | E50: 2012 | F50: 19.04.2012 | G50: 19.04.2015 | H50: 1461 / 66 | I50: 5 / 531 | J50: 1954 | K50: VF1KW25B547034820 | M50: 2 / 0 | N50: immobiliser autoalarm | O50: - | T50: 5479 | U50: 17136 | V50: 32148 | W50: 45900 | X50: 60418 | Y50: 86040 | Z50: 20500 | AA50: 20500 | AB50: 22000 | AC50: 23900 | AD50: 26600 | AE50: 26600 | AF50: 29200 | AG50: 33800 | AH50: 38000 | AI50: 45000 | AJ50: 59955 | AQ50: X | AV50: X | AW50: =SUM(AP50:AR50,AT50:AV50) -> 0 | AX50: 2020. | AY50: 41383 | AZ50: 2021. | BA50: 41747 | BB50: Kętrzyn
A51: 44 | B51: SKODA OCTAVIA II LIFTBACK AMBIENTE TSI | C51: NKE10KX | D51: osob. | E51: 2009 | F51: 29.04.2009 | G51: 08.05.2015 | H51: 1798 / 118 | I51: 5 / | J51: 1965 | K51: TMBCK61Z492052921 | L51: CDA032738 | M51: 2 / 0 | N51: autoalarm immobiliser z transponderem | O51: - | P51: - | Q51: 12992 | R51: 31826 | S51: 51793 | T51: 69740 | U51: 84555 | V51: 102367 | W51: 123703 | X51: 142322 | Y51: 178217 | Z51: 18400 | AA51: 18400 | AB51: 20300 | AC51: 23400 | AD51: 26000 | AE51: 26000 | AF51: 28000 | AG51: 30000 | AH51: 33000 | AI51: 38000 | AJ51: 44000 | AK51: 52000 | AL51: 61000 | AM51: 71400 | AN51: - | AQ51: X | AV51: X | AW51: =SUM(AP51:AR51,AT51:AV51) -> 0 | AX51: 2020. | AY51: 41393 | AZ51: 2021. | BA51: 41757 | BB51: Kętrzyn
A52: 45 | B52: Renault Trafic Pack Clim | C52: NKE13TU | D52: ciężar. | E52: 2011 | F52: 09.05.2011 | G52: 15.04.2015 | H52: 1995 / 84 | I52: 6 / 1035 | J52: 2960 | K52: VF1FLBHB6BY382202 | L52: - | M52: 2 / 0 | N52: autoalarm immobiliser z transponderem | O52: - | P52: - | Q52: - | R52: - | S52: 6427 | T52: 21880 | U52: 34232 | V52: 49028 | W52: 62716 | X52: 78114 | Y52: 102269 | Z52: 27800 | AA52: 27800 | AB52: 31000 | AC52: 34600 | AD52: 38500 | AE52: 38500 | AF52: 41500 | AG52: 44600 | AH52: 51000 | AI52: 61000 | AJ52: 75000 | AK52: 113869.71 | AL52: - | AM52: - | AN52: - | AQ52: X | AV52: X | AW52: =SUM(AP52:AR52,AT52:AV52) -> 0 | AX52: 2020. | AY52: 41403 | AZ52: 2021. | BA52: 41767 | BB52: Kętrzyn
A53: 46 | B53: Renault Trafic Pack Clim | C53: NKE14TU | D53: ciężar. | E53: 2011 | F53: 09.05.2011 | G53: 08.05.2016 | H53: 1995 / 84 | I53: 6 / 1035 | J53: 2960 | K53: VF1FLBHB6BV413730 | L53: - | M53: 2 / 0 | N53: autoalarm, immobiliser z transponderem | O53: - | P53: - | Q53: - | R53: - | S53: 6346 | T53: 22675 | U53: 38610 | V53: 56683 | W53: 73775 | X53: 91247 | Y53: 121585 | Z53: 27000 | AA53: 27000 | AB53: 29900 | AC53: 34300 | AD53: 38100 | AE53: 38100 | AF53: 41000 | AG53: 44200 | AH53: 51000 | AI53: 61000 | AJ53: 75000 | AK53: 113869.71 | AL53: - | AM53: - | AN53: - | AQ53: X | AV53: X | AW53: =SUM(AP53:AR53,AT53:AV53) -> 0 | AX53: 2020. | AY53: 41403 | AZ53: 2021. | BA53: 41767 | BB53: Kętrzyn
A54: 47 | B54: Renault Kangoo Oasis 1,5 d | C54: NKE41TU | D54: osobowy | E54: 2011 | F54: 11.05.2011 | G54: 08.05.2016 | H54: 1461 / 66 | I54: 5 / 528 | J54: 1954 | K54: VF1KW25B545045802 | L54: - | M54: 2 / 0 | N54: autoalarm immobiliser | O54: - | P54: - | Q54: - | R54: - | S54: 7173 | T54: 24363 | U54: 38492 | V54: 57147 | W54: 71572 | X54: 84401 | Y54: 108813 | Z54: 18000 | AA54: 18000 | AB54: 19000 | AC54: 21400 | AD54: 23800 | AE54: 23800 | AF54: 25600 | AG54: 29200 | AH54: 33000 | AI54: 38000 | AJ54: 45000 | AK54: 54899.9 | AL54: - | AM54: - | AN54: - | AQ54: X | AV54: X | AW54: =SUM(AP54:AR54,AT54:AV54) -> 0 | AX54: 2020. | AY54: 41405 | AZ54: 2021. | BA54: 41769 | BB54: Kętrzyn
A55: 48 | B55: SKODA FABIA Classic sedan | C55: NKEW576 | D55: osob. | E55: 2003 | F55: 21.05.2003 | G55: 15.05.2015 | H55: 1390 / 55 | I55: 5 / | J55: 1605 | K55: TMBDC467433805273 | L55: BBY398567 | M55: 2 / 0 | N55: immobiliser | O55: 116696 | P55: 129067 | Q55: 133408 | R55: 138002 | S55: 144861 | T55: 149650 | U55: 154274 | V55: 161301 | W55: 166900 | X55: 173517 | Y55: 195171 | Z55: 5500 | AA55: 5500 | AB55: 6000 | AC55: 6500 | AD55: 7200 | AE55: 7200 | AF55: 7900 | AG55: 8500 | AH55: 9500 | AI55: 10000 | AJ55: 11000 | AK55: 12500 | AL55: 14400 | AM55: 15400 | AN55: 18000 | AQ55: X | AV55: X | AW55: =SUM(AP55:AR55,AT55:AV55) -> 0 | AX55: 2020. | AY55: 41415 | AZ55: 2021. | BA55: 41779 | BB55: Kętrzyn
A56: 49 | B56: Renault Trafic Furgon Pack Clim 2,9t L2H1 dCi | C56: NKE46LG | D56: ciężar. | E56: 2009 | F56: 20.07.2009 | G56: 17.08.2015 | H56: 1995 / 84 | I56: 6 / 1235 | J56: 2960 | K56: VF1FLBHB69V350358 | L56: - | M56: 2 / 0 | N56: autoalarm, immobiliser z transponderem | O56: - | P56: - | Q56: 6863 | R56: 33733 | S56: 64877 | T56: 95820 | U56: 110269 | V56: 132314 | W56: 153666 | X56: 177784 | Y56: 217392 | Z56: 20300 | AA56: 20300 | AB56: 22300 | AC56: 24700 | AD56: 27400 | AE56: 27400 | AF56: 29100 | AG56: 31400 | AH56: 35000 | AI56: 40000 | AJ56: 48000 | AK56: 62000 | AL56: 77000 | AM56: 100333 | AN56: - | AQ56: X | AV56: X | AW56: =SUM(AP56:AR56,AT56:AV56) -> 0 | AX56: 2020. | AY56: 41475 | AZ56: 2021. | BA56: 41839 | BB56: Kętrzyn
A57: 50 | B57: Renault Trafic Furgon Pack Clim 2,9t L2H1 dCi | C57: NKE48LG | D57: ciężar. | E57: 2009 | F57: 20.07.2009 | G57: 20.07.2015 | H57: 1995 / 84 | I57: 6 / 1235 | J57: 2960 | K57: VF1FLBHB69V350359 | L57: - | M57: 2 / 0 | N57: autoalarm, immobiliser z transponderem | O57: - | P57: - | Q57: 8012 | R57: 39199 | S57: 65604 | T57: 89371 | U57: 124880 | V57: 158573 | W57: 190717 | X57: 222454 | Y57: 262174 | Z57: 18500 | AA57: 18500 | AB57: 20400 | AC57: 23000 | AD57: 25500 | AE57: 25500 | AF57: 28000 | AG57: 30300 | AH57: 34000 | AI57: 40000 | AJ57: 48000 | AK57: 61000 | AL57: 77000 | AM57: 100333 | AN57: - | AQ57: X | AV57: X | AW57: =SUM(AP57:AR57,AT57:AV57) -> 0 | AX57: 2020. | AY57: 41475 | AZ57: 2021. | BA57: 41839 | BB57: Kętrzyn
A58: 51 | B58: Wiola W3H | C58: NKE02PW | D58: przyczepa lekka | E58: 2016 | F58: 25.08.2016 | H58: - | I58: 0 / 458 | J58: 750 | K58: SUCE4ASA4G1000240 | M58: - | N58: - | X58: - | Y58: - | Z58: 9560 | AA58: 9560 | AB58: 11150 | AC58: 13200 | AD58: 15900 | AE58: 15900 | AF58: 19919 | AO58: =7988 + 11931 -> 19919 | AQ58: X | AT58: X | AU58: X | AV58: X | AW58: =SUM(AP58:AR58,AT58:AV58) -> 0 | AX58: 2020. | AY58: 42607 | AZ58: 2021. | BA58: 42971 | BB58: Kętrzyn | BC58: przyczepa z dostosowaniem do przewozu tablicy ostrzegawczej typu U26C o wartości 5730 zł
A59: 52 | B59: Wiola W3H | C59: NKE03PW | D59: przyczepa lekka | E59: 2016 | F59: 25.08.2016 | H59: - | I59: 0 / 458 | J59: 750 | K59: SUCE4ASA4G1000238 | M59: - | N59: - | X59: - | Y59: - | Z59: 3830 | AA59: 3830 | AB59: 4470 | AC59: 5300 | AD59: 6400 | AE59: 6400 | AF59: 7988 | AO59: 7988 | AQ59: X | AT59: X | AU59: X | AV59: X | AW59: =SUM(AP59:AR59,AT59:AV59) -> 0 | AX59: 2020. | AY59: 42607 | AZ59: 2021. | BA59: 42971 | BB59: Kętrzyn | BC59: przyczepa bez tablicy
A60: 53 | B60: Wiola W1 | C60: NKE02PY | D60: przyczepa ciężarowa skrzyniowa | E60: 2017 | F60: 23.08.2017 | H60: - | I60: 0 / 509 | J60: 751 | K60: SUCE5ASA3H1001403 | M60: - | N60: - | O60: - | P60: - | Q60: - | R60: - | S60: - | T60: - | U60: - | V60: - | W60: - | X60: - | Y60: - | Z60: 10970 | AA60: 10970 | AB60: 12930 | AC60: 15670 | AD60: 19593.2 | AE60: 19593.2 | AO60: =7539.2 + 12054 -> 19593.2 | AQ60: X | AT60: X | AU60: X | AV60: X | AW60: =SUM(AP60:AR60,AT60:AV60) -> 0 | AX60: 2020. | AY60: 42970 | AZ60: 2021. | BA60: 43334 | BB60: Kętrzyn | BC60: Przyczepa z dostosowaniem do przewozu tablicy ostrzegawczej typu U26C o wartości 6750 zł z plandeką i podjazdami
A61: 54 | B61: CASE IH Farmall 95A | C61: NKE26YG | D61: ciągnik rolniczy | E61: 2016 | F61: 31.10.2016 | H61: 3387 / 73 | I61: 2 / | J61: 6000 | K61: ZGLB00821 | M61: 2 / 0 | N61: - | X61: - | Y61: 669 | Z61: 127200 | AA61: 127200 | AB61: 136000 | AC61: 146500 | AD61: 164000 | AE61: 164000 | AF61: 175890 | AO61: 175890 | AQ61: X | AU61: X | AV61: X | AW61: =SUM(AP61:AR61,AT61:AV61) -> 0 | AX61: 2020. | AY61: 43039 | AZ61: 2021. | BA61: 43403 | BB61: Kętrzyn
A62: 55 | B62: Citroen Berlingo B9 VP XTR VTI 120 Kombi | C62: NKEGS34 | D62: osob. | E62: 2016 | F62: 08.12.2016 | H62: 1598 / 88 | I62: 5 / | J62: 2000 | K62: VF77J5FS6GJ865415 | M62: 2 / 0 | N62: autoalarm immobiliser | Y62: 15072 | Z62: 31000 | AA62: 31000 | AB62: 35000 | AC62: 45800 | AD62: 54100 | AE62: 54100 | AF62: 67650 | AO62: 67650 | AQ62: X | AW62: =SUM(AP62:AR62,AT62:AV62) -> 0 | AX62: 2020. | AY62: 43077 | AZ62: 2021. | BA62: 43441 | BB62: Kętrzyn
A63: 56 | B63: WIOLA W-600H | C63: NKE86PU | D63: przyczepa lekka | E63: 2015 | F63: 15.12.2015 | H63: - | I63: 0 / 284 | J63: 500 | K63: SUCE3ASA3F1000543 | M63: - | N63: - | X63: - | Y63: - | Z63: 7590 | AA63: 7590 | AB63: 8470 | AC63: 9880 | AD63: 11700 | AE63: 11700 | AF63: =4500 + 9700 -> 14200 | AG63: 17650.5 | AO63: =5596.5 + 12054 -> 17650.5 | AQ63: X | AT63: X | AU63: X | AV63: X | AW63: =SUM(AP63:AR63,AT63:AV63) -> 0 | AX63: 2020. | AY63: 42719 | AZ63: 2021. | BA63: 43083 | BB63: Kętrzyn | BC63: przyczepa z dostosowaniem do przewozu tablicy ostrzegawczej typu U26C o wartości 5180 zł
AI64: =SUM(AI37:AI63) -> 389500 | AJ64: =SUM(AJ37:AJ63) -> 479410 | AP64: =SUM(AP36:AP63) -> 0 | AQ64: X | AR64: =SUM(AR36:AR63) -> 0 | AS64: X | AT64: =SUM(AT36:AT63) -> 0 | AU64: =SUM(AU36:AU63) -> 0 | AV64: =SUM(AV36:AV63) -> 0 | AW64: =SUM(AW36:AW63) -> 0 | AX64: Razem 2020 rok
A65: * | B65: w przypadku bezskładkowego objęcia ochroną danego zakresu ubezpieczenia proszę wpisać 0 zł | AP65: =SUM(AP64:AV64) -> 0 | AX65: Ogółem 2020 rok
AP66: =SUM(AP34,AP64) -> 0 | AQ66: X | AR66: =SUM(AR34,AR64) -> 0 | AS66: X | AT66: =SUM(AT34,AT64) -> 0 | AU66: =SUM(AU34,AU64) -> 0 | AV66: =SUM(AV34,AV64) -> 0 | AW66: =SUM(AW34,AW64) -> 0 | AX66: Łącznie za 2 lata
AP67: =SUM(AP66:AV66) -> 0
Z69: =SUM(Z6:Z33) -> 540620
Z70: =SUM(Z36:Z63) -> 491250
Z71: =SUM(Z69:Z70) -> 1031870

Sheet NIDZICA
A1: Załącznik nr 2d do OPZ Załącznik nr 2d do Umowy
A2: WYKAZ POJAZDÓW ZARZĄDU DRÓG WOJEWÓDZKICH W OLSZTYNIE REJON DRÓG W NIDZICY DO UBEZPIECZENIA NA LATA 2019-2020
A3: 4 | B3: 20 | C3: 8 | D3: 8 | E3: 5 | F3: 8 | G3: 8 | H3: 8 | I3: 9 | J3: 9 | K3: 9 | L3: 9 | M3: 8 | N3: 11 | O3: 7 | P3: 7 | Q3: 7 | R3: 7 | S3: 7 | T3: 7 | U3: 7 | V3: 7 | W3: 7 | X3: 7 | Y3: 7 | Z3: 9 | AA3: 7 | AB3: 7 | AC3: 7 | AD3: 9 | AE3: 7 | AF3: 7 | AG3: 7 | AH3: 7 | AI3: 7 | AJ3: 7 | AK3: 7 | AL3: 7 | AM3: 7 | AN3: 7 | AO3: 7 | AP3: 8 | AQ3: 8 | AR3: 8 | AS3: 8 | AT3: 8 | AU3: 8 | AV3: 8 | AW3: 9 | AX3: 4 | AY3: 4 | AZ3: 4 | BA3: 4 | BB3: 7 | BC3: 31
A4: lp | B4: Marka, model, typ pojazdu | C4: Nr rejestr. | D4: Rodzaj | E4: Rok prod. | F4: Data I rejestr. | G4: Data bad. techn. | H4: Poj. silnika / moc [kW] | I4: Liczba miejsc / ładowność w kg | J4: DMC [kg] | K4: Nr nadwozia | L4: Nr silnika | M4: Liczba kluczyków | N4: Zabezpiecz. | O4: Przebieg w km | P4: Przebieg w km 11.2008 | Q4: Przebieg w km 11.2009 | R4: Przebieg w km 11.2010 | S4: Przebieg 10.2011 [km] | T4: Przebieg 10.2012 [km] | U4: Przebieg 09.2013 [km] | V4: Przebieg 09.2014 [km] | W4: Przebieg 10.2015 [km] | X4: Przebieg 10.2016 [km] | Y4: Przebieg 06.2018 [km] | Z4: Wartość z VAT [zł] | AA4: Wartość 2020 | AB4: Wartość 2019 | AC4: Wartość 2018 | AD4: Wartość z VAT - 2 lata - 2017 i 2018 [zł] | AE4: Wartość 2017 | AF4: Wartość 2016 | AG4: Wartość 2015 | AH4: Wartość 2014 | AI4: Wartość 2013 | AJ4: Wartość 2012 | AK4: Wartość 2011 | AL4: Wartość 2010 | AM4: Wartość 2008/2009 | AN4: Wartość 2007/2008 | AO4: Wartość nowa | AP4: Składka [zł] * | AX4: Okres ubezpieczenia | BB4: Rejon | BC4: Uwagi
J5: dopuszczalna masa całkowita | M5: oryg./ nieoryg. | AP5: OC | AQ5: ZK zielona karta | AR5: AC | AS5: AC - % SU | AT5: NNW | AU5: Assistance podstawowy | AV5: Assistance rozszerzony | AW5: Łącznie za pojazd | AX5: od | AZ5: do
A6: 1 | B6: Rębak CPG5-EX z silnik. 25HP Honda V-Twin | C6: b/n | D6: przyczepa specjalist. | E6: 2014 | F6: - | G6: - | H6: - | I6: - | J6: - | K6: 18122014A | M6: - | N6: - | O6: - | P6: - | Q6: - | R6: - | S6: - | T6: - | U6: - | V6: - | W6: - | X6: - | Y6: - | Z6: - | AA6: - | AB6: - | AC6: - | AD6: - | AE6: - | AF6: - | AG6: - | AH6: - | AI6: - | AJ6: - | AK6: - | AL6: - | AM6: - | AN6: - | AO6: - | AQ6: X | AR6: X | AS6: X | AT6: X | AU6: X | AV6: X | AW6: =SUM(AP6:AR6,AT6:AV6) -> 0 | AX6: 2019. | AY6: 41640 | AZ6: 2019. | BA6: 42004 | BB6: Nidzica | BC6: rozdrabniacz do gałęzi
A7: 2 | B7: Kosiarka samobieżna Husqvarna TS342 | C7: b/n | D7: kosiarka | E7: 2015 | F7: - | G7: - | H7: - | I7: - | J7: - | K7: 111014A001246 | O7: - | P7: - | Q7: - | R7: - | S7: - | T7: - | U7: - | V7: - | W7: - | X7: - | Y7: - | Z7: - | AA7: - | AB7: - | AC7: - | AD7: - | AE7: - | AF7: - | AG7: - | AH7: - | AI7: - | AJ7: - | AK7: - | AL7: - | AM7: - | AN7: - | AO7: - | AQ7: X | AR7: X | AS7: X | AU7: X | AV7: X | AW7: =SUM(AP7:AR7,AT7:AV7) -> 0 | AX7: 2019. | AY7: 41640 | AZ7: 2019. | BA7: 42004 | BB7: Nidzica
A8: 3 | B8: URSUS C-385 | C8: OLM948B | D8: ciągnik rolniczy | E8: 1980 | F8: 12.02.1980 | G8: 09.09.2017 | H8: 4562 / | I8: 2 / 15200 | J8: 5170 | K8: 2303 | L8: 59968 | M8: 2 / 0 | N8: - | X8: - | Y8: - | Z8: - | AA8: - | AB8: - | AC8: - | AD8: - | AE8: - | AF8: - | AQ8: X | AR8: X | AS8: X | AU8: X | AV8: X | AW8: =SUM(AP8:AR8,AT8:AV8) -> 0 | AX8: 2019. | AY8: 41640 | AZ8: 2019. | BA8: 42004 | BB8: Nidzica
A9: 4 | B9: URSUS C-360 3P | C9: OLM796F | D9: ciągnik rolniczy | E9: 1985 | F9: 31.10.1985 | G9: 09.09.2017 | H9: 3120 / | I9: 1 / 10500 | J9: 2886 | K9: 540349 | L9: 394381 | M9: 2 / 0 | N9: - | X9: - | Y9: - | Z9: - | AA9: - | AB9: - | AC9: - | AD9: - | AE9: - | AF9: - | AQ9: X | AR9: X | AS9: X | AU9: X | AV9: X | AW9: =SUM(AP9:AR9,AT9:AV9) -> 0 | AX9: 2019. | AY9: 41640 | AZ9: 2019. | BA9: 42004 | BB9: Nidzica
A10: 5 | B10: AUTOSAN D-732 | C10: NNIY152 | D10: p-pa | E10: 1987 | F10: 19.11.1987 | G10: 25.07.2017 | H10: - | I10: 0 / 4000 | J10: 5630 | K10: 43969 | L10: - | M10: - | N10: - | X10: - | Y10: - | Z10: - | AA10: - | AB10: - | AC10: - | AD10: - | AE10: - | AF10: - | AQ10: X | AR10: X | AS10: X | AT10: X | AU10: X | AV10: X | AW10: =SUM(AP10:AR10,AT10:AV10) -> 0 | AX10: 2019. | AY10: 41640 | AZ10: 2019. | BA10: 42004 | BB10: Nidzica
A11: 6 | B11: AUTOSAN D-732 | C11: NNIY151 | D11: p-pa | E11: 1987 | F11: 20.05.1987 | G11: 25.07.2017 | H11: - | I11: 0 / 4000 | J11: 5630 | K11: 38622 | L11: - | M11: - | N11: - | X11: - | Y11: - | Z11: - | AA11: - | AB11: - | AC11: - | AD11: - | AE11: - | AF11: - | AQ11: X | AR11: X | AS11: X | AT11: X | AU11: X | AV11: X | AW11: =SUM(AP11:AR11,AT11:AV11) -> 0 | AX11: 2019. | AY11: 41640 | AZ11: 2019. | BA11: 42004 | BB11: Nidzica
A12: 7 | B12: LUBLIN D-25 | C12: OLY0227 | D12: p-pa | E12: 1994 | F12: 29.11.1994 | G12: bezterminowo | H12: - | I12: 0 / 400 | J12: - | K12: SUL62500AM0000312 | L12: - | M12: - | N12: - | X12: - | Y12: - | Z12: - | AA12: - | AB12: - | AC12: - | AD12: - | AE12: - | AF12: - | AQ12: X | AR12: X | AS12: X | AT12: X | AU12: X | AV12: X | AW12: =SUM(AP12:AR12,AT12:AV12) -> 0 | AX12: 2019. | AY12: 41640 | AZ12: 2019. | BA12: 42004 | BB12: Nidzica
A13: 8 | B13: Brenderup B03 | C13: NO2791L | D13: przyczepa lekka | E13: 2014 | F13: 14.01.2015 | G13: bezterminowo | I13: 0 / 430 | J13: 750 | K13: YU100B030FP502911 | M13: - | N13: - | X13: - | Y13: - | Z13: - | AA13: - | AB13: - | AC13: - | AD13: - | AE13: - | AF13: - | AQ13: X | AR13: X | AS13: X | AT13: X | AU13: X | AV13: X | AW13: =SUM(AP13:AR13,AT13:AV13) -> 0 | AX13: 2019. | AY13: 42383 | AZ13: 2020. | BA13: 42748 | BB13: Nidzica | BC13: Ubezpieczony: ZDW Olsztyn.
A14: 9 | B14: DAEWOO LANOS S | C14: NO12661 | D14: osob. | E14: 2000 | F14: 04.04.2001 | G14: 2.11.2016 | H14: 1498 / | I14: 5 / | J14: 1595 | K14: SUPTF69VDYW065955 | L14: A15DMS013404R | M14: 2 / 0 | N14: immobiliser | O14: 155401 | P14: 176400 | Q14: 195466 | R14: 211841 | S14: 230000 | T14: 242844 | U14: 256300 | V14: 270400 | W14: 275069 | X14: 279000 | Y14: 282000 | Z14: - | AA14: - | AB14: - | AC14: - | AD14: - | AE14: - | AF14: 2100 | AG14: 2300 | AH14: 3000 | AI14: 3400 | AJ14: 4000 | AK14: 4600 | AL14: 5300 | AM14: 6400 | AN14: 8500 | AQ14: X | AR14: X | AS14: X | AT14: X | AU14: X | AV14: X | AW14: =SUM(AP14:AR14,AT14:AV14) -> 0 | AX14: 2019. | AY14: 41368 | AZ14: 2020. | BA14: 41732 | BB14: Nidzica | BC14: Ubezpieczony: ZDW Olsztyn
A15: 10 | B15: DAEWOO LANOS S | C15: NNIF502 | D15: osob. | E15: 2000 | F15: 05.04.2001 | G15: 09.04.2017 | H15: 1498 / | I15: 5 / | J15: 1595 | K15: SUPTF69VDYW065056 | L15: A15DMS034790R | M15: 2 / 0 | N15: immobiliser | O15: 119054 | P15: 143500 | Q15: 167526 | R15: 189958 | S15: 209000 | T15: 222377 | U15: 234000 | V15: 245700 | W15: 253873 | X15: 266000 | Y15: 275000 | Z15: - | AA15: - | AB15: - | AC15: - | AD15: - | AE15: - | AF15: 2300 | AG15: 2500 | AH15: 2800 | AI15: 3500 | AJ15: 4100 | AK15: 4800 | AL15: 5700 | AM15: 6800 | AN15: 9000 | AQ15: X | AR15: X | AS15: X | AT15: X | AU15: X | AV15: X | AW15: =SUM(AP15:AR15,AT15:AV15) -> 0 | AX15: 2019. | AY15: 41369 | AZ15: 2020. | BA15: 41733 | BB15: Nidzica
A16: 11 | B16: SAM | C16: OLY8943 | D16: p-pa | E16: 2000 | F16: 10.04.2000 | G16: bezterminowo | H16: - | I16: 0 / 540 | J16: 700 | K16: OTO100018 | L16: - | M16: - | N16: - | O16: - | P16: - | Q16: - | R16: - | S16: - | T16: - | U16: - | V16: - | W16: - | X16: - | Y16: - | Z16: - | AA16: - | AB16: - | AC16: - | AD16: - | AE16: - | AF16: - | AG16: - | AH16: - | AI16: - | AJ16: - | AK16: - | AL16: - | AM16: - | AN16: - | AQ16: X | AR16: X | AS16: X | AT16: X | AU16: X | AV16: X | AW16: =SUM(AP16:AR16,AT16:AV16) -> 0 | AX16: 2019. | AY16: 41374 | AZ16: 2020. | BA16: 41738 | BB16: Nidzica
A17: 12 | B17: Renault Kangoo Oasis 1,5 d | C17: NO1806H | D17: osob. | E17: 2012 | F17: 19.04.2012 | G17: 19.04.2017 | H17: 1461 / 66 | I17: 5 / 531 | J17: 1954 | K17: VF1KW25B547034818 | M17: 2 / 0 | N17: immobiliser autoalarm | O17: - | S17: - | T17: 6795 | U17: 23800 | V17: 52000 | W17: 88792 | X17: 122000 | Y17: 181000 | Z17: 19300 | AA17: 17400 | AB17: 19300 | AC17: 21600 | AD17: 24000 | AE17: 24000 | AF17: 27200 | AG17: 33000 | AH17: 37500 | AI17: 45000 | AJ17: 59955 | AQ17: X | AV17: X | AW17: =SUM(AP17:AR17,AT17:AV17) -> 0 | AX17: 2019. | AY17: 41383 | AZ17: 2020. | BA17: 41747 | BB17: Nidzica | BC17: Ubezpieczony: ZDW Olsztyn
A18: 13 | B18: Renault Kangoo Oasis 1,5 | C18: NO0035G | D18: osobowy | E18: 2011 | F18: 16.05.2011 | G18: - | H18: 1461 / 66 | I18: 5 / 528 | J18: 1954 | K18: VF1KW25B545144155 | L18: - | M18: 2 / 0 | N18: autoalarm immobiliser | O18: - | P18: - | Q18: - | R18: - | S18: 9500 | T18: 34728 | U18: 55200 | V18: 79400 | W18: 102187 | X18: 124000 | Y18: 165000 | Z18: 17200 | AA18: 16200 | AB18: 17200 | AC18: 20300 | AD18: 22600 | AE18: 22600 | AF18: 24600 | AG18: 28300 | AH18: 32000 | AI18: 36000 | AJ18: 45000 | AK18: 54899.98 | AL18: - | AM18: - | AN18: - | AQ18: X | AV18: X | AW18: =SUM(AP18:AR18,AT18:AV18) -> 0 | AX18: 2019. | AY18: 41410 | AZ18: 2020. | BA18: 41774 | BB18: Nidzica | BC18: Ubezpieczony: ZDW Olsztyn
A19: 14 | B19: Renault Kangoo Oasis 1,5 | C19: NO0034G | D19: osobowy | E19: 2011 | F19: 16.05.2011 | G19: - | H19: 1461 / 66 | I19: 5 / 528 | J19: 1954 | K19: VF1KW25B545183284 | L19: - | M19: 2 / 0 | N19: autoalarm immobiliser | O19: - | P19: - | Q19: - | R19: - | S19: 8500 | T19: 29096 | U19: 47300 | V19: 69600 | W19: 89138 | X19: 109000 | Y19: 147000 | Z19: 18000 | AA19: 17000 | AB19: 18000 | AC19: 20700 | AD19: 23000 | AE19: 23000 | AF19: 25100 | AG19: 28800 | AH19: 32000 | AI19: 37000 | AJ19: 45000 | AK19: 54899.98 | AL19: - | AM19: - | AN19: - | AQ19: X | AV19: X | AW19: =SUM(AP19:AR19,AT19:AV19) -> 0 | AX19: 2019. | AY19: 41410 | AZ19: 2020. | BA19: 41774 | BB19: Nidzica | BC19: Ubezpieczony: ZDW Olsztyn
A20: 15 | B20: Renault Trafic Pack Clim | C20: NO0036G | D20: ciężarowy | E20: 2011 | F20: 17.05.2011 | G20: - | H20: 1995 / 84 | I20: 6 / 1035 | J20: 2960 | K20: VF1FLBHB6BV413732 | L20: - | M20: 2 / 0 | N20: autoalarm immobiliser z transponderem | O20: - | P20: - | Q20: - | R20: - | S20: 8400 | T20: 29393 | U20: 48800 | V20: 71000 | W20: 93148 | X20: 113000 | Y20: 156000 | Z20: 29500 | AA20: 26900 | AB20: 29500 | AC20: 33300 | AD20: 37000 | AE20: 37000 | AF20: 40000 | AG20: 43500 | AH20: 51000 | AI20: 61000 | AJ20: 75000 | AK20: 113869.71 | AL20: - | AM20: - | AN20: - | AQ20: X | AV20: X | AW20: =SUM(AP20:AR20,AT20:AV20) -> 0 | AX20: 2019. | AY20: 41411 | AZ20: 2020. | BA20: 41775 | BB20: Nidzica | BC20: Ubezpieczony: ZDW Olsztyn
A21: 16 | B21: Renault Traffic Furgon Pack Clim 2,9t L2H1 dCi | C21: NO8176E | D21: ciężar. | E21: 2010 | F21: 10.06.2010 | G21: 10.06.2013 | H21: 1995 / 84 | I21: 6 / 860 | J21: 2960 | K21: VF1FLBHB6AV383810 | L21: - | M21: 2 / 0 | N21: autoalarm, immobiliser z transponderem | O21: - | P21: - | Q21: 1968 | R21: 6760 | S21: 31000 | T21: 52120 | U21: 73300 | V21: 98600 | W21: 124610 | X21: 149000 | Y21: 193000 | Z21: 25800 | AA21: 23500 | AB21: 25800 | AC21: 29300 | AD21: 32500 | AE21: 32500 | AF21: 34500 | AG21: 37100 | AH21: 42500 | AI21: 49000 | AJ21: 62000 | AK21: 80000 | AL21: 105950 | AM21: - | AN21: - | AQ21: X | AV21: X | AW21: =SUM(AP21:AR21,AT21:AV21) -> 0 | AX21: 2019. | AY21: 41435 | AZ21: 2020. | BA21: 41799 | BB21: Nidzica | BC21: Ubezpieczony: ZDW Olsztyn
A22: 17 | B22: NIEWIADÓW B750 7323T | C22: NNIE902 | D22: p-pa | E22: 2007 | F22: 15.06.2007 | G22: bezterminowo | H22: - | I22: 0 / 350 | J22: 550 | K22: SWNB750007E030798 | L22: - | M22: - | N22: - | O22: - | P22: - | Q22: - | R22: - | S22: - | T22: - | U22: - | V22: - | W22: - | X22: - | Y22: - | Z22: - | AA22: - | AB22: - | AC22: - | AD22: - | AE22: - | AF22: - | AG22: - | AH22: - | AI22: - | AJ22: - | AK22: - | AL22: - | AM22: - | AN22: - | AQ22: X | AR22: X | AS22: X | AT22: X | AU22: X | AV22: X | AW22: =SUM(AP22:AR22,AT22:AV22) -> 0 | AX22: 2019. | AY22: 41440 | AZ22: 2020. | BA22: 41804 | BB22: Nidzica
A23: 18 | B23: NIEWIADÓW B750 7323T | C23: NNIE903 | D23: p-pa | E23: 2007 | F23: 15.06.2007 | G23: bezterminowo | H23: - | I23: 0 / 350 | J23: 550 | K23: SWNB750007E030799 | L23: - | M23: - | N23: - | O23: - | P23: - | Q23: - | R23: - | S23: - | T23: - | U23: - | V23: - | W23: - | X23: - | Y23: - | Z23: - | AA23: - | AB23: - | AC23: - | AD23: - | AE23: - | AF23: - | AG23: - | AH23: - | AI23: - | AJ23: - | AK23: - | AL23: - | AM23: - | AN23: - | AQ23: X | AR23: X | AS23: X | AT23: X | AU23: X | AV23: X | AW23: =SUM(AP23:AR23,AT23:AV23) -> 0 | AX23: 2019. | AY23: 41440 | AZ23: 2020. | BA23: 41804 | BB23: Nidzica
A24: 19 | B24: NIEWIADÓW B750 7323T | C24: NNIE904 | D24: p-pa | E24: 2007 | F24: 15.06.2007 | G24: bezterminowo | H24: - | I24: 0 / 350 | J24: 550 | K24: SWNB750007E030803 | L24: - | M24: - | N24: - | O24: - | P24: - | Q24: - | R24: - | S24: - | T24: - | U24: - | V24: - | W24: - | X24: - | Y24: - | Z24: - | AA24: - | AB24: - | AC24: - | AD24: - | AE24: - | AF24: - | AG24: - | AH24: - | AI24: - | AJ24: - | AK24: - | AL24: - | AM24: - | AN24: - | AQ24: X | AR24: X | AS24: X | AT24: X | AU24: X | AV24: X | AW24: =SUM(AP24:AR24,AT24:AV24) -> 0 | AX24: 2019. | AY24: 41440 | AZ24: 2020. | BA24: 41804 | BB24: Nidzica
A25: 20 | B25: Wiola W3H | C25: NO0071P | D25: przyczepa lekka | E25: 2016 | F25: 30.08.2016 | H25: - | I25: 0 / 458 | J25: 750 | K25: SUCE4ASA4G1000239 | M25: - | N25: - | X25: - | Y25: - | Z25: 11150 | AA25: 9560 | AB25: 11150 | AC25: 13200 | AD25: 15900 | AE25: 15900 | AF25: 19919 | AG25: - | AO25: =7988 + 11931 -> 19919 | AQ25: X | AT25: X | AU25: X | AV25: X | AW25: =SUM(AP25:AR25,AT25:AV25) -> 0 | AX25: 2019. | AY25: 42612 | AZ25: 2020. | BA25: 42976 | BB25: Nidzica | BC25: przyczepa z dostosowaniem do przewozu tablicy ostrzegawczej typu U26C o wartości 6680 zł Ubezpieczony: ZDW Olsztyn. | BD25: Nie ujęty w planowanych - poza przetargiem. NOWY.
A26: 21 | B26: DAEWOO LANOS SX | C26: NO06643 | D26: osobowy | E26: 2000 | F26: 11.10.2000 | G26: 14.11.2016 | H26: 1598 / | I26: 5 / | J26: 1595 | K26: SUPTF696DYW123384 | L26: A16DMS015068R | M26: 2 / 0 | N26: autoalarm immobiliser | O26: 125704 | P26: 151900 | Q26: 181508 | R26: 206516 | S26: 235000 | T26: 255455 | U26: 279000 | V26: 302000 | X26: 331000 | Y26: 349000 | Z26: - | AA26: - | AB26: - | AC26: - | AD26: - | AE26: - | AF26: 2000 | AG26: 2300 | AH26: 3200 | AI26: 4000 | AJ26: 4600 | AK26: 5600 | AL26: 6600 | AM26: 7900 | AN26: 9500 | AQ26: X | AR26: X | AS26: X | AT26: X | AU26: X | AV26: X | AW26: =SUM(AP26:AR26,AT26:AV26) -> 0 | AX26: 2019. | AY26: 41558 | AZ26: 2020. | BA26: 41922 | BB26: Nidzica | BC26: Ubezpieczony: ZDW Olsztyn
A27: 22 | B27: LUBLIN III 3322 | C27: NNIC760 | D27: ciężarowy | E27: 2000 | F27: 12.10.2000 | G27: 10.11.2016 | H27: 2417 / 52 | I27: 9 / 900 | J27: 2900 | K27: SUL332212Y0043897 | L27: 91848/2000 | M27: 2 / 0 | N27: immobiliser | O27: 180433 | P27: 203500 | Q27: 228480 | R27: 246935 | S27: 268000 | T27: 286562 | U27: 302000 | V27: 322300 | X27: 34900 | Y27: 341000 | Z27: - | AA27: - | AB27: - | AC27: - | AD27: 3600 | AE27: 3600 | AF27: 4000 | AG27: 4800 | AH27: 6000 | AI27: 7000 | AJ27: 8500 | AK27: 10400 | AL27: 12000 | AM27: 13000 | AN27: 15500 | AQ27: X | AR27: X | AS27: X | AT27: X | AU27: X | AV27: X | AW27: =SUM(AP27:AR27,AT27:AV27) -> 0 | AX27: 2019. | AY27: 41559 | AZ27: 2020. | BA27: 41923 | BB27: Nidzica
A28: 23 | B28: Citroen Berlingo B9 VP XTR VTI 120 Kombi | C28: NNI17944 | D28: osobowy | E28: 2017 | F28: 13.10.2017 | H28: 1598 / 88 | I28: 5 / 680 | J28: 2000 | K28: VF77J5FS6HJ699346 | M28: 2 / 0 | N28: autoalarm immobiliser | Y28: 14000 | Z28: 40400 | AA28: 36500 | AB28: 40400 | AC28: 46500 | AD28: 64575 | AE28: 64575 | AO28: 64575 | AQ28: X | AW28: =SUM(AP28:AR28,AT28:AV28) -> 0 | AX28: 2019. | AY28: 43021 | AZ28: 2020. | BA28: 43020 | BB28: Nidzica
A29: 24 | B29: Hyundai i30 1.6 CVVT Comfort | C29: NO0183K | D29: osobowy | E29: 2013 | F29: 04.12.2013 | G29: 04.12.2016 | H29: 1591 / 88 | I29: 5 / | J29: 1820 | M29: 2 / 0 | N29: autoalarm immobiliser | O29: 7484 | P29: 27040 | Q29: 43000 | R29: 66300 | S29: 94469 | U29: 0 | V29: 22300 | W29: 46109 | X29: 69000 | Y29: 114000 | Z29: 27600 | AA29: 25500 | AB29: 27600 | AC29: 31000 | AD29: 35300 | AE29: 35300 | AF29: 40200 | AG29: 44300 | AH29: 52000 | AK29: 35000 | AL29: 41000 | AM29: 44600 | AN29: 60000 | AQ29: X | AW29: =SUM(AP29:AR29,AT29:AV29) -> 0 | AX29: 2019. | AY29: 41612 | AZ29: 2020. | BA29: 41976 | BB29: Nidzica | BC29: Ubezpieczony: ZDW Olsztyn
A30: 25 | B30: Renault Traffic Furgon Pack Clim 2,9t L2H1 dCi | C30: NO1738E | D30: ciężarowy | E30: 2009 | F30: 14.12.2009 | G30: 14.12.2016 | H30: 1995 / 84 | I30: 6 / 1235 | J30: 2960 | K30: VF1FLBHB69V361929 | L30: - | M30: 2 / 0 | N30: autoalarm, immobiliser z transponderem | O30: - | P30: - | Q30: 8012 | R30: 19174 | S30: 43900 | T30: 65808 | U30: 86500 | V30: 110700 | W30: 131228 | X30: 153000 | Y30: 193000 | Z30: 21300 | AA30: 19400 | AB30: 21300 | AC30: 23000 | AD30: 25500 | AE30: 25500 | AF30: 27400 | AG30: 29700 | AH30: 34000 | AI30: 42000 | AJ30: 48500 | AK30: 64000 | AL30: 77000 | AM30: 100333 | AN30: - | AQ30: X | AV30: X | AW30: =SUM(AP30:AR30,AT30:AV30) -> 0 | AX30: 2019. | AY30: 41622 | AZ30: 2020. | BA30: 41986 | BB30: Nidzica | BC30: Ubezpieczony: ZDW Olsztyn
A31: 26 | B31: WIOLA W-600H | C31: NO7986M | D31: przyczepa lekka | E31: 2015 | F31: 30.12.2015 | G31: bezterminowo | I31: 0 / 284 | J31: 500 | K31: SUCE3ASA3F1000540 | M31: - | N31: - | X31: - | Y31: - | Z31: 8470 | AA31: 7590 | AB31: 8470 | AC31: 9880 | AD31: 11700 | AE31: 11700 | AF31: =4500 + 9700 -> 14200 | AG31: 17650.5 | AO31: =5596.5 + 12054 -> 17650.5 | AQ31: X | AT31: X | AU31: X | AV31: X | AW31: =SUM(AP31:AR31,AT31:AV31) -> 0 | AX31: 2019. | AY31: 42719 | AZ31: 2020. | BA31: 43083 | BB31: Nidzica | BC31: przyczepa z dostosowaniem do przewozu tablicy ostrzegawczej typu U26C o wartości 5780 zł Ubezpieczony: ZDW Olsztyn. | BD31: jako nowy ubezpieczony od 15.12.2015. Nie ujęty w planowanych - poza przetargiem. OC w 2015 r, AC w 2016 - wyrównanie okresów ubezpieczenia
A32: 27 | B32: WIOLA W-600H | C32: NO7985M | D32: przyczepa lekka | E32: 2015 | F32: 30.12.2015 | I32: 0 / 284 | J32: 500 | K32: SUCE3ASA3F1000541 | M32: - | N32: - | X32: - | Y32: - | Z32: 8470 | AA32: 7590 | AB32: 8470 | AC32: 9880 | AD32: 11700 | AE32: 11700 | AF32: =4500 + 9700 -> 14200 | AG32: 17650.5 | AO32: =5596.5 + 12054 -> 17650.5 | AQ32: X | AT32: X | AU32: X | AV32: X | AW32: =SUM(AP32:AR32,AT32:AV32) -> 0 | AX32: 2019. | AY32: 42719 | AZ32: 2020. | BA32: 43083 | BB32: Nidzica | BC32: przyczepa z dostosowaniem do przewozu tablicy ostrzegawczej typu U26C o wartości 5780 zł Ubezpieczony: ZDW Olsztyn. | BD32: jako nowy ubezpieczony od 15.12.2015. Nie ujęty w planowanych - poza przetargiem. OC w 2015 r, AC w 2016 - wyrównanie okresów ubezpieczenia
A33: 28 | B33: Peugeot Boxer L3 335 Hdi | C33: NO7308M | D33: ciężarowy | E33: 2015 | F33: 30.12.2015 | H33: 2198 / 96 | I33: 3 / 1339 | J33: 3500 | K33: VF3YCTMAU12A28633 | M33: 2 / 0 | N33: autoalarm immobiliser | X33: 7100 | Y33: 32000 | Z33: 57400 | AA33: 51600 | AB33: 57400 | AC33: 65000 | AD33: 75000 | AE33: 75000 | AF33: 102000 | AG33: 117219 | AO33: 117219 | AQ33: X | AV33: X | AW33: =SUM(AP33:AR33,AT33:AV33) -> 0 | AX33: 2019. | AY33: 42722 | AZ33: 2020. | BA33: 43086 | BB33: Nidzica | BC33: Ubezpieczony: ZDW Olsztyn | BD33: Ubezpieczony: ZDW Olsztyn. NOWY - zakup w 12.2015 r. Ubezpieczony przed rejestracją. Rejestracja 30.12.2015 r.
A34: 29 | B34: Wiola W3 | C34: NNIY934 | D34: p-pa | E34: 2013 | F34: 18.12.2013 | G34: - | H34: - | I34: 0 / 410 | J34: 750 | K34: SUCW3F30FA2002582 | L34: - | M34: - | N34: - | O34: - | P34: - | Q34: - | R34: - | S34: - | T34: - | U34: - | V34: - | W34: - | X34: - | Y34: - | Z34: - | AA34: - | AB34: - | AC34: - | AD34: - | AE34: - | AF34: - | AG34: - | AH34: - | AI34: - | AJ34: - | AK34: - | AL34: - | AM34: - | AN34: - | AQ34: X | AR34: X | AS34: X | AT34: X | AU34: X | AV34: X | AW34: =SUM(AP34:AR34,AT34:AV34) -> 0 | AX34: 2019. | AY34: 41626 | AZ34: 2020. | BA34: 41990 | BB34: Nidzica
A35: 30 | B35: Blyss K200SH Columbia | C35: NNIYH92 | D35: przyczepa ciężarowa | E35: 2017 | F35: 21.12.2017 | I35: 0 / 1410 | J35: 2000 | K35: WB2C270P2H0023080 | M35: - | Y35: - | Z35: 9700 | AA35: 8300 | AB35: 9700 | AC35: 11700 | AD35: 14610 | AE35: 14610 | AO35: 14610 | AQ35: X | AT35: X | AU35: X | AV35: X | AW35: =SUM(AP35:AR35,AT35:AV35) -> 0 | AX35: 2019. | AY35: 43090 | AZ35: 2020. | BA35: 43454 | BB35: Nidzica
A36: 31 | B36: New Holland TD5.105 z wyposażeniem dodatkowym | C36: NO7164 | D36: ciągnik rolniczy | E36: 2014 | F36: 14.01.2015 | H36: 4485 / 78 | I36: 2 / | J36: 6500 | K36: ZEJN05357 | L36: 12357713 | W36: 387 | Z36: 156900 | AA36: 138900 | AB36: 156900 | AC36: 169000 | AD36: 191100 | AE36: 191100 | AF36: 219714 | AG36: 243360 | AH36: 278257 | AO36: 278257 | AQ36: X | AU36: X | AV36: X | AW36: =SUM(AP36:AR36,AT36:AV36) -> 0 | AX36: 2019. | AY36: 41630 | AZ36: 2020. | BA36: 41994 | BB36: Nidzica | BC36: Ubezpieczony: ZDW Olsztyn. Wyposażenie dodatkowe: myjka do znaków drogowych Pronar typ GM500 z wysięgnikiem, nr fabr. 0002, 2014 r. i kosiarka bijakowa do utrzymania poboczy Pronar GK110, nr fabr: 0015SM, 2014 r
AP37: =SUM(AP6:AP36) -> 0 | AQ37: X | AR37: =SUM(AR6:AR36) -> 0 | AS37: X | AT37: =SUM(AT6:AT36) -> 0 | AU37: =SUM(AU6:AU36) -> 0 | AV37: =SUM(AV6:AV36) -> 0 | AW37: =SUM(AW6:AW36) -> 0 | AX37: Razem 2019 rok
A38: * | B38: w przypadku bezskładkowego objęcia ochroną danego zakresu ubezpieczenia proszę wpisać 0 zł | AP38: =SUM(AP37:AV37) -> 0 | AX38: Ogółem 2019 rok
A39: 32 | B39: Rębak CPG5-EX z silnik. 25HP Honda V-Twin | C39: b/n | D39: przyczepa specjalist. | E39: 2014 | F39: - | G39: - | H39: - | I39: - | J39: - | K39: 18122014A | M39: - | N39: - | O39: - | P39: - | Q39: - | R39: - | S39: - | T39: - | U39: - | V39: - | W39: - | X39: - | Y39: - | Z39: - | AA39: - | AB39: - | AC39: - | AD39: - | AE39: - | AF39: - | AG39: - | AH39: - | AI39: - | AJ39: - | AK39: - | AL39: - | AM39: - | AN39: - | AO39: - | AQ39: X | AR39: X | AS39: X | AT39: X | AU39: X | AV39: X | AW39: =SUM(AP39:AR39,AT39:AV39) -> 0 | AX39: 2020. | AY39: 41640 | AZ39: 2020. | BA39: 42004 | BB39: Nidzica | BC39: rozdrabniacz do gałęzi
A40: 33 | B40: Kosiarka samobieżna Husqvarna TS342 | C40: b/n | D40: kosiarka | E40: 2015 | F40: - | G40: - | H40: - | I40: - | J40: - | K40: 111014A001246 | O40: - | P40: - | Q40: - | R40: - | S40: - | T40: - | U40: - | V40: - | W40: - | X40: - | Y40: - | Z40: - | AA40: - | AB40: - | AC40: - | AD40: - | AE40: - | AF40: - | AG40: - | AH40: - | AI40: - | AJ40: - | AK40: - | AL40: - | AM40: - | AN40: - | AO40: - | AQ40: X | AR40: X | AS40: X | AU40: X | AV40: X | AW40: =SUM(AP40:AR40,AT40:AV40) -> 0 | AX40: 2020. | AY40: 41640 | AZ40: 2020. | BA40: 42004 | BB40: Nidzica
A41: 34 | B41: URSUS C-385 | C41: OLM948B | D41: ciągnik rolniczy | E41: 1980 | F41: 12.02.1980 | G41: 09.09.2017 | H41: 4562 / | I41: 2 / 15200 | J41: 5170 | K41: 2303 | L41: 59968 | M41: 2 / 0 | N41: - | X41: - | Y41: - | Z41: - | AA41: - | AB41: - | AC41: - | AD41: - | AE41: - | AF41: - | AQ41: X | AR41: X | AS41: X | AU41: X | AV41: X | AW41: =SUM(AP41:AR41,AT41:AV41) -> 0 | AX41: 2020. | AY41: 41640 | AZ41: 2020. | BA41: 42004 | BB41: Nidzica
A42: 35 | B42: URSUS C-360 3P | C42: OLM796F | D42: ciągnik rolniczy | E42: 1985 | F42: 31.10.1985 | G42: 09.09.2017 | H42: 3120 / | I42: 1 / 10500 | J42: 2886 | K42: 540349 | L42: 394381 | M42: 2 / 0 | N42: - | X42: - | Y42: - | Z42: - | AA42: - | AB42: - | AC42: - | AD42: - | AE42: - | AF42: - | AQ42: X | AR42: X | AS42: X | AU42: X | AV42: X | AW42: =SUM(AP42:AR42,AT42:AV42) -> 0 | AX42: 2020. | AY42: 41640 | AZ42: 2020. | BA42: 42004 | BB42: Nidzica
A43: 36 | B43: AUTOSAN D-732 | C43: NNIY152 | D43: p-pa | E43: 1987 | F43: 19.11.1987 | G43: 25.07.2017 | H43: - | I43: 0 / 4000 | J43: 5630 | K43: 43969 | L43: - | M43: - | N43: - | X43: - | Y43: - | Z43: - | AA43: - | AB43: - | AC43: - | AD43: - | AE43: - | AF43: - | AQ43: X | AR43: X | AS43: X | AT43: X | AU43: X | AV43: X | AW43: =SUM(AP43:AR43,AT43:AV43) -> 0 | AX43: 2020. | AY43: 41640 | AZ43: 2020. | BA43: 42004 | BB43: Nidzica
A44: 37 | B44: AUTOSAN D-732 | C44: NNIY151 | D44: p-pa | E44: 1987 | F44: 20.05.1987 | G44: 25.07.2017 | H44: - | I44: 0 / 4000 | J44: 5630 | K44: 38622 | L44: - | M44: - | N44: - | X44: - | Y44: - | Z44: - | AA44: - | AB44: - | AC44: - | AD44: - | AE44: - | AF44: - | AQ44: X | AR44: X | AS44: X | AT44: X | AU44: X | AV44: X | AW44: =SUM(AP44:AR44,AT44:AV44) -> 0 | AX44: 2020. | AY44: 41640 | AZ44: 2020. | BA44: 42004 | BB44: Nidzica
A45: 38 | B45: LUBLIN D-25 | C45: OLY0227 | D45: p-pa | E45: 1994 | F45: 29.11.1994 | G45: bezterminowo | H45: - | I45: 0 / 400 | J45: - | K45: SUL62500AM0000312 | L45: - | M45: - | N45: - | X45: - | Y45: - | Z45: - | AA45: - | AB45: - | AC45: - | AD45: - | AE45: - | AF45: - | AQ45: X | AR45: X | AS45: X | AT45: X | AU45: X | AV45: X | AW45: =SUM(AP45:AR45,AT45:AV45) -> 0 | AX45: 2020. | AY45: 41640 | AZ45: 2020. | BA45: 42004 | BB45: Nidzica
A46: 39 | B46: Brenderup B03 | C46: NO2791L | D46: przyczepa lekka | E46: 2014 | F46: 14.01.2015 | G46: bezterminowo | I46: 0 / 430 | J46: 750 | K46: YU100B030FP502911 | M46: - | N46: - | X46: - | Y46: - | Z46: - | AA46: - | AB46: - | AC46: - | AD46: - | AE46: - | AF46: - | AQ46: X | AR46: X | AS46: X | AT46: X | AU46: X | AV46: X | AW46: =SUM(AP46:AR46,AT46:AV46) -> 0 | AX46: 2020. | AY46: 42383 | AZ46: 2021. | BA46: 42748 | BB46: Nidzica | BC46: Ubezpieczony: ZDW Olsztyn.
A47: 40 | B47: DAEWOO LANOS S | C47: NO12661 | D47: osob. | E47: 2000 | F47: 04.04.2001 | G47: 2.11.2016 | H47: 1498 / | I47: 5 / | J47: 1595 | K47: SUPTF69VDYW065955 | L47: A15DMS013404R | M47: 2 / 0 | N47: immobiliser | O47: 155401 | P47: 176400 | Q47: 195466 | R47: 211841 | S47: 230000 | T47: 242844 | U47: 256300 | V47: 270400 | W47: 275069 | X47: 279000 | Y47: 282000 | Z47: - | AA47: - | AB47: - | AC47: - | AD47: - | AE47: - | AF47: 2100 | AG47: 2300 | AH47: 3000 | AI47: 3400 | AJ47: 4000 | AK47: 4600 | AL47: 5300 | AM47: 6400 | AN47: 8500 | AQ47: X | AR47: X | AS47: X | AT47: X | AU47: X | AV47: X | AW47: =SUM(AP47:AR47,AT47:AV47) -> 0 | AX47: 2020. | AY47: 41368 | AZ47: 2021. | BA47: 41732 | BB47: Nidzica | BC47: Ubezpieczony: ZDW Olsztyn
A48: 41 | B48: DAEWOO LANOS S | C48: NNIF502 | D48: osob. | E48: 2000 | F48: 05.04.2001 | G48: 09.04.2017 | H48: 1498 / | I48: 5 / | J48: 1595 | K48: SUPTF69VDYW065056 | L48: A15DMS034790R | M48: 2 / 0 | N48: immobiliser | O48: 119054 | P48: 143500 | Q48: 167526 | R48: 189958 | S48: 209000 | T48: 222377 | U48: 234000 | V48: 245700 | W48: 253873 | X48: 266000 | Y48: 275000 | Z48: - | AA48: - | AB48: - | AC48: - | AD48: - | AE48: - | AF48: 2300 | AG48: 2500 | AH48: 2800 | AI48: 3500 | AJ48: 4100 | AK48: 4800 | AL48: 5700 | AM48: 6800 | AN48: 9000 | AQ48: X | AR48: X | AS48: X | AT48: X | AU48: X | AV48: X | AW48: =SUM(AP48:AR48,AT48:AV48) -> 0 | AX48: 2020. | AY48: 41369 | AZ48: 2021. | BA48: 41733 | BB48: Nidzica
A49: 42 | B49: SAM | C49: OLY8943 | D49: p-pa | E49: 2000 | F49: 10.04.2000 | G49: bezterminowo | H49: - | I49: 0 / 540 | J49: 700 | K49: OTO100018 | L49: - | M49: - | N49: - | O49: - | P49: - | Q49: - | R49: - | S49: - | T49: - | U49: - | V49: - | W49: - | X49: - | Y49: - | Z49: - | AA49: - | AB49: - | AC49: - | AD49: - | AE49: - | AF49: - | AG49: - | AH49: - | AI49: - | AJ49: - | AK49: - | AL49: - | AM49: - | AN49: - | AQ49: X | AR49: X | AS49: X | AT49: X | AU49: X | AV49: X | AW49: =SUM(AP49:AR49,AT49:AV49) -> 0 | AX49: 2020. | AY49: 41374 | AZ49: 2021. | BA49: 41738 | BB49: Nidzica
A50: 43 | B50: Renault Kangoo Oasis 1,5 d | C50: NO1806H | D50: osob. | E50: 2012 | F50: 19.04.2012 | G50: 19.04.2017 | H50: 1461 / 66 | I50: 5 / 531 | J50: 1954 | K50: VF1KW25B547034818 | M50: 2 / 0 | N50: immobiliser autoalarm | O50: - | S50: - | T50: 6795 | U50: 23800 | V50: 52000 | W50: 88792 | X50: 122000 | Y50: 181000 | Z50: 17400 | AA50: 17400 | AB50: 19300 | AC50: 21600 | AD50: 24000 | AE50: 24000 | AF50: 27200 | AG50: 33000 | AH50: 37500 | AI50: 45000 | AJ50: 59955 | AQ50: X | AV50: X | AW50: =SUM(AP50:AR50,AT50:AV50) -> 0 | AX50: 2020. | AY50: 41383 | AZ50: 2021. | BA50: 41747 | BB50: Nidzica | BC50: Ubezpieczony: ZDW Olsztyn
A51: 44 | B51: Renault Kangoo Oasis 1,5 | C51: NO0035G | D51: osobowy | E51: 2011 | F51: 16.05.2011 | G51: - | H51: 1461 / 66 | I51: 5 / 528 | J51: 1954 | K51: VF1KW25B545144155 | L51: - | M51: 2 / 0 | N51: autoalarm immobiliser | O51: - | P51: - | Q51: - | R51: - | S51: 9500 | T51: 34728 | U51: 55200 | V51: 79400 | W51: 102187 | X51: 124000 | Y51: 165000 | Z51: 16200 | AA51: 16200 | AB51: 17200 | AC51: 20300 | AD51: 22600 | AE51: 22600 | AF51: 24600 | AG51: 28300 | AH51: 32000 | AI51: 36000 | AJ51: 45000 | AK51: 54899.98 | AL51: - | AM51: - | AN51: - | AQ51: X | AV51: X | AW51: =SUM(AP51:AR51,AT51:AV51) -> 0 | AX51: 2020. | AY51: 41410 | AZ51: 2021. | BA51: 41774 | BB51: Nidzica | BC51: Ubezpieczony: ZDW Olsztyn
A52: 45 | B52: Renault Kangoo Oasis 1,5 | C52: NO0034G | D52: osobowy | E52: 2011 | F52: 16.05.2011 | G52: - | H52: 1461 / 66 | I52: 5 / 528 | J52: 1954 | K52: VF1KW25B545183284 | L52: - | M52: 2 / 0 | N52: autoalarm immobiliser | O52: - | P52: - | Q52: - | R52: - | S52: 8500 | T52: 29096 | U52: 47300 | V52: 69600 | W52: 89138 | X52: 109000 | Y52: 147000 | Z52: 17000 | AA52: 17000 | AB52: 18000 | AC52: 20700 | AD52: 23000 | AE52: 23000 | AF52: 25100 | AG52: 28800 | AH52: 32000 | AI52: 37000 | AJ52: 45000 | AK52: 54899.98 | AL52: - | AM52: - | AN52: - | AQ52: X | AV52: X | AW52: =SUM(AP52:AR52,AT52:AV52) -> 0 | AX52: 2020. | AY52: 41410 | AZ52: 2021. | BA52: 41774 | BB52: Nidzica | BC52: Ubezpieczony: ZDW Olsztyn
A53: 46 | B53: Renault Trafic Pack Clim | C53: NO0036G | D53: ciężarowy | E53: 2011 | F53: 17.05.2011 | G53: - | H53: 1995 / 84 | I53: 6 / 1035 | J53: 2960 | K53: VF1FLBHB6BV413732 | L53: - | M53: 2 / 0 | N53: autoalarm immobiliser z transponderem | O53: - | P53: - | Q53: - | R53: - | S53: 8400 | T53: 29393 | U53: 48800 | V53: 71000 | W53: 93148 | X53: 113000 | Y53: 156000 | Z53: 26900 | AA53: 26900 | AB53: 29500 | AC53: 33300 | AD53: 37000 | AE53: 37000 | AF53: 40000 | AG53: 43500 | AH53: 51000 | AI53: 61000 | AJ53: 75000 | AK53: 113869.71 | AL53: - | AM53: - | AN53: - | AQ53: X | AV53: X | AW53: =SUM(AP53:AR53,AT53:AV53) -> 0 | AX53: 2020. | AY53: 41411 | AZ53: 2021. | BA53: 41775 | BB53: Nidzica | BC53: Ubezpieczony: ZDW Olsztyn
A54: 47 | B54: Renault Traffic Furgon Pack Clim 2,9t L2H1 dCi | C54: NO8176E | D54: ciężar. | E54: 2010 | F54: 10.06.2010 | G54: 10.06.2013 | H54: 1995 / 84 | I54: 6 / 860 | J54: 2960 | K54: VF1FLBHB6AV383810 | L54: - | M54: 2 / 0 | N54: autoalarm, immobiliser z transponderem | O54: - | P54: - | Q54: 1968 | R54: 6760 | S54: 31000 | T54: 52120 | U54: 73300 | V54: 98600 | W54: 124610 | X54: 149000 | Y54: 193000 | Z54: 23500 | AA54: 23500 | AB54: 25800 | AC54: 29300 | AD54: 32500 | AE54: 32500 | AF54: 34500 | AG54: 37100 | AH54: 42500 | AI54: 49000 | AJ54: 62000 | AK54: 80000 | AL54: 105950 | AM54: - | AN54: - | AQ54: X | AV54: X | AW54: =SUM(AP54:AR54,AT54:AV54) -> 0 | AX54: 2020. | AY54: 41435 | AZ54: 2021. | BA54: 41799 | BB54: Nidzica | BC54: Ubezpieczony: ZDW Olsztyn
A55: 48 | B55: NIEWIADÓW B750 7323T | C55: NNIE902 | D55: p-pa | E55: 2007 | F55: 15.06.2007 | G55: bezterminowo | H55: - | I55: 0 / 350 | J55: 550 | K55: SWNB750007E030798 | L55: - | M55: - | N55: - | O55: - | P55: - | Q55: - | R55: - | S55: - | T55: - | U55: - | V55: - | W55: - | X55: - | Y55: - | Z55: - | AA55: - | AB55: - | AC55: - | AD55: - | AE55: - | AF55: - | AG55: - | AH55: - | AI55: - | AJ55: - | AK55: - | AL55: - | AM55: - | AN55: - | AQ55: X | AR55: X | AS55: X | AT55: X | AU55: X | AV55: X | AW55: =SUM(AP55:AR55,AT55:AV55) -> 0 | AX55: 2020. | AY55: 41440 | AZ55: 2021. | BA55: 41804 | BB55: Nidzica
A56: 49 | B56: NIEWIADÓW B750 7323T | C56: NNIE903 | D56: p-pa | E56: 2007 | F56: 15.06.2007 | G56: bezterminowo | H56: - | I56: 0 / 350 | J56: 550 | K56: SWNB750007E030799 | L56: - | M56: - | N56: - | O56: - | P56: - | Q56: - | R56: - | S56: - | T56: - | U56: - | V56: - | W56: - | X56: - | Y56: - | Z56: - | AA56: - | AB56: - | AC56: - | AD56: - | AE56: - | AF56: - | AG56: - | AH56: - | AI56: - | AJ56: - | AK56: - | AL56: - | AM56: - | AN56: - | AQ56: X | AR56: X | AS56: X | AT56: X | AU56: X | AV56: X | AW56: =SUM(AP56:AR56,AT56:AV56) -> 0 | AX56: 2020. | AY56: 41440 | AZ56: 2021. | BA56: 41804 | BB56: Nidzica
A57: 50 | B57: NIEWIADÓW B750 7323T | C57: NNIE904 | D57: p-pa | E57: 2007 | F57: 15.06.2007 | G57: bezterminowo | H57: - | I57: 0 / 350 | J57: 550 | K57: SWNB750007E030803 | L57: - | M57: - | N57: - | O57: - | P57: - | Q57: - | R57: - | S57: - | T57: - | U57: - | V57: - | W57: - | X57: - | Y57: - | Z57: - | AA57: - | AB57: - | AC57: - | AD57: - | AE57: - | AF57: - | AG57: - | AH57: - | AI57: - | AJ57: - | AK57: - | AL57: - | AM57: - | AN57: - | AQ57: X | AR57: X | AS57: X | AT57: X | AU57: X | AV57: X | AW57: =SUM(AP57:AR57,AT57:AV57) -> 0 | AX57: 2020. | AY57: 41440 | AZ57: 2021. | BA57: 41804 | BB57: Nidzica
A58: 51 | B58: Wiola W3H | C58: NO0071P | D58: przyczepa lekka | E58: 2016 | F58: 30.08.2016 | H58: - | I58: 0 / 458 | J58: 750 | K58: SUCE4ASA4G1000239 | M58: - | N58: - | X58: - | Y58: - | Z58: 9560 | AA58: 9560 | AB58: 11150 | AC58: 13200 | AD58: 15900 | AE58: 15900 | AF58: 19919 | AG58: - | AO58: =7988 + 11931 -> 19919 | AQ58: X | AT58: X | AU58: X | AV58: X | AW58: =SUM(AP58:AR58,AT58:AV58) -> 0 | AX58: 2020. | AY58: 42612 | AZ58: 2021. | BA58: 42976 | BB58: Nidzica | BC58: przyczepa z dostosowaniem do przewozu tablicy ostrzegawczej typu U26C o wartości 5730 zł Ubezpieczony: ZDW Olsztyn. | BD58: Nie ujęty w planowanych - poza przetargiem. NOWY.
A59: 52 | B59: DAEWOO LANOS SX | C59: NO06643 | D59: osobowy | E59: 2000 | F59: 11.10.2000 | G59: 14.11.2016 | H59: 1598 / | I59: 5 / | J59: 1595 | K59: SUPTF696DYW123384 | L59: A16DMS015068R | M59: 2 / 0 | N59: autoalarm immobiliser | O59: 125704 | P59: 151900 | Q59: 181508 | R59: 206516 | S59: 235000 | T59: 255455 | U59: 279000 | V59: 302000 | X59: 331000 | Y59: 349000 | Z59: - | AA59: - | AB59: - | AC59: - | AD59: - | AE59: - | AF59: 2000 | AG59: 2300 | AH59: 3200 | AI59: 4000 | AJ59: 4600 | AK59: 5600 | AL59: 6600 | AM59: 7900 | AN59: 9500 | AQ59: X | AR59: X | AS59: X | AT59: X | AU59: X | AV59: X | AW59: =SUM(AP59:AR59,AT59:AV59) -> 0 | AX59: 2020. | AY59: 41558 | AZ59: 2021. | BA59: 41922 | BB59: Nidzica | BC59: Ubezpieczony: ZDW Olsztyn
A60: 53 | B60: LUBLIN III 3322 | C60: NNIC760 | D60: ciężarowy | E60: 2000 | F60: 12.10.2000 | G60: 10.11.2016 | H60: 2417 / 52 | I60: 9 / 900 | J60: 2900 | K60: SUL332212Y0043897 | L60: 91848/2000 | M60: 2 / 0 | N60: immobiliser | O60: 180433 | P60: 203500 | Q60: 228480 | R60: 246935 | S60: 268000 | T60: 286562 | U60: 302000 | V60: 322300 | X60: 34900 | Y60: 341000 | Z60: - | AA60: - | AB60: - | AC60: - | AD60: 3600 | AE60: 3600 | AF60: 4000 | AG60: 4800 | AH60: 6000 | AI60: 7000 | AJ60: 8500 | AK60: 10400 | AL60: 12000 | AM60: 13000 | AN60: 15500 | AQ60: X | AR60: X | AS60: X | AT60: X | AU60: X | AV60: X | AW60: =SUM(AP60:AR60,AT60:AV60) -> 0 | AX60: 2020. | AY60: 41559 | AZ60: 2021. | BA60: 41923 | BB60: Nidzica
A61: 54 | B61: Citroen Berlingo B9 VP XTR VTI 120 Kombi | C61: NNI17944 | D61: osobowy | E61: 2017 | F61: 13.10.2017 | H61: 1598 / 88 | I61: 5 / 680 | J61: 2000 | K61: VF77J5FS6HJ699346 | M61: 2 / 0 | N61: autoalarm immobiliser | Y61: 14000 | Z61: 36500 | AA61: 36500 | AB61: 40400 | AC61: 46500 | AD61: 64575 | AE61: 64575 | AO61: 64575 | AQ61: X | AW61: =SUM(AP61:AR61,AT61:AV61) -> 0 | AX61: 2020. | AY61: 43021 | AZ61: 2021. | BA61: 43020 | BB61: Nidzica
A62: 55 | B62: Hyundai i30 1.6 CVVT Comfort | C62: NO0183K | D62: osobowy | E62: 2013 | F62: 04.12.2013 | G62: 04.12.2016 | H62: 1591 / 88 | I62: 5 / | J62: 1820 | M62: 2 / 0 | N62: autoalarm immobiliser | O62: 7484 | P62: 27040 | Q62: 43000 | R62: 66300 | S62: 94469 | U62: 0 | V62: 22300 | W62: 46109 | X62: 69000 | Y62: 114000 | Z62: 25500 | AA62: 25500 | AB62: 27600 | AC62: 31000 | AD62: 35300 | AE62: 35300 | AF62: 40200 | AG62: 44300 | AH62: 52000 | AK62: 35000 | AL62: 41000 | AM62: 44600 | AN62: 60000 | AQ62: X | AW62: =SUM(AP62:AR62,AT62:AV62) -> 0 | AX62: 2020. | AY62: 41612 | AZ62: 2021. | BA62: 41976 | BB62: Nidzica | BC62: Ubezpieczony: ZDW Olsztyn
A63: 56 | B63: Renault Traffic Furgon Pack Clim 2,9t L2H1 dCi | C63: NO1738E | D63: ciężarowy | E63: 2009 | F63: 14.12.2009 | G63: 14.12.2016 | H63: 1995 / 84 | I63: 6 / 1235 | J63: 2960 | K63: VF1FLBHB69V361929 | L63: - | M63: 2 / 0 | N63: autoalarm, immobiliser z transponderem | O63: - | P63: - | Q63: 8012 | R63: 19174 | S63: 43900 | T63: 65808 | U63: 86500 | V63: 110700 | W63: 131228 | X63: 153000 | Y63: 193000 | Z63: 19400 | AA63: 19400 | AB63: 21300 | AC63: 23000 | AD63: 25500 | AE63: 25500 | AF63: 27400 | AG63: 29700 | AH63: 34000 | AI63: 42000 | AJ63: 48500 | AK63: 64000 | AL63: 77000 | AM63: 100333 | AN63: - | AQ63: X | AV63: X | AW63: =SUM(AP63:AR63,AT63:AV63) -> 0 | AX63: 2020. | AY63: 41622 | AZ63: 2021. | BA63: 41986 | BB63: Nidzica | BC63: Ubezpieczony: ZDW Olsztyn
A64: 57 | B64: WIOLA W-600H | C64: NO7986M | D64: przyczepa lekka | E64: 2015 | F64: 30.12.2015 | G64: bezterminowo | I64: 0 / 284 | J64: 500 | K64: SUCE3ASA3F1000540 | M64: - | N64: - | X64: - | Y64: - | Z64: 7590 | AA64: 7590 | AB64: 8470 | AC64: 9880 | AD64: 11700 | AE64: 11700 | AF64: =4500 + 9700 -> 14200 | AG64: 17650.5 | AO64: =5596.5 + 12054 -> 17650.5 | AQ64: X | AT64: X | AU64: X | AV64: X | AW64: =SUM(AP64:AR64,AT64:AV64) -> 0 | AX64: 2020. | AY64: 42719 | AZ64: 2021. | BA64: 43083 | BB64: Nidzica | BC64: przyczepa z dostosowaniem do przewozu tablicy ostrzegawczej typu U26C o wartości 5180 zł Ubezpieczony: ZDW Olsztyn. | BD64: jako nowy ubezpieczony od 15.12.2015. Nie ujęty w planowanych - poza przetargiem. OC w 2015 r, AC w 2016 - wyrównanie okresów ubezpieczenia
A65: 58 | B65: WIOLA W-600H | C65: NO7985M | D65: przyczepa lekka | E65: 2015 | F65: 30.12.2015 | I65: 0 / 284 | J65: 500 | K65: SUCE3ASA3F1000541 | M65: - | N65: - | X65: - | Y65: - | Z65: 7590 | AA65: 7590 | AB65: 8470 | AC65: 9880 | AD65: 11700 | AE65: 11700 | AF65: =4500 + 9700 -> 14200 | AG65: 17650.5 | AO65: =5596.5 + 12054 -> 17650.5 | AQ65: X | AT65: X | AU65: X | AV65: X | AW65: =SUM(AP65:AR65,AT65:AV65) -> 0 | AX65: 2020. | AY65: 42719 | AZ65: 2021. | BA65: 43083 | BB65: Nidzica | BC65: przyczepa z dostosowaniem do przewozu tablicy ostrzegawczej typu U26C o wartości 5180 zł Ubezpieczony: ZDW Olsztyn. | BD65: jako nowy ubezpieczony od 15.12.2015. Nie ujęty w planowanych - poza przetargiem. OC w 2015 r, AC w 2016 - wyrównanie okresów ubezpieczenia
A66: 59 | B66: Peugeot Boxer L3 335 Hdi | C66: NO7308M | D66: ciężarowy | E66: 2015 | F66: 30.12.2015 | H66: 2198 / 96 | I66: 3 / 1339 | J66: 3500 | K66: VF3YCTMAU12A28633 | M66: 2 / 0 | N66: autoalarm immobiliser | X66: 7100 | Y66: 32000 | Z66: 51600 | AA66: 51600 | AB66: 57400 | AC66: 65000 | AD66: 75000 | AE66: 75000 | AF66: 102000 | AG66: 117219 | AO66: 117219 | AQ66: X | AV66: X | AW66: =SUM(AP66:AR66,AT66:AV66) -> 0 | AX66: 2020. | AY66: 42722 | AZ66: 2021. | BA66: 43086 | BB66: Nidzica | BC66: Ubezpieczony: ZDW Olsztyn | BD66: Ubezpieczony: ZDW Olsztyn. NOWY - zakup w 12.2015 r. Ubezpieczony przed rejestracją. Rejestracja 30.12.2015 r.
A67: 60 | B67: Wiola W3 | C67: NNIY934 | D67: p-pa | E67: 2013 | F67: 18.12.2013 | G67: - | H67: - | I67: 0 / 410 | J67: 750 | K67: SUCW3F30FA2002582 | L67: - | M67: - | N67: - | O67: - | P67: - | Q67: - | R67: - | S67: - | T67: - | U67: - | V67: - | W67: - | X67: - | Y67: - | Z67: - | AA67: - | AB67: - | AC67: - | AD67: - | AE67: - | AF67: - | AG67: - | AH67: - | AI67: - | AJ67: - | AK67: - | AL67: - | AM67: - | AN67: - | AQ67: X | AR67: X | AS67: X | AT67: X | AU67: X | AV67: X | AW67: =SUM(AP67:AR67,AT67:AV67) -> 0 | AX67: 2020. | AY67: 41626 | AZ67: 2021. | BA67: 41990 | BB67: Nidzica
A68: 61 | B68: Blyss K200SH Columbia | C68: NNIYH92 | D68: przyczepa ciężarowa | E68: 2017 | F68: 21.12.2017 | I68: 0 / 1410 | J68: 2000 | K68: WB2C270P2H0023080 | M68: - | Y68: - | Z68: 8300 | AA68: 8300 | AB68: 9700 | AC68: 11700 | AD68: 14610 | AE68: 14610 | AO68: 14610 | AQ68: X | AT68: X | AU68: X | AV68: X | AW68: =SUM(AP68:AR68,AT68:AV68) -> 0 | AX68: 2020. | AY68: 43090 | AZ68: 2021. | BA68: 43454 | BB68: Nidzica
A69: 62 | B69: New Holland TD5.105 z wyposażeniem dodatkowym | C69: NO7164 | D69: ciągnik rolniczy | E69: 2014 | F69: 14.01.2015 | H69: 4485 / 78 | I69: 2 / | J69: 6500 | K69: ZEJN05357 | L69: 12357713 | W69: 387 | Z69: 138900 | AA69: 138900 | AB69: 156900 | AC69: 169000 | AD69: 191100 | AE69: 191100 | AF69: 219714 | AG69: 243360 | AH69: 278257 | AO69: 278257 | AQ69: X | AU69: X | AV69: X | AW69: =SUM(AP69:AR69,AT69:AV69) -> 0 | AX69: 2020. | AY69: 41630 | AZ69: 2021. | BA69: 41994 | BB69: Nidzica | BC69: Ubezpieczony: ZDW Olsztyn. Wyposażenie dodatkowe: myjka do znaków drogowych Pronar typ GM500 z wysięgnikiem, nr fabr. 0002, 2014 r. i kosiarka bijakowa do utrzymania poboczy Pronar GK110, nr fabr: 0015SM, 2014 r
AP70: =SUM(AP39:AP69) -> 0 | AQ70: X | AR70: =SUM(AR39:AR69) -> 0 | AS70: X | AT70: =SUM(AT39:AT69) -> 0 | AU70: =SUM(AU39:AU69) -> 0 | AV70: =SUM(AV39:AV69) -> 0 | AW70: =SUM(AW39:AW69) -> 0 | AX70: Razem 2020 rok
A71: * | B71: w przypadku bezskładkowego objęcia ochroną danego zakresu ubezpieczenia proszę wpisać 0 zł | AP71: =SUM(AP70:AV70) -> 0 | AX71: Ogółem 2020 rok
AP72: =SUM(AP37,AP70) -> 0 | AQ72: X | AR72: =SUM(AR37,AR70) -> 0 | AS72: X | AT72: =SUM(AT37,AT70) -> 0 | AU72: =SUM(AU37,AU70) -> 0 | AV72: =SUM(AV37,AV70) -> 0 | AW72: =SUM(AW37,AW70) -> 0 | AX72: Łącznie za 2 lata
AP73: =SUM(AP72:AV72) -> 0
Z75: =SUM(Z6:Z36) -> 451190
Z76: =SUM(Z39:Z69) -> 405940
Z77: =SUM(Z75:Z76) -> 857130

Sheet OLECKO
A1: Załącznik nr 2e do OPZ Załącznik nr 2e do Umowy
A2: WYKAZ POJAZDÓW ZARZĄDU DRÓG WOJEWÓDZKICH W OLSZTYNIE REJON DRÓG W OLECKU DO UBEZPIECZENIA NA LATA 2019-2020
A3: 4 | B3: 20 | C3: 8 | D3: 8 | E3: 5 | F3: 8 | G3: 8 | H3: 8 | I3: 9 | J3: 9 | K3: 9 | L3: 9 | M3: 8 | N3: 11 | O3: 7 | P3: 7 | Q3: 7 | R3: 7 | S3: 7 | T3: 7 | U3: 7 | V3: 7 | W3: 7 | X3: 7 | Y3: 7 | Z3: 9 | AA3: 7 | AB3: 7 | AC3: 7 | AD3: 9 | AE3: 7 | AF3: 7 | AG3: 7 | AH3: 7 | AI3: 7 | AJ3: 7 | AK3: 7 | AL3: 7 | AM3: 7 | AN3: 7 | AO3: 7 | AP3: 8 | AQ3: 8 | AR3: 8 | AS3: 8 | AT3: 8 | AU3: 8 | AV3: 8 | AW3: 9 | AX3: 4 | AY3: 4 | AZ3: 4 | BA3: 4 | BB3: 7 | BC3: 31
A4: lp | B4: Marka, model, typ pojazdu | C4: Nr rejestr. | D4: Rodzaj | E4: Rok prod. | F4: Data I rejestr. | G4: Data bad. techn. | H4: Poj. silnika / moc [kW] | I4: Liczba miejsc / ładowność w kg | J4: DMC [kg] | K4: Nr nadwozia | L4: Nr silnika | M4: Liczba kluczyków | N4: Zabezpiecz. | O4: Przebieg w km | P4: Przebieg w km 11.2008 | Q4: Przebieg w km 11.2009 | R4: Przebieg w km 11.2010 | S4: Przebieg 10.2011 [km] | T4: Przebieg 10.2012 [km] | U4: Przebieg 09.2013 [km] | V4: Przebieg 09.2014 [km] | W4: Przebieg 10.2015 [km] | X4: Przebieg 10.2016 [km] | Y4: Przebieg 06.2018 [km] | Z4: Wartość z VAT [zł] | AA4: Wartość 2020 | AB4: Wartość 2019 | AC4: Wartość 2018 | AD4: Wartość z VAT - 2 lata - 2017 i 2018 [zł] | AE4: Wartość 2017 | AF4: Wartość 2016 | AG4: Wartość 2015 | AH4: Wartość 2014 | AI4: Wartość 2013 | AJ4: Wartość 2012 | AK4: Wartość 2011 | AL4: Wartość 2010 | AM4: Wartość 2008/2009 | AN4: Wartość 2007/2008 | AO4: Wartość nowa | AP4: Składka [zł] * | AX4: Okres ubezpieczenia | BB4: Rejon | BC4: Uwagi
J5: dopuszczalna masa całkowita | M5: oryg./ nieoryg. | AP5: OC | AQ5: ZK zielona karta | AR5: AC | AS5: AC - % SU | AT5: NNW | AU5: Assistance podstawowy | AV5: Assistance rozszerzony | AW5: Łącznie za pojazd | AX5: od | AZ5: do
A6: 1 | B6: Kosiarka samobieżna Husqvarna TS342 | C6: b/n | D6: kosiarka | E6: 2014 | F6: - | G6: - | H6: - | I6: - | J6: - | K6: - | L6: - | M6: - | N6: - | O6: - | P6: - | Q6: - | R6: - | S6: - | T6: - | U6: - | V6: - | W6: - | X6: - | Y6: - | Z6: - | AA6: - | AB6: - | AC6: - | AD6: - | AE6: - | AF6: - | AG6: - | AH6: - | AI6: - | AJ6: - | AK6: - | AL6: - | AM6: - | AN6: - | AO6: - | AQ6: X | AR6: X | AS6: X | AU6: X | AV6: X | AW6: =SUM(AP6:AR6,AT6:AV6) -> 0 | AX6: 2019. | AY6: 42736 | AZ6: 2019. | BA6: 43100 | BB6: Olecko
A7: 2 | B7: Kosiarka samobieżna Husqvarna TS342 | C7: b/n | D7: kosiarka | E7: 2014 | F7: - | G7: - | H7: - | I7: - | J7: - | K7: - | L7: - | M7: - | N7: - | O7: - | P7: - | Q7: - | R7: - | S7: - | T7: - | U7: - | V7: - | W7: - | X7: - | Y7: - | Z7: - | AA7: - | AB7: - | AC7: - | AD7: - | AE7: - | AF7: - | AG7: - | AH7: - | AI7: - | AJ7: - | AK7: - | AL7: - | AM7: - | AN7: - | AO7: - | AQ7: X | AR7: X | AS7: X | AU7: X | AV7: X | AW7: =SUM(AP7:AR7,AT7:AV7) -> 0 | AX7: 2019. | AY7: 42736 | AZ7: 2019. | BA7: 43100 | BB7: Olecko
A8: 3 | B8: ZPC ŚWIDNIK 23.62 | C8: NOEH334 | D8: p-pa lekka | E8: 2008 | F8: 25.02.2009 | G8: - | H8: - | I8: 0 / 515 | J8: 750 | K8: SWH2362S18B005358 | L8: - | M8: - | N8: - | O8: - | P8: - | Q8: - | R8: - | S8: - | T8: - | U8: - | V8: - | W8: - | X8: - | Y8: - | Z8: - | AA8: - | AB8: - | AC8: - | AD8: - | AE8: - | AF8: - | AG8: - | AH8: - | AI8: - | AJ8: - | AK8: - | AL8: - | AM8: - | AN8: - | AQ8: X | AR8: X | AS8: X | AT8: X | AU8: X | AV8: X | AW8: =SUM(AP8:AR8,AT8:AV8) -> 0 | AX8: 2019. | AY8: 41293 | AZ8: 2020. | BA8: 41657 | BB8: Olecko
A9: 4 | B9: DAEWOO LANOS S | C9: NOGE792 | D9: osob. | E9: 2000 | F9: 05.04.2001 | G9: 08.04.2011 | H9: 1498 / | I9: 5 / | J9: 1595 | K9: SUPTF69VDYW065055 | L9: A15DMS035830R | M9: 2 / 0 | N9: immobiliser | O9: 145924 | P9: 165434 | Q9: 187151 | R9: 205100 | S9: 221800 | T9: 229948 | U9: 232076 | V9: 235068 | W9: 238729 | X9: 242800 | Y9: - | Z9: - | AA9: - | AB9: - | AC9: - | AD9: - | AE9: - | AF9: 2200 | AG9: 2500 | AH9: 2900 | AI9: 3500 | AJ9: 4000 | AK9: 4600 | AL9: 5400 | AM9: 6800 | AN9: 8000 | AQ9: X | AR9: X | AS9: X | AT9: X | AU9: X | AV9: X | AW9: =SUM(AP9:AR9,AT9:AV9) -> 0 | AX9: 2019. | AY9: 41369 | AZ9: 2020. | BA9: 41733 | BB9: Olecko
A10: 5 | B10: Renault Kangoo Oasis 1,5 d | C10: NOE38ET | D10: osob. | E10: 2012 | F10: 19.04.2012 | H10: 1461 / 66 | I10: 5 / 531 | J10: 1954 | K10: VF1KW25B547034822 | M10: 2 / 0 | N10: immobiliser autoalarm | O10: - | T10: 9000 | U10: 28100 | V10: 54132 | W10: 82100 | X10: 104155 | Y10: 147343 | Z10: 20900 | AA10: 18900 | AB10: 20900 | AC10: 22500 | AD10: 25000 | AE10: 25000 | AF10: 27300 | AG10: 32800 | AH10: 37000 | AI10: 45000 | AJ10: 59955 | AQ10: X | AV10: X | AW10: =SUM(AP10:AR10,AT10:AV10) -> 0 | AX10: 2019. | AY10: 41383 | AZ10: 2020. | BA10: 41747 | BB10: Olecko
A11: 6 | B11: Renault Kangoo Oasis 1,5 | C11: NOE21CT | D11: osob. | E11: 2011 | F11: 12.05.2011 | G11: - | H11: 1461 / 66 | I11: 5 / 528 | J11: 1954 | K11: VF1KW25B545135086 | L11: - | M11: 2 / 0 | N11: autoalarm immobiliser | O11: - | P11: - | Q11: - | R11: - | S11: 8617 | T11: 27341 | U11: 46017 | V11: 71189 | W11: 94325 | X11: 116200 | Y11: 143884 | Z11: 18000 | AA11: 17000 | AB11: 18000 | AC11: 20400 | AD11: 22600 | AE11: 22600 | AF11: 25000 | AG11: 28900 | AH11: 32500 | AI11: 37000 | AJ11: 45000 | AK11: 54899.9 | AL11: - | AM11: - | AN11: - | AQ11: X | AV11: X | AW11: =SUM(AP11:AR11,AT11:AV11) -> 0 | AX11: 2019. | AY11: 41406 | AZ11: 2020. | BA11: 41770 | BB11: Olecko
A12: 7 | B12: SKODA FABIA Classic sedan | C12: NO34308 | D12: osob. | E12: 2003 | F12: 21.05.2003 | G12: 26.05.2011 | H12: 1390 / 55 | I12: 5 / | J12: 1605 | K12: TMBDC46Y533806139 | L12: Y396518 | M12: 2 / 0 | N12: autoalarm immobiliser | O12: 100490 | P12: 117768 | Q12: 132598 | R12: 141210 | S12: 145600 | T12: 149537 | U12: 154004 | V12: 168442 | W12: 181187 | X12: 188077 | Y12: 208396 | Z12: 5900 | AA12: 5400 | AB12: 5900 | AC12: 6500 | AD12: 7200 | AE12: 7200 | AF12: 7800 | AG12: 8500 | AH12: 9500 | AI12: 10000 | AJ12: 11500 | AK12: 12500 | AL12: 14400 | AM12: 15500 | AN12: 18500 | AQ12: X | AV12: X | AW12: =SUM(AP12:AR12,AT12:AV12) -> 0 | AX12: 2019. | AY12: 41415 | AZ12: 2020. | BA12: 41779 | BB12: Olecko | BC12: Ubezpieczony: ZDW Olsztyn
A13: 8 | B13: Renault Trafic Furgon Pack Clim 2,9t L2H1 dCi | C13: NOE16AP | D13: ciężar. | E13: 2010 | F13: 08.06.2010 | G13: 08.06.2013 | H13: 1995 / 84 | I13: 6 / 860 | J13: 2968 | K13: VF1FLBHB6AV383809 | L13: - | M13: 2 / 0 | N13: autoalarm, immobiliser z transponderem | O13: - | P13: - | Q13: 1968 | R13: 4020 | S13: 23700 | T13: 43900 | U13: 61761 | V13: 81321 | W13: 102000 | X13: 118223 | Y13: 147748 | Z13: 27000 | AA13: 24500 | AB13: 27000 | AC13: 30300 | AD13: 33600 | AE13: 33600 | AF13: 35500 | AG13: 37600 | AH13: 43000 | AI13: 49500 | AJ13: 62000 | AK13: 80000 | AL13: 105950 | AM13: 100333 | AN13: - | AQ13: X | AV13: X | AW13: =SUM(AP13:AR13,AT13:AV13) -> 0 | AX13: 2019. | AY13: 41433 | AZ13: 2020. | BA13: 41797 | BB13: Olecko
A14: 9 | B14: NEPTUN SORELPOL | C14: NOER777 | D14: p-pa | E14: 2007 | F14: 11.06.2007 | G14: - | H14: - | I14: 0 / 475 | J14: 750 | K14: SXEDPLHSF7S000048 | L14: - | M14: - | N14: - | O14: - | P14: - | Q14: - | R14: - | S14: - | T14: - | U14: - | V14: - | W14: - | X14: - | Y14: - | Z14: - | AA14: - | AB14: - | AC14: - | AD14: - | AE14: - | AF14: - | AG14: - | AH14: - | AI14: - | AJ14: - | AK14: - | AL14: - | AM14: - | AN14: - | AQ14: X | AR14: X | AS14: X | AT14: X | AU14: X | AV14: X | AW14: =SUM(AP14:AR14,AT14:AV14) -> 0 | AX14: 2019. | AY14: 41436 | AZ14: 2020. | BA14: 41800 | BB14: Olecko
A15: 10 | B15: SKODA OCTAVIA II LIFTBACK AMBIENTE | C15: NO85009 | D15: osob. | E15: 2007 | F15: 16.07.2007 | G15: 16.07.2012 | H15: 1598 / 85 | I15: 5 / | J15: 1925 | K15: TMBCB61Z388008212 | L15: - | M15: 2 / 0 | N15: autoalarm immobiliser | O15: 3697 | P15: 19435 | Q15: 41000 | R15: 65001 | S15: 77280 | T15: 90619 | U15: 103241 | V15: 114102 | W15: 132844 | X15: 149700 | Y15: 170448 | Z15: 13500 | AA15: 12700 | AB15: 13500 | AC15: 14700 | AD15: 16300 | AE15: 16300 | AF15: 19000 | AG15: 20000 | AH15: 21500 | AI15: 24000 | AJ15: 30000 | AK15: 35000 | AL15: 41000 | AM15: 45000 | AN15: 60000 | AQ15: X | AW15: =SUM(AP15:AR15,AT15:AV15) -> 0 | AX15: 2019. | AY15: 41471 | AZ15: 2020. | BA15: 41835 | BB15: Olecko | BC15: Ubezpieczony: ZDW Olsztyn
A16: 11 | B16: Renault Trafic Furgon Pack Clim 2,9t L2H1 dCi | C16: NOEK768 | D16: ciężar. | E16: 2009 | F16: 23.07.2009 | G16: 22.07.2012 | H16: 1995 / 84 | I16: 6 / 1235 | J16: 2968 | K16: VF1FLBHB69V350357 | L16: - | M16: 2 / 0 | N16: autoalarm, immobiliser z transponderem | O16: - | P16: - | Q16: 1968 | R16: 24138 | S16: 42300 | T16: 62923 | U16: 80150 | V16: 102658 | W16: 126641 | X16: 143958 | Y16: 156556 | Z16: 23500 | AA16: 21500 | AB16: 23500 | AC16: 25200 | AD16: 28000 | AE16: 28000 | AF16: 29700 | AG16: 32400 | AH16: 37000 | AI16: 42000 | AJ16: 48500 | AK16: 63000 | AL16: 77000 | AM16: 100333 | AN16: - | AQ16: X | AV16: X | AW16: =SUM(AP16:AR16,AT16:AV16) -> 0 | AX16: 2019. | AY16: 41478 | AZ16: 2020. | BA16: 41842 | BB16: Olecko
A17: 12 | B17: Peugeot C 208 Active+ hatchback | C17: NO6862S | D17: osobowy | E17: 2018 | F17: 20.08.2018 | H17: 1199/60 | I17: 5/571 | J17: 1546 | K17: VF3CCHMZ6JT025955 | M17: 2/0 | N17: immobiliser | Z17: 45000 | AA17: 40000 | AB17: 45000 | AC17: 50890 | AE17: - | AO17: 50890 | AQ17: X | AW17: =SUM(AP17:AR17,AT17:AV17) -> 0 | AX17: 2019. | AY17: 43697 | AZ17: 2020. | BA17: 44062 | BB17: Olecko | BC17: Ubezpieczony: ZDW Olsztyn
A18: 13 | B18: NIEWIADÓW B7520H | C18: NOGR137 | D18: p-pa | E18: 2000 | F18: 05.12.2000 | G18: bezterminowo | H18: - | I18: 0 / 545 | J18: 750 | K18: SWNB75000Y0006935 | L18: - | M18: - | N18: - | O18: - | P18: - | Q18: - | R18: - | S18: - | T18: - | U18: - | V18: - | W18: - | X18: - | Y18: - | Z18: - | AA18: - | AB18: - | AC18: - | AD18: - | AE18: - | AF18: - | AG18: - | AH18: - | AI18: - | AJ18: - | AK18: - | AL18: - | AM18: - | AN18: - | AQ18: X | AR18: X | AS18: X | AT18: X | AU18: X | AV18: X | AW18: =SUM(AP18:AR18,AT18:AV18) -> 0 | AX18: 2019. | AY18: 41613 | AZ18: 2020. | BA18: 41977 | BB18: Olecko
A19: 14 | B19: Citroen Berlingo B9 VP XTR VTI 120 Kombi | C19: NOE20LM | D19: osob. | E19: 2016 | F19: 13.12.2016 | H19: 1598 / 88 | I19: 5 / | J19: 2000 | M19: 2 / 0 | N19: autoalarm, immobiliser | Y19: 26808 | Z19: 34000 | AA19: 30200 | AB19: 34000 | AC19: 45800 | AD19: 54100 | AE19: 54100 | AF19: 67650 | AO19: 67650 | AQ19: X | AW19: =SUM(AP19:AR19,AT19:AV19) -> 0 | AX19: 2019. | AY19: 43082 | AZ19: 2020. | BA19: 43446 | BB19: Olecko
A20: 15 | B20: WIOLA W-600H | C20: NOE52JV | D20: przyczepa lekka | E20: 2015 | F20: 14.12.2015 | H20: - | I20: 0 / 284 | J20: 500 | K20: SUCE3ASA3F1000537 | M20: - | N20: - | X20: - | Y20: - | Z20: 8470 | AA20: 7590 | AB20: 8470 | AC20: 9880 | AD20: 11700 | AE20: 11700 | AF20: =4500 + 9700 -> 14200 | AG20: 17650.5 | AO20: =5596.5 + 12054 -> 17650.5 | AQ20: X | AT20: X | AU20: X | AV20: X | AW20: =SUM(AP20:AR20,AT20:AV20) -> 0 | AX20: 2019. | AY20: 42718 | AZ20: 2020. | BA20: 43082 | BB20: Olecko | BC20: przyczepa z dostosowaniem do przewozu tablicy ostrzegawczej typu U26C o wartości 5780 zł
A21: 16 | B21: Renault Trafic L2H1 Pack Clim | C21: NOE93KF | D21: ciężarowy Van | E21: 2015 | F21: 18.12.2015 | H21: 1598 / 85 | I21: 6 / 1048 | J21: 2990 | K21: VF13FL01853617280 | M21: 2 / 0 | N21: autoalarm immobiliser | X21: 10 560 | Y21: 51027 | Z21: 51500 | AA21: 46000 | AB21: 51500 | AC21: 60000 | AD21: 70000 | AE21: 70000 | AF21: 90000 | AG21: 109200 | AH21: 109200 | AI21: 109200 | AJ21: 109200 | AK21: 109200 | AL21: 109200 | AM21: 109200 | AN21: 109200 | AO21: 109200 | AQ21: X | AV21: X | AW21: =SUM(AP21:AR21,AT21:AV21) -> 0 | AX21: 2019. | AY21: 42721 | AZ21: 2020. | BA21: 43085 | BB21: Olecko
A22: 17 | B22: LUBLIN II 3324 | C22: OTR2259 | D22: ciężar. | E22: 1999 | F22: 27.12.1999 | G22: 18.12.2010 | H22: 2417 / | I22: 6 / 850 | J22: 2900 | K22: SUL332412X0041101 | L22: 085325/99 | M22: 2 / 0 | N22: immobiliser | O22: 220005 | P22: 242166 | Q22: 167554 | R22: 285232 | S22: 301366 | T22: 316988 | U22: 326101 | V22: 340338 | W22: 351670 | X22: 351670 | Y22: 351670 | Z22: - | AA22: - | AB22: - | AC22: - | AD22: 3200 | AE22: 3200 | AF22: 3500 | AG22: 4000 | AH22: 4400 | AI22: 5000 | AJ22: 5800 | AK22: 6800 | AL22: 8000 | AM22: 8600 | AN22: 11000 | AQ22: X | AR22: X | AS22: X | AT22: X | AU22: X | AV22: X | AW22: =SUM(AP22:AR22,AT22:AV22) -> 0 | AX22: 2019. | AY22: 41635 | AZ22: 2020. | BA22: 41999 | BB22: Olecko
AI23: =SUM(AI8:AI22) -> 325200 | AJ23: =SUM(AJ9:AJ22) -> 375955 | AP23: =SUM(AP6:AP22) -> 0 | AQ23: X | AR23: =SUM(AR6:AR22) -> 0 | AS23: X | AT23: =SUM(AT6:AT22) -> 0 | AU23: =SUM(AU6:AU22) -> 0 | AV23: =SUM(AV6:AV22) -> 0 | AW23: =SUM(AW6:AW22) -> 0 | AX23: Razem 2019 rok
A24: * | B24: w przypadku bezskładkowego objęcia ochroną danego zakresu ubezpieczenia proszę wpisać 0 zł | AP24: =SUM(AP23:AV23) -> 0 | AX24: Ogółem 2019 rok
A25: 1 | B25: Kosiarka samobieżna Husqvarna TS342 | C25: b/n | D25: kosiarka | E25: 2014 | F25: - | G25: - | H25: - | I25: - | J25: - | K25: - | L25: - | M25: - | N25: - | O25: - | P25: - | Q25: - | R25: - | S25: - | T25: - | U25: - | V25: - | W25: - | X25: - | Y25: - | Z25: - | AA25: - | AB25: - | AC25: - | AD25: - | AE25: - | AF25: - | AG25: - | AH25: - | AI25: - | AJ25: - | AK25: - | AL25: - | AM25: - | AN25: - | AO25: - | AQ25: X | AR25: X | AS25: X | AU25: X | AV25: X | AW25: =SUM(AP25:AR25,AT25:AV25) -> 0 | AX25: 2019. | AY25: 42736 | AZ25: 2019. | BA25: 43100 | BB25: Olecko
A26: 2 | B26: Kosiarka samobieżna Husqvarna TS342 | C26: b/n | D26: kosiarka | E26: 2014 | F26: - | G26: - | H26: - | I26: - | J26: - | K26: - | L26: - | M26: - | N26: - | O26: - | P26: - | Q26: - | R26: - | S26: - | T26: - | U26: - | V26: - | W26: - | X26: - | Y26: - | Z26: - | AA26: - | AB26: - | AC26: - | AD26: - | AE26: - | AF26: - | AG26: - | AH26: - | AI26: - | AJ26: - | AK26: - | AL26: - | AM26: - | AN26: - | AO26: - | AQ26: X | AR26: X | AS26: X | AU26: X | AV26: X | AW26: =SUM(AP26:AR26,AT26:AV26) -> 0 | AX26: 2019. | AY26: 42736 | AZ26: 2019. | BA26: 43100 | BB26: Olecko
A27: 3 | B27: ZPC ŚWIDNIK 23.62 | C27: NOEH334 | D27: p-pa lekka | E27: 2008 | F27: 25.02.2009 | G27: - | H27: - | I27: 0 / 515 | J27: 750 | K27: SWH2362S18B005358 | L27: - | M27: - | N27: - | O27: - | P27: - | Q27: - | R27: - | S27: - | T27: - | U27: - | V27: - | W27: - | X27: - | Y27: - | Z27: - | AA27: - | AB27: - | AC27: - | AD27: - | AE27: - | AF27: - | AG27: - | AH27: - | AI27: - | AJ27: - | AK27: - | AL27: - | AM27: - | AN27: - | AQ27: X | AR27: X | AS27: X | AT27: X | AU27: X | AV27: X | AW27: =SUM(AP27:AR27,AT27:AV27) -> 0 | AX27: 2019. | AY27: 41293 | AZ27: 2020. | BA27: 41657 | BB27: Olecko
A28: 4 | B28: DAEWOO LANOS S | C28: NOGE792 | D28: osob. | E28: 2000 | F28: 05.04.2001 | G28: 08.04.2011 | H28: 1498 / | I28: 5 / | J28: 1595 | K28: SUPTF69VDYW065055 | L28: A15DMS035830R | M28: 2 / 0 | N28: immobiliser | O28: 145924 | P28: 165434 | Q28: 187151 | R28: 205100 | S28: 221800 | T28: 229948 | U28: 232076 | V28: 235068 | W28: 238729 | X28: 242800 | Y28: - | Z28: - | AA28: - | AB28: - | AC28: - | AD28: - | AE28: - | AF28: 2200 | AG28: 2500 | AH28: 2900 | AI28: 3500 | AJ28: 4000 | AK28: 4600 | AL28: 5400 | AM28: 6800 | AN28: 8000 | AQ28: X | AR28: X | AS28: X | AT28: X | AU28: X | AV28: X | AW28: =SUM(AP28:AR28,AT28:AV28) -> 0 | AX28: 2019. | AY28: 41369 | AZ28: 2020. | BA28: 41733 | BB28: Olecko
A29: 5 | B29: Renault Kangoo Oasis 1,5 d | C29: NOE38ET | D29: osob. | E29: 2012 | F29: 19.04.2012 | H29: 1461 / 66 | I29: 5 / 531 | J29: 1954 | K29: VF1KW25B547034822 | M29: 2 / 0 | N29: immobiliser autoalarm | O29: - | T29: 9000 | U29: 28100 | V29: 54132 | W29: 82100 | X29: 104155 | Y29: 147343 | Z29: 18900 | AA29: 18900 | AB29: 20900 | AC29: 22500 | AD29: 25000 | AE29: 25000 | AF29: 27300 | AG29: 32800 | AH29: 37000 | AI29: 45000 | AJ29: 59955 | AQ29: X | AV29: X | AW29: =SUM(AP29:AR29,AT29:AV29) -> 0 | AX29: 2019. | AY29: 41383 | AZ29: 2020. | BA29: 41747 | BB29: Olecko
A30: 6 | B30: Renault Kangoo Oasis 1,5 | C30: NOE21CT | D30: osob. | E30: 2011 | F30: 12.05.2011 | G30: - | H30: 1461 / 66 | I30: 5 / 528 | J30: 1954 | K30: VF1KW25B545135086 | L30: - | M30: 2 / 0 | N30: autoalarm immobiliser | O30: - | P30: - | Q30: - | R30: - | S30: 8617 | T30: 27341 | U30: 46017 | V30: 71189 | W30: 94325 | X30: 116200 | Y30: 143884 | Z30: 17000 | AA30: 17000 | AB30: 18000 | AC30: 20400 | AD30: 22600 | AE30: 22600 | AF30: 25000 | AG30: 28900 | AH30: 32500 | AI30: 37000 | AJ30: 45000 | AK30: 54899.9 | AL30: - | AM30: - | AN30: - | AQ30: X | AV30: X | AW30: =SUM(AP30:AR30,AT30:AV30) -> 0 | AX30: 2019. | AY30: 41406 | AZ30: 2020. | BA30: 41770 | BB30: Olecko
A31: 7 | B31: SKODA FABIA Classic sedan | C31: NO34308 | D31: osob. | E31: 2003 | F31: 21.05.2003 | G31: 26.05.2011 | H31: 1390 / 55 | I31: 5 / | J31: 1605 | K31: TMBDC46Y533806139 | L31: Y396518 | M31: 2 / 0 | N31: autoalarm immobiliser | O31: 100490 | P31: 117768 | Q31: 132598 | R31: 141210 | S31: 145600 | T31: 149537 | U31: 154004 | V31: 168442 | W31: 181187 | X31: 188077 | Y31: 208396 | Z31: 5400 | AA31: 5400 | AB31: 5900 | AC31: 6500 | AD31: 7200 | AE31: 7200 | AF31: 7800 | AG31: 8500 | AH31: 9500 | AI31: 10000 | AJ31: 11500 | AK31: 12500 | AL31: 14400 | AM31: 15500 | AN31: 18500 | AQ31: X | AV31: X | AW31: =SUM(AP31:AR31,AT31:AV31) -> 0 | AX31: 2019. | AY31: 41415 | AZ31: 2020. | BA31: 41779 | BB31: Olecko | BC31: Ubezpieczony: ZDW Olsztyn
A32: 8 | B32: Renault Trafic Furgon Pack Clim 2,9t L2H1 dCi | C32: NOE16AP | D32: ciężar. | E32: 2010 | F32: 08.06.2010 | G32: 08.06.2013 | H32: 1995 / 84 | I32: 6 / 860 | J32: 2968 | K32: VF1FLBHB6AV383809 | L32: - | M32: 2 / 0 | N32: autoalarm, immobiliser z transponderem | O32: - | P32: - | Q32: 1968 | R32: 4020 | S32: 23700 | T32: 43900 | U32: 61761 | V32: 81321 | W32: 102000 | X32: 118223 | Y32: 147748 | Z32: 24500 | AA32: 24500 | AB32: 27000 | AC32: 30300 | AD32: 33600 | AE32: 33600 | AF32: 35500 | AG32: 37600 | AH32: 43000 | AI32: 49500 | AJ32: 62000 | AK32: 80000 | AL32: 105950 | AM32: 100333 | AN32: - | AQ32: X | AV32: X | AW32: =SUM(AP32:AR32,AT32:AV32) -> 0 | AX32: 2019. | AY32: 41433 | AZ32: 2020. | BA32: 41797 | BB32: Olecko
A33: 9 | B33: NEPTUN SORELPOL | C33: NOER777 | D33: p-pa | E33: 2007 | F33: 11.06.2007 | G33: - | H33: - | I33: 0 / 475 | J33: 750 | K33: SXEDPLHSF7S000048 | L33: - | M33: - | N33: - | O33: - | P33: - | Q33: - | R33: - | S33: - | T33: - | U33: - | V33: - | W33: - | X33: - | Y33: - | Z33: - | AA33: - | AB33: - | AC33: - | AD33: - | AE33: - | AF33: - | AG33: - | AH33: - | AI33: - | AJ33: - | AK33: - | AL33: - | AM33: - | AN33: - | AQ33: X | AR33: X | AS33: X | AT33: X | AU33: X | AV33: X | AW33: =SUM(AP33:AR33,AT33:AV33) -> 0 | AX33: 2019. | AY33: 41436 | AZ33: 2020. | BA33: 41800 | BB33: Olecko
A34: 10 | B34: SKODA OCTAVIA II LIFTBACK AMBIENTE | C34: NO85009 | D34: osob. | E34: 2007 | F34: 16.07.2007 | G34: 16.07.2012 | H34: 1598 / 85 | I34: 5 / | J34: 1925 | K34: TMBCB61Z388008212 | L34: - | M34: 2 / 0 | N34: autoalarm immobiliser | O34: 3697 | P34: 19435 | Q34: 41000 | R34: 65001 | S34: 77280 | T34: 90619 | U34: 103241 | V34: 114102 | W34: 132844 | X34: 149700 | Y34: 170448 | Z34: 12700 | AA34: 12700 | AB34: 13500 | AC34: 14700 | AD34: 16300 | AE34: 16300 | AF34: 19000 | AG34: 20000 | AH34: 21500 | AI34: 24000 | AJ34: 30000 | AK34: 35000 | AL34: 41000 | AM34: 45000 | AN34: 60000 | AQ34: X | AW34: =SUM(AP34:AR34,AT34:AV34) -> 0 | AX34: 2019. | AY34: 41471 | AZ34: 2020. | BA34: 41835 | BB34: Olecko | BC34: Ubezpieczony: ZDW Olsztyn
A35: 11 | B35: Renault Trafic Furgon Pack Clim 2,9t L2H1 dCi | C35: NOEK768 | D35: ciężar. | E35: 2009 | F35: 23.07.2009 | G35: 22.07.2012 | H35: 1995 / 84 | I35: 6 / 1235 | J35: 2968 | K35: VF1FLBHB69V350357 | L35: - | M35: 2 / 0 | N35: autoalarm, immobiliser z transponderem | O35: - | P35: - | Q35: 1968 | R35: 24138 | S35: 42300 | T35: 62923 | U35: 80150 | V35: 102658 | W35: 126641 | X35: 143958 | Y35: 156556 | Z35: 21500 | AA35: 21500 | AB35: 23500 | AC35: 25200 | AD35: 28000 | AE35: 28000 | AF35: 29700 | AG35: 32400 | AH35: 37000 | AI35: 42000 | AJ35: 48500 | AK35: 63000 | AL35: 77000 | AM35: 100333 | AN35: - | AQ35: X | AV35: X | AW35: =SUM(AP35:AR35,AT35:AV35) -> 0 | AX35: 2019. | AY35: 41478 | AZ35: 2020. | BA35: 41842 | BB35: Olecko
A36: 12 | B36: Peugeot C 208 Active+ hatchback | C36: NO6862S | D36: osobowy | E36: 2018 | F36: 20.08.2018 | H36: 1199/60 | I36: 5/571 | J36: 1546 | K36: VF3CCHMZ6JT025955 | M36: 2/0 | N36: immobiliser | Z36: 40000 | AA36: 40000 | AB36: 45000 | AC36: 50890 | AE36: - | AO36: 50890 | AQ36: X | AW36: =SUM(AP36:AR36,AT36:AV36) -> 0 | AX36: 2019. | AY36: 43697 | AZ36: 2020. | BA36: 44062 | BB36: Olecko | BC36: Ubezpieczony: ZDW Olsztyn
A37: 13 | B37: NIEWIADÓW B7520H | C37: NOGR137 | D37: p-pa | E37: 2000 | F37: 05.12.2000 | G37: bezterminowo | H37: - | I37: 0 / 545 | J37: 750 | K37: SWNB75000Y0006935 | L37: - | M37: - | N37: - | O37: - | P37: - | Q37: - | R37: - | S37: - | T37: - | U37: - | V37: - | W37: - | X37: - | Y37: - | Z37: - | AA37: - | AB37: - | AC37: - | AD37: - | AE37: - | AF37: - | AG37: - | AH37: - | AI37: - | AJ37: - | AK37: - | AL37: - | AM37: - | AN37: - | AQ37: X | AR37: X | AS37: X | AT37: X | AU37: X | AV37: X | AW37: =SUM(AP37:AR37,AT37:AV37) -> 0 | AX37: 2019. | AY37: 41613 | AZ37: 2020. | BA37: 41977 | BB37: Olecko
A38: 14 | B38: Citroen Berlingo B9 VP XTR VTI 120 Kombi | C38: NOE20LM | D38: osob. | E38: 2016 | F38: 13.12.2016 | H38: 1598 / 88 | I38: 5 / | J38: 2000 | M38: 2 / 0 | N38: autoalarm, immobiliser | Y38: 26808 | Z38: 30200 | AA38: 30200 | AB38: 34000 | AC38: 45800 | AD38: 54100 | AE38: 54100 | AF38: 67650 | AO38: 67650 | AQ38: X | AW38: =SUM(AP38:AR38,AT38:AV38) -> 0 | AX38: 2019. | AY38: 43082 | AZ38: 2020. | BA38: 43446 | BB38: Olecko
A39: 15 | B39: WIOLA W-600H | C39: NOE52JV | D39: przyczepa lekka | E39: 2015 | F39: 14.12.2015 | H39: - | I39: 0 / 284 | J39: 500 | K39: SUCE3ASA3F1000537 | M39: - | N39: - | X39: - | Y39: - | Z39: 7590 | AA39: 7590 | AB39: 8470 | AC39: 9880 | AD39: 11700 | AE39: 11700 | AF39: =4500 + 9700 -> 14200 | AG39: 17650.5 | AO39: =5596.5 + 12054 -> 17650.5 | AQ39: X | AT39: X | AU39: X | AV39: X | AW39: =SUM(AP39:AR39,AT39:AV39) -> 0 | AX39: 2019. | AY39: 42718 | AZ39: 2020. | BA39: 43082 | BB39: Olecko | BC39: przyczepa z dostosowaniem do przewozu tablicy ostrzegawczej typu U26C o wartości 5180 zł
A40: 16 | B40: Renault Trafic L2H1 Pack Clim | C40: NOE93KF | D40: ciężarowy Van | E40: 2015 | F40: 18.12.2015 | H40: 1598 / 85 | I40: 6 / 1048 | J40: 2990 | K40: VF13FL01853617280 | M40: 2 / 0 | N40: autoalarm immobiliser | X40: 10 560 | Y40: 51027 | Z40: 46000 | AA40: 46000 | AB40: 51500 | AC40: 60000 | AD40: 70000 | AE40: 70000 | AF40: 90000 | AG40: 109200 | AH40: 109200 | AI40: 109200 | AJ40: 109200 | AK40: 109200 | AL40: 109200 | AM40: 109200 | AN40: 109200 | AO40: 109200 | AQ40: X | AV40: X | AW40: =SUM(AP40:AR40,AT40:AV40) -> 0 | AX40: 2019. | AY40: 42721 | AZ40: 2020. | BA40: 43085 | BB40: Olecko
A41: 17 | B41: LUBLIN II 3324 | C41: OTR2259 | D41: ciężar. | E41: 1999 | F41: 27.12.1999 | G41: 18.12.2010 | H41: 2417 / | I41: 6 / 850 | J41: 2900 | K41: SUL332412X0041101 | L41: 085325/99 | M41: 2 / 0 | N41: immobiliser | O41: 220005 | P41: 242166 | Q41: 167554 | R41: 285232 | S41: 301366 | T41: 316988 | U41: 326101 | V41: 340338 | W41: 351670 | X41: 351670 | Y41: 351670 | Z41: - | AA41: - | AB41: - | AC41: - | AD41: 3200 | AE41: 3200 | AF41: 3500 | AG41: 4000 | AH41: 4400 | AI41: 5000 | AJ41: 5800 | AK41: 6800 | AL41: 8000 | AM41: 8600 | AN41: 11000 | AQ41: X | AR41: X | AS41: X | AT41: X | AU41: X | AV41: X | AW41: =SUM(AP41:AR41,AT41:AV41) -> 0 | AX41: 2019. | AY41: 41635 | AZ41: 2020. | BA41: 41999 | BB41: Olecko
AI42: =SUM(AI27:AI41) -> 325200 | AJ42: =SUM(AJ28:AJ41) -> 375955 | AP42: =SUM(AP25:AP41) -> 0 | AQ42: X | AR42: =SUM(AR25:AR41) -> 0 | AS42: X | AT42: =SUM(AT25:AT41) -> 0 | AU42: =SUM(AU25:AU41) -> 0 | AV42: =SUM(AV25:AV41) -> 0 | AW42: =SUM(AW25:AW41) -> 0 | AX42: Razem 2020 rok
A43: * | B43: w przypadku bezskładkowego objęcia ochroną danego zakresu ubezpieczenia proszę wpisać 0 zł | AP43: =SUM(AP42:AV42) -> 0 | AX43: Ogółem 2020 rok
AP44: =SUM(AP23,AP42) -> 0 | AQ44: X | AR44: =SUM(AR23,AR42) -> 0 | AS44: X | AT44: =SUM(AT23,AT42) -> 0 | AU44: =SUM(AU23,AU42) -> 0 | AV44: =SUM(AV23,AV42) -> 0 | AW44: =SUM(AW23,AW42) -> 0 | AX44: Łącznie za 2 lata
AP45: =SUM(AP44:AV44) -> 0
Z47: =SUM(Z6:Z22) -> 247770
Z48: =SUM(Z25:Z41) -> 223790
Z49: =SUM(Z47:Z48) -> 471560

Sheet Arkusz1
A3: =SUM(#REF!,#REF!,#REF!,#REF!,OLSZTYN!AP26) -> #REF! | B3: =SUM(#REF!,#REF!,#REF!,#REF!,OLSZTYN!AR26) -> #REF! | C3: =SUM(#REF!,#REF!,#REF!,#REF!,OLSZTYN!AS26) -> #REF! | D3: =SUM(#REF!,#REF!,#REF!,#REF!,OLSZTYN!AT26) -> #REF! | E3: =SUM(#REF!,#REF!,#REF!,#REF!,OLSZTYN!AU26) -> #REF! | F3: =SUM(#REF!,#REF!,#REF!,#REF!,OLSZTYN!AV26) -> #REF!
A4: =SUM(A3:F3) -> #REF!
C5: =SUM(#REF!,#REF!,#REF!,#REF!,OLSZTYN!AP27) -> #REF!
A6: =SUM(#REF!,#REF!,#REF!,#REF!,OLSZTYN!AP28) -> #REF! | B6: =SUM(#REF!,#REF!,#REF!,#REF!,OLSZTYN!AR28) -> #REF! | C6: =SUM(#REF!,#REF!,#REF!,#REF!,OLSZTYN!AS28) -> #REF! | D6: =SUM(#REF!,#REF!,#REF!,#REF!,OLSZTYN!AT28) -> #REF! | E6: =SUM(#REF!,#REF!,#REF!,#REF!,OLSZTYN!AU28) -> #REF! | F6: =SUM(#REF!,#REF!,#REF!,#REF!,OLSZTYN!AV28) -> #REF!
A7: =SUM(A6:F6) -> #REF!
C8: =SUM(#REF!,#REF!,#REF!,#REF!,OLSZTYN!AP29) -> #REF!
