Workbook

Sheet OLSZTYN
A1: Załącznik nr 2a do OPZ Załącznik nr 2a do Umowy
A2: WYKAZ POJAZDÓW ZARZĄDU DRÓG WOJEWÓDZKICH W OLSZTYNIE DO UBEZPIECZENIA NA LATA 2019-2020
A3: 4 | B3: 20 | C3: 8 | D3: 8 | E3: 5 | F3: 8 | G3: 8 | H3: 8 | I3: 9 | J3: 9 | K3: 9 | L3: 9 | M3: 8 | N3: 11 | O3: 7 | P3: 7 | Q3: 7 | R3: 7 | S3: 7 | T3: 7 | U3: 7 | V3: 7 | W3: 7 | X3: 7 | Y3: 7 | Z3: 9 | AA3: 7 | AB3: 7 | AC3: 7 | AD3: 9 | AE3: 7 | AF3: 7 | AG3: 7 | AH3: 7 | AI3: 7 | AJ3: 7 | AK3: 7 | AL3: 7 | AM3: 7 | AN3: 7 | AO3: 7 | AP3: 8 | AQ3: 8 | AR3: 8 | AS3: 8 | AT3: 8 | AU3: 8 | AV3: 8 | AW3: 9 | AX3: 4 | AY3: 4 | AZ3: 4 | BA3: 4 | BB3: 7 | BC3: 31
A4: lp | B4: Marka, model, typ pojazdu | C4: Nr rejestr. | D4: Rodzaj | E4: Rok prod. | F4: Data I rejestr. | G4: Data bad. techn. | H4: Poj. silnika / moc [kW] | I4: Liczba miejsc / ładowność w kg | J4: DMC [kg] | K4: Nr nadwozia | L4: Nr silnika | M4: Liczba kluczyków | N4: Zabezpiecz. | O4: Przebieg w km | P4: Przebieg w km 11.2008 | Q4: Przebieg w km 11.2009 | R4: Przebieg w km 11.2010 | S4: Przebieg 10.2011 [km] | T4: Przebieg 10.2012 [km] | U4: Przebieg 09.2013 [km] | V4: Przebieg 09.2014 [km] | W4: Przebieg 10.2015 [km] | X4: Przebieg 10.2016 [km] | Y4: Przebieg 06.2018 [km] | Z4: Wartość z VAT [zł] | AA4: Wartość 2020 | AB4: Wartość 2019 | AC4: Wartość 2018 | AD4: Wartość z VAT - 2 lata - 2017 i 2018 [zł] | AE4: Wartość 2017 | AF4: Wartość 2016 | AG4: Wartość 2015 | AH4: Wartość 2014 | AI4: Wartość 2013 | AJ4: Wartość 2012 | AK4: Wartość 2011 | AL4: Wartość 2010 | AM4: Wartość 2008/2009 | AN4: Wartość 2007/2008 | AO4: Wartość nowa | AP4: Składka [zł] * | AX4: Okres ubezpieczenia | BB4: Rejon | BC4: Uwagi
J5: dopuszczalna masa całkowita | M5: oryg./ nieoryg. | AP5: OC | AQ5: ZK zielona karta | AR5: AC | AS5: AC - % SU | AT5: NNW | AU5: Assistance podstawowy | AV5: Assistance rozszerzony | AW5: Łącznie za pojazd | AX5: od | AZ5: do
A6: 1 | B6: SKODA OCTAVIA III AMBITION 1,8 TSI 6-M sedan | C6: NO3549K | D6: osobowy | E6: 2013 | F6: 10.03.2014 | G6: 11.03.2014 | H6: 1798 / 132 | I6: 5 / 585 | J6: 1830 | K6: TMBAD7NE0E0096564 | M6: 2 / 0 | N6: immobiliser, autoalarm z transponderem | V6: 18714 | W6: 48154 | X6: 73050 | Y6: 123100 | Z6: 43000 | AA6: 39000 | AB6: 43000 | AC6: 48600 | AD6: 54000 | AE6: 54000 | AF6: 58000 | AG6: 63300 | AH6: 78265 | AQ6: X | AW6: =SUM(AP6:AR6,AT6:AV6) -> 0 | AX6: 2019. | AY6: 42073 | AZ6: 2020. | BA6: 42438 | BB6: Olsztyn
A7: 2 | B7: SKODA FABIA sedan Comfort | C7: NO34307 | D7: osob. | E7: 2003 | F7: 21.05.2003 | G7: 19.08.2015 | H7: 1390 / 74 | I7: 5 / | J7: 1610 | K7: TMBCD46Y833796117 | L7: BBZ059843 | M7: 2 / 0 | N7: autoalarm immobiliser | O7: 111475 | P7: 125086 | Q7: 146000 | R7: 169187 | S7: 188527 | T7: 209515 | U7: 230000 | V7: 258961 | W7: 286248 | X7: 298202 | Y7: 315700 | Z7: 5000 | AA7: 4500 | AB7: 5000 | AC7: 5500 | AD7: 6100 | AE7: 6100 | AF7: 6700 | AG7: 7400 | AH7: 9000 | AI7: 10500 | AJ7: 11500 | AK7: 12500 | AL7: 14200 | AM7: 17500 | AN7: 20000 | AQ7: X | AW7: =SUM(AP7:AR7,AT7:AV7) -> 0 | AX7: 2019. | AY7: 42145 | AZ7: 2020. | BA7: 42510 | BB7: Olsztyn
A8: 3 | B8: SKODA OCTAVIA II AMBIENTE 1,8 TSI - 6G manual sedan | C8: NO7687E | D8: osob. | E8: 2010 | F8: 07.06.2010 | G8: 07.07.2015 | H8: 1798 / 118 | I8: 5 / | J8: 1955 | K8: TMBCK61Z2A2126759 | L8: - | M8: 2 / 0 | N8: autoalarm, immobiliser z transponderem | O8: - | P8: - | Q8: - | R8: 7300 | S8: 28843 | T8: 47100 | U8: 68000 | V8: 122039 | W8: 173614 | X8: 199153 | Y8: 260000 | Z8: 19700 | AA8: 18200 | AB8: 19700 | AC8: 21000 | AD8: 23300 | AE8: 23300 | AF8: 25500 | AG8: 31500 | AH8: 36000 | AI8: 42000 | AJ8: 50000 | AK8: 59000 | AL8: 69800 | AM8: - | AN8: - | AQ8: X | AW8: =SUM(AP8:AR8,AT8:AV8) -> 0 | AX8: 2019. | AY8: 42162 | AZ8: 2020. | BA8: 42527 | BB8: Olsztyn
A9: 4 | B9: SKODA OCTAVIA II LIFTBACK AMBIENTE | C9: NO85008 | D9: osob. | E9: 2007 | F9: 16.07.2007 | G9: 08.07.214 | H9: 1598 / 85 | I9: 5 / | J9: 1925 | K9: TMBCB61Z288008203 | L9: - | M9: 2 / 0 | N9: autoalarm immobiliser | O9: 9549 | P9: 36430 | Q9: 51000 | R9: 72970 | S9: 92668 | T9: 114100 | U9: 136000 | V9: 177655 | W9: 220782 | X9: 260093 | Y9: 309700 | Z9: 10400 | AA9: 9600 | AB9: 10400 | AC9: 11400 | AD9: 12700 | AE9: 12700 | AF9: 15000 | AG9: 18500 | AH9: 20500 | AI9: 23000 | AJ9: 28500 | AK9: 34500 | AL9: 40000 | AM9: 43000 | AN9: 60000 | AQ9: X | AW9: =SUM(AP9:AR9,AT9:AV9) -> 0 | AX9: 2019. | AY9: 42201 | AZ9: 2020. | BA9: 42566 | BB9: Olsztyn
A10: 5 | B10: Peugeot C 208 Active+ hatchback | C10: NO3489S | D10: osobowy | E10: 2018 | F10: 09.08.2018 | H10: 1199 / 60 | I10: 5 / 571 | J10: 1546 | K10: VF3CCHMZ6JT021578 | M10: 2 / 0 | N10: immobiliser | Z10: 45000 | AA10: 40000 | AB10: 45000 | AC10: 50890 | AO10: 50890 | AQ10: X | AW10: =SUM(AP10:AR10,AT10:AV10) -> 0 | AX10: 2019. | AY10: 43686 | AZ10: 2020. | BA10: 44051 | BB10: Olsztyn
A11: 6 | B11: SKODA zakup w grudniu 2018 | D11: osobowy | E11: 2018 | F11: 07.2018 | M11: 2 / 0 | N11: immobiliser | Z11: 122000 | AA11: 103000 | AB11: 122000 | AC11: 142000 | AO11: 142000 | AW11: =SUM(AP11:AR11,AT11:AV11) -> 0 | AX11: 2019. | AZ11: 2020. | BB11: Olsztyn | BC11: Rosja na terytorium Obwodu Kaliningradzkiego
A12: 7 | B12: Renault Trafic Grand Passenger L2 Pack Clim | C12: NO0786L | D12: osobowy | E12: 2014 | F12: 25.09.2014 | G12: 21.10.2014 | H12: 1995 / 84 | I12: 9 / 987 | J12: 3055 | K12: VF1JLB7B2EY780123 | M12: 2 / 0 | N12: autoalarm immobiliser | V12: 751 | W12: 29074 | X12: 46579 | Y12: 72700 | Z12: 55000 | AA12: 49000 | AB12: 55000 | AC12: 59600 | AD12: 66300 | AE12: 66300 | AF12: 75000 | AG12: 90000 | AH12: 114500 | AW12: =SUM(AP12:AR12,AT12:AV12) -> 0 | AX12: 2019. | AY12: 42272 | AZ12: 2020. | BA12: 42637 | BB12: Olsztyn | BC12: Rosja na terytorium Obwodu Kaliningradzkiego
A13: 8 | B13: Hyundai i30 Comfort Hatchback | C13: NO5451M | D13: osobowy | E13: 2015 | F13: 06.11.2015 | H13: 1582 / 81 | I13: 5 / | J13: 1920 | K13: TMAD351UAGJ298993 | M13: 2 / 0 | N13: autoalarm immobiliser | X13: 31148 | Y13: 90400 | Z13: 33600 | AA13: 30000 | AB13: 33600 | AC13: 39000 | AD13: 45300 | AE13: 45300 | AF13: 52100 | AG13: 64600 | AO13: 64600 | AQ13: X | AW13: =SUM(AP13:AR13,AT13:AV13) -> 0 | AX13: 2019. | AY13: 42680 | AZ13: 2020. | BA13: 43044 | BB13: Olsztyn
A14: 9 | B14: Skoda Octavia Ambition 1.8 TSI sedan | C14: NO5105R | D14: osobowy | E14: 2017 | F14: 05.12.2017 | H14: 1798 / 132 | I14: 5 / 585 | J14: 1830 | K14: TMBAD7NE8J0187396 | M14: 2 / 0 | N14: autoalarm immobiliser | Y14: 19300 | Z14: 58000 | AA14: 52000 | AB14: 58000 | AC14: 70000 | AD14: 90000 | AE14: 90000 | AO14: 90000 | AQ14: X | AW14: =SUM(AP14:AR14,AT14:AV14) -> 0 | AX14: 2019. | AY14: 43074 | AZ14: 2020. | BA14: 43073 | BB14: Olsztyn
AP15: =SUM(AP6:AP14) -> 0 | AQ15: =SUM(AQ6:AQ14) -> 0 | AR15: =SUM(AR6:AR14) -> 0 | AS15: X | AT15: =SUM(AT6:AT14) -> 0 | AU15: =SUM(AU6:AU14) -> 0 | AV15: =SUM(AV6:AV14) -> 0 | AW15: =SUM(AW6:AW14) -> 0 | AX15: Razem 2019 rok
A16: * | B16: w przypadku bezskładkowego objęcia ochroną danego zakresu ubezpieczenia proszę wpisać 0 zł | AP16: =SUM(AP15:AV15) -> 0 | AX16: Ogółem 2019 rok
A17: 10 | B17: SKODA OCTAVIA III AMBITION 1,8 TSI 6-M sedan | C17: NO3549K | D17: osobowy | E17: 2013 | F17: 10.03.2014 | G17: 11.03.2014 | H17: 1798 / 132 | I17: 5 / 585 | J17: 1830 | K17: TMBAD7NE0E0096564 | M17: 2 / 0 | N17: immobiliser, autoalarm z transponderem | V17: 18714 | W17: 48154 | X17: 73050 | Y17: 123100 | Z17: 39000 | AA17: 39000 | AB17: 43000 | AC17: 48600 | AD17: 54000 | AE17: 54000 | AF17: 58000 | AG17: 63300 | AH17: 78265 | AQ17: X | AW17: =SUM(AP17:AR17,AT17:AV17) -> 0 | AX17: 2020. | AY17: 42073 | AZ17: 2021. | BA17: 42438 | BB17: Olsztyn
A18: 11 | B18: SKODA FABIA sedan Comfort | C18: NO34307 | D18: osob. | E18: 2003 | F18: 21.05.2003 | G18: 19.08.2015 | H18: 1390 / 74 | I18: 5 / | J18: 1610 | K18: TMBCD46Y833796117 | L18: BBZ059843 | M18: 2 / 0 | N18: autoalarm immobiliser | O18: 111475 | P18: 125086 | Q18: 146000 | R18: 169187 | S18: 188527 | T18: 209515 | U18: 230000 | V18: 258961 | W18: 286248 | X18: 298202 | Y18: 315700 | Z18: 4500 | AA18: 4500 | AB18: 5000 | AC18: 5500 | AD18: 6100 | AE18: 6100 | AF18: 6700 | AG18: 7400 | AH18: 9000 | AI18: 10500 | AJ18: 11500 | AK18: 12500 | AL18: 14200 | AM18: 17500 | AN18: 20000 | AQ18: X | AW18: =SUM(AP18:AR18,AT18:AV18) -> 0 | AX18: 2020. | AY18: 42145 | AZ18: 2021. | BA18: 42510 | BB18: Olsztyn
A19: 12 | B19: SKODA OCTAVIA II AMBIENTE 1,8 TSI - 6G manual sedan | C19: NO7687E | D19: osob. | E19: 2010 | F19: 07.06.2010 | G19: 07.07.2015 | H19: 1798 / 118 | I19: 5 / | J19: 1955 | K19: TMBCK61Z2A2126759 | L19: - | M19: 2 / 0 | N19: autoalarm, immobiliser z transponderem | O19: - | P19: - | Q19: - | R19: 7300 | S19: 28843 | T19: 47100 | U19: 68000 | V19: 122039 | W19: 173614 | X19: 199153 | Y19: 260000 | Z19: 18200 | AA19: 18200 | AB19: 19700 | AC19: 21000 | AD19: 23300 | AE19: 23300 | AF19: 25500 | AG19: 31500 | AH19: 36000 | AI19: 42000 | AJ19: 50000 | AK19: 59000 | AL19: 69800 | AM19: - | AN19: - | AQ19: X | AW19: =SUM(AP19:AR19,AT19:AV19) -> 0 | AX19: 2020. | AY19: 42162 | AZ19: 2021. | BA19: 42527 | BB19: Olsztyn
A20: 13 | B20: SKODA OCTAVIA II LIFTBACK AMBIENTE | C20: NO85008 | D20: osob. | E20: 2007 | F20: 16.07.2007 | G20: 08.07.214 | H20: 1598 / 85 | I20: 5 / | J20: 1925 | K20: TMBCB61Z288008203 | L20: - | M20: 2 / 0 | N20: autoalarm immobiliser | O20: 9549 | P20: 36430 | Q20: 51000 | R20: 72970 | S20: 92668 | T20: 114100 | U20: 136000 | V20: 177655 | W20: 220782 | X20: 260093 | Y20: 309700 | Z20: 9600 | AA20: 9600 | AB20: 10400 | AC20: 11400 | AD20: 12700 | AE20: 12700 | AF20: 15000 | AG20: 18500 | AH20: 20500 | AI20: 23000 | AJ20: 28500 | AK20: 34500 | AL20: 40000 | AM20: 43000 | AN20: 60000 | AQ20: X | AW20: =SUM(AP20:AR20,AT20:AV20) -> 0 | AX20: 2020. | AY20: 42201 | AZ20: 2021. | BA20: 42566 | BB20: Olsztyn
A21: 14 | B21: Peugeot C 208 Active+ hatchback | C21: NO3489S | D21: osobowy | E21: 2018 | F21: 09.08.2018 | H21: 1199 / 60 | I21: 5 / 571 | J21: 1546 | K21: VF3CCHMZ6JT021578 | M21: 2 / 0 | N21: immobiliser | Z21: 40000 | AA21: 40000 | AB21: 45000 | AC21: 50890 | AO21: 50890 | AQ21: X | AW21: =SUM(AP21:AR21,AT21:AV21) -> 0 | AX21: 2020. | AY21: 43686 | AZ21: 2021. | BA21: 44051 | BB21: Olsztyn
A22: 15 | B22: SKODA zakup w grudniu 2018 | D22: osobowy | E22: 2018 | M22: 2 / 0 | N22: immobiliser | Z22: 103000 | AA22: 103000 | AB22: 122000 | AC22: 142000 | AO22: 142000 | AW22: =SUM(AP22:AR22,AT22:AV22) -> 0 | AX22: 2020. | AZ22: 2021. | BB22: Olsztyn | BC22: Rosja na terytorium Obwodu Kaliningradzkiego
A23: 16 | B23: Renault Trafic Grand Passenger L2 Pack Clim | C23: NO0786L | D23: osobowy | E23: 2014 | F23: 25.09.2014 | G23: 21.10.2014 | H23: 1995 / 84 | I23: 9 / 987 | J23: 3055 | K23: VF1JLB7B2EY780123 | M23: 2 / 0 | N23: autoalarm immobiliser | V23: 751 | W23: 29074 | X23: 46579 | Y23: 72700 | Z23: 49000 | AA23: 49000 | AB23: 55000 | AC23: 59600 | AD23: 66300 | AE23: 66300 | AF23: 75000 | AG23: 90000 | AH23: 114500 | AW23: =SUM(AP23:AR23,AT23:AV23) -> 0 | AX23: 2020. | AY23: 42272 | AZ23: 2021. | BA23: 42637 | BB23: Olsztyn | BC23: Rosja na terytorium Obwodu Kaliningradzkiego
A24: 17 | B24: Hyundai i30 Comfort Hatchback | C24: NO5451M | D24: osobowy | E24: 2015 | F24: 06.11.2015 | H24: 1582 / 81 | I24: 5 / | J24: 1920 | K24: TMAD351UAGJ298993 | M24: 2 / 0 | N24: autoalarm immobiliser | X24: 31148 | Y24: 90400 | Z24: 30000 | AA24: 30000 | AB24: 33600 | AC24: 39000 | AD24: 45300 | AE24: 45300 | AF24: 52100 | AG24: 64600 | AO24: 64600 | AQ24: X | AW24: =SUM(AP24:AR24,AT24:AV24) -> 0 | AX24: 2020. | AY24: 42680 | AZ24: 2021. | BA24: 43044 | BB24: Olsztyn
A25: 18 | B25: Skoda Octavia Ambition 1.8 TSI sedan | C25: NO5105R | D25: osobowy | E25: 2017 | F25: 05.12.2017 | H25: 1798 / 132 | I25: 5 / 585 | J25: 1830 | K25: TMBAD7NE8J0187396 | M25: 2 / 0 | N25: autoalarm immobiliser | Y25: 19300 | Z25: 52000 | AA25: 52000 | AB25: 58000 | AC25: 70000 | AD25: 90000 | AE25: 90000 | AO25: 90000 | AQ25: X | AW25: =SUM(AP25:AR25,AT25:AV25) -> 0 | AX25: 2020. | AY25: 43074 | AZ25: 2021. | BA25: 43073 | BB25: Olsztyn
AI26: =SUM(AI7:AI13) -> 75500 | AJ26: =SUM(AJ7:AJ13) -> 90000 | AP26: =SUM(AP17:AP25) -> 0 | AQ26: =SUM(AQ17:AQ25) -> 0 | AR26: =SUM(AR17:AR25) -> 0 | AS26: X | AT26: =SUM(AT17:AT25) -> 0 | AU26: =SUM(AU17:AU25) -> 0 | AV26: =SUM(AV17:AV25) -> 0 | AW26: =SUM(AW6:AW14) -> 0 | AX26: Razem 2020 rok
A27: * | B27: w przypadku bezskładkowego objęcia ochroną danego zakresu ubezpieczenia proszę wpisać 0 zł | AP27: =SUM(AP26:AV26) -> 0 | AX27: Ogółem 2020 rok
AP28: =SUM(AP15,AP26) -> 0 | AQ28: =SUM(AQ15,AQ26) -> 0 | AR28: =SUM(AR15,AR26) -> 0 | AS28: X | AT28: =SUM(AT15,AT26) -> 0 | AU28: =SUM(AU15,AU26) -> 0 | AV28: =SUM(AV15,AV26) -> 0 | AX28: Łącznie za 2 lata
AP29: =SUM(AP28:AV28) -> 0
Z31: =SUM(Z6:Z14) -> 391700
Z32: =SUM(Z17:Z25) -> 345300
Z33: =SUM(Z31:Z32) -> 737000

Sheet ELBLĄG
A1: Załącznik nr 2b do OPZ Załącznik nr 2b do Umowy
A2: WYKAZ POJAZDÓW ZARZĄDU DRÓG WOJEWÓDZKICH W ELBLĄGU DO UBEZPIECZENIA NA LATA 2019-2020
A3: 4 | B3: 20 | C3: 8 | D3: 8 | E3: 5 | F3: 8 | G3: 8 | H3: 8 | I3: 9 | J3: 9 | K3: 9 | L3: 9 | M3: 8 | N3: 11 | O3: 7 | P3: 7 | Q3: 7 | R3: 7 | S3: 7 | T3: 7 | U3: 7 | V3: 7 | W3: 7 | X3: 7 | Y3: 7 | Z3: 9 | AA3: 7 | AB3: 7 | AC3: 7 | AD3: 9 | AE3: 7 | AF3: 7 | AG3: 7 | AH3: 7 | AI3: 7 | AJ3: 7 | AK3: 7 | AL3: 7 | AM3: 7 | AN3: 7 | AO3: 7 | AP3: 8 | AQ3: 8 | AR3: 8 | AS3: 8 | AT3: 8 | AU3: 8 | AV3: 8 | AW3: 9 | AX3: 4 | AY3: 4 | AZ3: 4 | BA3: 4 | BB3: 7 | BC3: 31
A4: lp | B4: Marka, model, typ pojazdu | C4: Nr rejestr. | D4: Rodzaj | E4: Rok prod. | F4: Data I rejestr. | G4: Data bad. techn. | H4: Poj. silnika / moc [kW] | I4: Liczba miejsc / ładowność w kg | J4: DMC [kg] | K4: Nr nadwozia | L4: Nr silnika | M4: Liczba kluczyków | N4: Zabezpiecz. | O4: Przebieg w km | P4: Przebieg w km 11.2008 | Q4: Przebieg w km 11.2009 | R4: Przebieg w km 11.2010 | S4: Przebieg 10.2011 [km] | T4: Przebieg 10.2012 [km] | U4: Przebieg 09.2013 [km] | V4: Przebieg 09.2014 [km] | W4: Przebieg 10.2015 [km] | X4: Przebieg 10.2016 [km] | Y4: Przebieg 06.2018 [km] | Z4: Wartość z VAT [zł] | AA4: Wartość 2020 | AB4: Wartość 2019 | AC4: Wartość 2018 | AD4: Wartość z VAT - 2 lata - 2017 i 2018 [zł] | AE4: Wartość 2017 | AF4: Wartość 2016 | AG4: Wartość 2015 | AH4: Wartość 2014 | AI4: Wartość 2013 | AJ4: Wartość 2012 | AK4: Wartość 2011 | AL4: Wartość 2010 | AM4: Wartość 2008/2009 | AN4: Wartość 2007/2008 | AO4: Wartość nowa | AP4: Składka [zł] * | AX4: Okres ubezpieczenia | BB4: Rejon | BC4: Uwagi
J5: dopuszczalna masa całkowita | M5: oryg./ nieoryg. | AP5: OC | AQ5: ZK zielona karta | AR5: AC | AS5: AC - % SU | AT5: NNW | AU5: Assistance podstawowy | AV5: Assistance rozszerzony | AW5: Łącznie za pojazd | AX5: od | AZ5: do
A6: 1 | B6: Kosiarka samojezdna Husqvarna TS342 | C6: b/n | D6: kosiarka | E6: 2014 | F6: - | H6: - | K6: 111014A001223 | X6: - | Y6: - | Z6: - | AA6: - | AB6: - | AO6: 29192 | AQ6: X | AR6: X | AS6: X | AU6: X | AV6: X | AW6: =SUM(AP6:AR6,AT6:AV6) -> 0 | AX6: 2019. | AY6: 42736 | AZ6: 2019. | BA6: 43100 | BB6: Elbląg
A7: 2 | B7: PRONAR T 653 | C7: NE2010E | D7: przyczepa ciężarowa rolnicza | E7: 2016 | F7: 13.01.2017 | H7: - | I7: 0 / 4000 | J7: 5950 | K7: SZB6530XXH1X08961 | M7: - | X7: - | Y7: - | Z7: 18000 | AA7: 15200 | AB7: 18000 | AC7: 22000 | AD7: 27060 | AE7: 27060 | AO7: 27060 | AQ7: X | AT7: X | AU7: X | AV7: X | AW7: =SUM(AP7:AR7,AT7:AV7) -> 0 | AX7: 2019. | AY7: 42748 | AZ7: 2020. | BA7: 43112 | BB7: Elbląg
A8: 3 | B8: URSUS C-360 | C8: NE0065 | D8: ciągnik roln. | E8: 1986 | F8: 30.04.1986 | G8: 28.09.2017 | H8: 3120 / | I8: 1 / | J8: - | K8: 544723 | L8: 239/83 | M8: 0 / 1 | N8: - | O8: 2150 mtg | P8: 2403+76 | Q8: 479 | R8: 759 mtg | S8: - | T8: - | U8: 1354 mtg | V8: 1556 mtg | W8: - | X8: - | Y8: - | Z8: - | AA8: - | AB8: - | AC8: - | AD8: - | AE8: - | AF8: - | AG8: - | AH8: - | AI8: - | AJ8: - | AK8: - | AL8: - | AM8: - | AN8: - | AQ8: X | AR8: X | AS8: X | AU8: X | AV8: X | AW8: =SUM(AP8:AR8,AT8:AV8) -> 0 | AX8: 2019. | AY8: 41314 | AZ8: 2020. | BA8: 41678 | BB8: Elbląg
A9: 4 | B9: AUTOSAN SANOK D-35M | C9: NE04757 | D9: p-pa | E9: 1972 | F9: 16.03.1972 | G9: 26.10.2016 | H9: - | I9: 0 / 3500 | J9: 4600 | K9: 82160 | L9: - | M9: 0 | N9: - | O9: - | P9: - | Q9: - | R9: - | S9: - | T9: - | U9: - | W9: - | X9: - | Y9: - | Z9: - | AA9: - | AB9: - | AC9: - | AD9: - | AE9: - | AF9: - | AG9: - | AH9: - | AI9: - | AJ9: - | AK9: - | AL9: - | AM9: - | AN9: - | AQ9: X | AR9: X | AS9: X | AT9: X | AU9: X | AV9: X | AW9: =SUM(AP9:AR9,AT9:AV9) -> 0 | AX9: 2019. | AY9: 41314 | AZ9: 2020. | BA9: 41678 | BB9: Elbląg
A10: 5 | B10: Renault Kangoo Oasis 1,5 d | C10: NE90347 | D10: osob. | E10: 2012 | F10: 19.04.2012 | G10: 08.05.2017 | H10: 1461 / 66 | I10: 5 / 531 | J10: 1954 | K10: VF1KW25B547034819 | M10: 2 / 0 | N10: immobiliser autoalarm | O10: - | T10: 14460 | U10: 37700 | V10: 65231 | W10: 101120 | X10: 131219 | Y10: 181827 | Z10: 19300 | AA10: 17400 | AB10: 19300 | AC10: 21100 | AD10: 23400 | AE10: 23400 | AF10: 26100 | AG10: 32100 | AH10: 37000 | AI10: 44000 | AJ10: 59955 | AQ10: X | AV10: X | AW10: =SUM(AP10:AR10,AT10:AV10) -> 0 | AX10: 2019. | AY10: 41383 | AZ10: 2020. | BA10: 41747 | BB10: Elbląg
A11: 6 | B11: Wiola W3 | C11: NE53711 | D11: p-pa | E11: 2009 | F11: 06.05.2009 | G11: - | H11: - | I11: 0 / 310 | J11: 600 | K11: SUCW3F30F92001936 | L11: - | M11: - | N11: - | O11: - | P11: - | Q11: - | R11: - | S11: - | T11: - | U11: - | W11: - | X11: - | Y11: - | Z11: - | AA11: - | AB11: - | AC11: - | AD11: - | AE11: - | AF11: - | AG11: - | AH11: - | AI11: - | AJ11: - | AK11: - | AL11: - | AM11: - | AN11: - | AQ11: X | AR11: X | AS11: X | AT11: X | AU11: X | AV11: X | AW11: =SUM(AP11:AR11,AT11:AV11) -> 0 | AX11: 2019. | AY11: 41400 | AZ11: 2020. | BA11: 41764 | BB11: Elbląg
A12: 7 | B12: Renault Trafic Pack Clim | C12: NE84968 | D12: ciężarowy | E12: 2011 | F12: 16.05.2011 | G12: 12.06.2016 | H12: 1995 / 84 | I12: 6 / 1035 | J12: 2960 | K12: VF1FLBHB6BY379567 | L12: - | M12: 2 / 0 | N12: autoalarm immobiliser z transponderem | O12: - | P12: - | Q12: - | R12: - | S12: 9134 | T12: 33534 | U12: 51460 | V12: 71264 | W12: 91400 | X12: 110580 | Y12: 150127 | Z12: 28800 | AA12: 26200 | AB12: 28800 | AC12: 33300 | AD12: 37000 | AE12: 37000 | AF12: 40000 | AG12: 43500 | AH12: 49500 | AI12: 60000 | AJ12: 75000 | AK12: 113869.71 | AL12: - | AM12: - | AN12: - | AQ12: X | AV12: X | AW12: =SUM(AP12:AR12,AT12:AV12) -> 0 | AX12: 2019. | AY12: 41410 | AZ12: 2020. | BA12: 41774 | BB12: Elbląg
A13: 8 | B13: Renault Kangoo Oasis 1,5 d | C13: NE84969 | D13: osobowy | E13: 2011 | F13: 16.05.2011 | G13: 16.05.2016 | H13: 1461 / 66 | I13: 5 / 528 | J13: 1954 | K13: VF1KW25B545045810 | L13: - | M13: 2 / 0 | N13: autoalarm immobiliser | O13: - | P13: - | Q13: - | R13: - | S13: 11279 | T13: 38685 | U13: 60319 | V13: 89204 | W13: 120175 | X13: 147506 | Y13: 202046 | Z13: 16700 | AA13: 15500 | AB13: 16700 | AC13: 19300 | AD13: 21400 | AE13: 21400 | AF13: 24000 | AG13: 27600 | AH13: 32000 | AI13: 37000 | AJ13: 45000 | AK13: 54899.98 | AL13: - | AM13: - | AN13: - | AQ13: X | AV13: X | AW13: =SUM(AP13:AR13,AT13:AV13) -> 0 | AX13: 2019. | AY13: 41410 | AZ13: 2020. | BA13: 41774 | BB13: Elbląg
A14: 9 | B14: Renault Kangoo Oasis 1,5 d | C14: NE84970 | D14: osobowy | E14: 2011 | F14: 16.05.2011 | G14: 16.05.2016 | H14: 1461 / 66 | I14: 5 / 528 | J14: 1954 | K14: VF1KW25B545144512 | L14: - | M14: 2 / 0 | N14: autoalarm immobiliser | O14: - | P14: - | Q14: - | R14: - | S14: 11917 | T14: 39872 | U14: 59986 | V14: 87692 | W14: 118430 | X14: 142959 | Y14: 187848 | Z14: 17200 | AA14: 16100 | AB14: 17200 | AC14: 19300 | AD14: 21400 | AE14: 21400 | AF14: 24000 | AG14: 27600 | AH14: 32000 | AI14: 37000 | AJ14: 45000 | AK14: 54899.98 | AL14: - | AM14: - | AN14: - | AQ14: X | AV14: X | AW14: =SUM(AP14:AR14,AT14:AV14) -> 0 | AX14: 2019. | AY14: 41410 | AZ14: 2020. | BA14: 41774 | BB14: Elbląg
A15: 10 | B15: Renault Trafic Furgon Pack Clim 2,9t L2H1 dCi | C15: NE76879 | D15: ciężar. | E15: 2010 | F15: 11.06.2010 | G15: 11.06.2016 | H15: 1995 / 84 | I15: 6 / 860 | J15: 2960 | K15: VF1FLBHB6AV383811 | L15: - | M15: 2 / 0 | N15: autoalarm, immobiliser z transponderem | O15: - | P15: - | Q15: 1968 | R15: 5474 | S15: 26921 | T15: 48636 | U15: 66767 | V15: 90905 | W15: 116506 | X15: 130034 | Y15: 184835 | Z15: 26100 | AA15: 24000 | AB15: 26100 | AC15: 29700 | AD15: 33000 | AE15: 33000 | AF15: 35000 | AG15: 37300 | AH15: 42500 | AI15: 49500 | AJ15: 63000 | AK15: 80000 | AL15: 105950 | AM15: - | AN15: - | AQ15: X | AV15: X | AW15: =SUM(AP15:AR15,AT15:AV15) -> 0 | AX15: 2019. | AY15: 41436 | AZ15: 2020. | BA15: 41800 | BB15: Elbląg
A16: 11 | B16: NIEWIADÓW B 750 | C16: NE53099 | D16: p-pa | E16: 2007 | F16: 15.06.2007 | G16: bezterminowo | H16: - | I16: 0 / 365 | J16: 600 | K16: SWNB7500070031496 | L16: - | M16: - | N16: - | P16: - | Q16: - | R16: - | S16: - | T16: - | U16: - | W16: - | X16: - | Y16: - | Z16: - | AA16: - | AB16: - | AC16: - | AD16: - | AE16: - | AF16: - | AG16: - | AH16: - | AI16: - | AJ16: - | AK16: - | AL16: - | AM16: - | AN16: - | AQ16: X | AR16: X | AS16: X | AT16: X | AU16: X | AV16: X | AW16: =SUM(AP16:AR16,AT16:AV16) -> 0 | AX16: 2019. | AY16: 41440 | AZ16: 2020. | BA16: 41804 | BB16: Elbląg
A17: 12 | B17: NIEWIADÓW B 750 | C17: NE53100 | D17: p-pa | E17: 2007 | F17: 15.06.2007 | G17: bezterminowo | H17: - | I17: 0 / 365 | J17: 600 | K17: SWNB7500070031490 | L17: - | M17: - | N17: - | O17: - | P17: - | Q17: - | R17: - | S17: - | T17: - | U17: - | W17: - | X17: - | Y17: - | Z17: - | AA17: - | AB17: - | AC17: - | AD17: - | AE17: - | AF17: - | AG17: - | AH17: - | AI17: - | AJ17: - | AK17: - | AL17: - | AM17: - | AN17: - | AQ17: X | AR17: X | AS17: X | AT17: X | AU17: X | AV17: X | AW17: =SUM(AP17:AR17,AT17:AV17) -> 0 | AX17: 2019. | AY17: 41440 | AZ17: 2020. | BA17: 41804 | BB17: Elbląg
A18: 13 | B18: SKODA OCTAVIA II LIFTBACK AMBIENTE | C18: NE92152 | D18: osob. | E18: 2007 | F18: 16.07.2007 | G18: 11.09.2016 | H18: 1598 / 85 | I18: 5 / | J18: 1925 | K18: TMBCB61Z882021282 | L18: BLF350526 | M18: 2 / 0 | N18: autoalarm immobiliser z transponderem | O18: 13183 | P18: 39880 | Q18: 68375 | R18: 97226 | S18: 127785 | T18: 155916 | U18: 181880 | V18: 212932 | W18: 246253 | X18: 269081 | Y18: 302980 | Z18: 10300 | AA18: 9400 | AB18: 10300 | AC18: 11250 | AD18: 12500 | AE18: 12500 | AF18: 14500 | AG18: 16000 | AH18: 18000 | AI18: 22000 | AJ18: 27000 | AK18: 32000 | AL18: 39000 | AM18: 44000 | AN18: 60000 | AQ18: X | AV18: X | AW18: =SUM(AP18:AR18,AT18:AV18) -> 0 | AX18: 2019. | AY18: 41471 | AZ18: 2020. | BA18: 41835 | BB18: Elbląg
A19: 14 | B19: SKODA OCTAVIA II LIFTBACK AMBIENTE | C19: NO85010 | D19: osob. | E19: 2007 | F19: 16.07.2007 | G19: 03.07.2016 | H19: 1598 / 85 | I19: 5 / | J19: 1925 | K19: TMBCB61Z682019644 | L19: - | M19: 2 / 0 | N19: autoalarm immobiliser | O19: 7484 | P19: 27040 | Q19: 43000 | R19: 66300 | S19: 94469 | T19: 117600 | U19: 145000 | V19: 179056 | W19: 209180 | X19: 230594 | Y19: 259884 | Z19: 11500 | AA19: 10600 | AB19: 11500 | AC19: 12400 | AD19: 13800 | AE19: 13800 | AF19: 16800 | AG19: 18500 | AH19: 20500 | AI19: 23000 | AJ19: 28500 | AK19: 35000 | AL19: 41000 | AM19: 44600 | AN19: 60000 | AQ19: X | AW19: =SUM(AP19:AR19,AT19:AV19) -> 0 | AX19: 2019. | AY19: 41471 | AZ19: 2020. | BA19: 41835 | BB19: Elbląg | BC19: Ubezpieczony: ZDW Olsztyn
A20: 15 | B20: Renault Trafic Furgon Pack Clim 2,9t L2H1 dCi | C20: NE72390 | D20: ciężar. | E20: 2009 | F20: 23.07.2009 | G20: 21.07.2016 | H20: 1995 / 84 | I20: 6 / 1235 | J20: 2960 | K20: VF1FLBHB69V350356 | L20: - | M20: 2 / 0 | N20: autoalarm, immobiliser z transponderem | O20: - | P20: - | Q20: 4134 | R20: 25559 | S20: 47293 | T20: 70738 | U20: 88801 | V20: 109224 | W20: 131316 | X20: 151362 | Y20: 181945 | Z20: 23500 | AA20: 21400 | AB20: 23500 | AC20: 25200 | AD20: 28000 | AE20: 28000 | AF20: 29900 | AG20: 32200 | AH20: 36500 | AI20: 41000 | AJ20: 48000 | AK20: 63000 | AL20: 77000 | AM20: 100333 | AN20: - | AQ20: X | AV20: X | AW20: =SUM(AP20:AR20,AT20:AV20) -> 0 | AX20: 2019. | AY20: 41478 | AZ20: 2020. | BA20: 41842 | BB20: Elbląg
A21: 16 | B21: Wiola W3 | C21: NE76143 | D21: p-pa | E21: 2010 | F21: 23.07.2010 | G21: - | H21: - | I21: 0 / 310 | J21: 600 | K21: SUCW3F30FA2002582 | L21: - | M21: - | N21: - | O21: - | P21: - | Q21: - | R21: - | S21: - | T21: - | U21: - | W21: - | X21: - | Y21: - | Z21: - | AA21: - | AB21: - | AD21: - | AE21: - | AF21: - | AG21: - | AH21: - | AI21: - | AJ21: - | AK21: - | AL21: - | AM21: - | AN21: - | AQ21: X | AR21: X | AS21: X | AT21: X | AU21: X | AV21: X | AW21: =SUM(AP21:AR21,AT21:AV21) -> 0 | AX21: 2019. | AY21: 41478 | AZ21: 2020. | BA21: 41842 | BB21: Elbląg
A22: 17 | B22: Citroen Berlingo B9 VP XTR VTI 120 Kombi | C22: NE9439C | D22: osob. | E22: 2016 | F22: 29.07.2016 | H22: 1598 / 88 | I22: 5 / | J22: 2000 | K22: VF77J5FS6GJ760037 | M22: 2 / 0 | N22: autoalarm immobiliser | X22: 4657 | Y22: 32675 | Z22: 34500 | AA22: 31200 | AB22: 34500 | AC22: 45800 | AD22: 54100 | AE22: 54100 | AF22: 67650 | AO22: 67650 | AQ22: X | AW22: =SUM(AP22:AR22,AT22:AV22) -> 0 | AX22: 2019. | AY22: 42580 | AZ22: 2020. | BA22: 42944 | BB22: Elbląg
A23: 18 | B23: Wiola W3H Krakus Komfort Plus | C23: NO8012S | D23: przyczepa lekka | E23: 2018 | F23: 06.09.2018 | H23: - | I23: 473 | J23: 750 | K23: SUCE4ASA4J1000377 | X23: - | Y23: - | Z23: 6600 | AA23: 5460 | AB23: 6600 | AC23: 8270 | AO23: 8270 | AQ23: X | AT23: X | AU23: X | AV23: X | AW23: =SUM(AP23:AR23,AT23:AV23) -> 0 | AX23: 2019. | AY23: 43714 | AZ23: 2020. | BA23: 44079 | BB23: Elbląg | BC23: Ubezpieczony: ZDW Olsztyn
A24: 19 | B24: CASE IH FARMALL 105C z wyposażeniem dodatkowym | C24: NE4251 | D24: ciągnik rolniczy | E24: 2017 | F24: 03.10.2017 | H24: 3387 / 79 | I24: 2 / | J24: 6200 | K24: HLRFC105JHLF03530 | M24: 2 / 0 | N24: immobiliser | Y24: 212 | Z24: 197600 | AA24: 177400 | AB24: 197600 | AC24: 223300 | AD24: 261498 | AE24: 261498 | AO24: =199260 + 45264 +16974 -> 261498 | AQ24: X | AU24: X | AV24: X | AW24: =SUM(AP24:AR24,AT24:AV24) -> 0 | AX24: 2019. | AY24: 43011 | AZ24: 2020. | BA24: 43010 | BB24: Elbląg | BC24: Wyposażenie dodatkowe: wysięgnik tylny KWT550 o nr fabrycznym: 0030867 oraz myjką do znaków drogowych SAMASZ ROLLER 1000 o nr fabrycznym 0031240, rok prod. 2017.
A25: 20 | B25: DAEWOO LANOS SX | C25: NE82663 | D25: osob. | E25: 2000 | F25: 11.10.2000 | G25: 05.03.2016 | H25: 1598 / 77 | I25: 5 / | J25: 1595 | K25: SUPTF696DYW123713 | L25: A16DMS010374R | M25: 2 / 0 | N25: autoalarm immobiliser | O25: 148034 | P25: 175026 | Q25: 201644 | R25: 226920 | S25: 253705 | T25: 267162 | U25: 277256 | V25: 292213 | W25: 309024 | X25: 314949 | Y25: - | Z25: - | AA25: - | AB25: - | AC25: - | AD25: - | AE25: - | AF25: 2200 | AG25: 2500 | AH25: 3000 | AI25: 3400 | AJ25: 3800 | AK25: 5400 | AL25: 6300 | AM25: 7500 | AN25: 9500 | AQ25: X | AR25: X | AS25: X | AT25: X | AU25: X | AV25: X | AW25: =SUM(AP25:AR25,AT25:AV25) -> 0 | AX25: 2019. | AY25: 41558 | AZ25: 2020. | BA25: 41922 | BB25: Elbląg
A26: 21 | B26: NIEWIADÓW B 7520H | C26: NE04993 | D26: p-pa | E26: 2000 | F26: 20.11.2000 | G26: bezterminowo | H26: - | I26: 0 / 545 | J26: 750 | K26: SWNB75000Y0006862 | L26: - | M26: - | N26: - | O26: - | P26: - | Q26: - | R26: - | S26: - | T26: - | U26: - | W26: - | X26: - | Y26: - | Z26: - | AA26: - | AB26: - | AC26: - | AD26: - | AE26: - | AF26: - | AG26: - | AH26: - | AI26: - | AJ26: - | AK26: - | AL26: - | AM26: - | AN26: - | AQ26: X | AR26: X | AS26: X | AT26: X | AU26: X | AV26: X | AW26: =SUM(AP26:AR26,AT26:AV26) -> 0 | AX26: 2019. | AY26: 41609 | AZ26: 2020. | BA26: 41973 | BB26: Elbląg
A27: 22 | B27: Citroen Berlingo B9 VP XTR VTI 120 Kombi | C27: NE2219E | D27: osob. | E27: 2016 | F27: 09.12.2016 | H27: 1598 / 88 | I27: 5 / | J27: 2000 | M27: 2 / 0 | N27: autoalarm immobiliser | X27: - | Y27: 26245 | Z27: 34000 | AA27: 30800 | AB27: 34000 | AC27: 45800 | AD27: 54100 | AE27: 54100 | AF27: 67650 | AO27: 67650 | AQ27: X | AW27: =SUM(AP27:AR27,AT27:AV27) -> 0 | AX27: 2019. | AY27: 43078 | AZ27: 2020. | BA27: 43442 | BB27: Elbląg
A28: 23 | B28: WIOLA W-600H | C28: NE2088C | D28: p-pa lekka | E28: 2015 | F28: 11.12.2015 | H28: - | I28: 0 / 284 | J28: 500 | K28: SUCE3ASA3F1000542 | M28: - | N28: - | W28: - | X28: - | Y28: - | Z28: 8470 | AA28: 7590 | AB28: 8470 | AC28: 9880 | AD28: 11700 | AE28: 11700 | AF28: =4500 + 9700 -> 14200 | AG28: 17650.5 | AO28: =5596.5 + 12054 -> 17650.5 | AQ28: X | AT28: X | AU28: X | AV28: X | AW28: =SUM(AP28:AR28,AT28:AV28) -> 0 | AX28: 2019. | AY28: 41619 | AZ28: 2020. | BA28: 41983 | BB28: Elbląg | BC28: przyczepa z dostosowaniem do przewozu tablicy ostrzegawczej typu U26C o wartości 5780 zł
A29: 24 | B29: Wiola W-600H Krakus Komfort | C29: NE0612A | D29: p-pa lekka | E29: 2014 | F29: 16.12.2014 | G29: beztermino-wo | H29: - | I29: 0 / 550 | J29: 750 | M29: - | N29: - | W29: - | X29: - | Y29: - | Z29: 6450 | AA29: 5850 | AB29: 6450 | AC29: 7200 | AD29: 8500 | AE29: 8500 | AF29: =3000+8500 -> 11500 | AG29: =3542+8458 -> 12000 | AH29: =4428+10572 -> 15000 | AI29: =4428+10572 -> 15000 | AJ29: =4428+10572 -> 15000 | AK29: =4428+10572 -> 15000 | AL29: =4428+10572 -> 15000 | AM29: =4428+10572 -> 15000 | AN29: =4428+10572 -> 15000 | AO29: =4428+10572 -> 15000 | AQ29: X | AT29: X | AU29: X | AV29: X | AW29: =SUM(AP29:AR29,AT29:AV29) -> 0 | AX29: 2019. | AY29: 41624 | AZ29: 2020. | BA29: 41988 | BB29: Elbląg | BC29: przyczepa z dostosowaniem do przewozu tablicy ostrzegawczej typu U26C o wartości 4550 zł
A30: 25 | B30: Wiola W-600H Krakus Komfort | C30: NE0613A | D30: p-pa lekka | E30: 2014 | F30: 16.12.2014 | G30: beztermino-wo | H30: - | I30: 0 / 550 | J30: 750 | M30: - | N30: - | W30: - | X30: - | Y30: - | Z30: 6450 | AA30: 5850 | AB30: 6450 | AC30: 7200 | AD30: 8500 | AE30: 8500 | AF30: =3000+8500 -> 11500 | AG30: =3542+8458 -> 12000 | AO30: =4428+10572 -> 15000 | AQ30: X | AT30: X | AU30: X | AV30: X | AW30: =SUM(AP30:AR30,AT30:AV30) -> 0 | AX30: 2019. | AY30: 41624 | AZ30: 2020. | BA30: 41988 | BB30: Elbląg | BC30: przyczepa z dostosowaniem do przewozu tablicy ostrzegawczej typu U26C o wartości 4550 zł
AP31: =SUM(AP6:AP30) -> 0 | AQ31: X | AR31: =SUM(AR6:AR30) -> 0 | AS31: X | AT31: =SUM(AT6:AT30) -> 0 | AU31: =SUM(AU6:AU30) -> 0 | AV31: =SUM(AV6:AV30) -> 0 | AW31: =SUM(AW6:AW30) -> 0 | AX31: Razem 2019 rok
A32: * | B32: w przypadku bezskładkowego objęcia ochroną danego zakresu ubezpieczenia proszę wpisać 0 zł | AP32: =SUM(AP31:AV31) -> 0 | AX32: Ogółem 2019 rok
A33: 26 | B33: Kosiarka samojezdna Husqvarna TS342 | C33: b/n | D33: kosiarka | E33: 2014 | F33: - | H33: - | K33: 111014A001223 | X33: - | Y33: - | Z33: - | AA33: - | AB33: - | AO33: 29192 | AQ33: X | AR33: X | AS33: X | AU33: X | AV33: X | AW33: =SUM(AP33:AR33,AT33:AV33) -> 0 | AX33: 2020. | AY33: 42736 | AZ33: 2020. | BA33: 43100 | BB33: Elbląg
A34: 27 | B34: PRONAR T 653 | C34: NE2010E | D34: przyczepa ciężarowa rolnicza | E34: 2016 | F34: 13.01.2017 | H34: - | I34: 0 / 4000 | J34: 5950 | K34: SZB6530XXH1X08961 | M34: - | X34: - | Y34: - | Z34: 15200 | AA34: 15200 | AB34: 18000 | AC34: 22000 | AD34: 27060 | AE34: 27060 | AO34: 27060 | AQ34: X | AT34: X | AU34: X | AV34: X | AW34: =SUM(AP34:AR34,AT34:AV34) -> 0 | AX34: 2020. | AY34: 42748 | AZ34: 2021. | BA34: 43112 | BB34: Elbląg
A35: 28 | B35: URSUS C-360 | C35: NE0065 | D35: ciągnik roln. | E35: 1986 | F35: 30.04.1986 | G35: 28.09.2017 | H35: 3120 / | I35: 1 / | J35: - | K35: 544723 | L35: 239/83 | M35: 0 / 1 | N35: - | O35: 2150 mtg | P35: 2403+76 | Q35: 479 | R35: 759 mtg | S35: - | T35: - | U35: 1354 mtg | V35: 1556 mtg | W35: - | X35: - | Y35: - | Z35: - | AA35: - | AB35: - | AC35: - | AD35: - | AE35: - | AF35: - | AG35: - | AH35: - | AI35: - | AJ35: - | AK35: - | AL35: - | AM35: - | AN35: - | AQ35: X | AR35: X | AS35: X | AU35: X | AV35: X | AW35: =SUM(AP35:AR35,AT35:AV35) -> 0 | AX35: 2020. | AY35: 41314 | AZ35: 2021. | BA35: 41678 | BB35: Elbląg
A36: 29 | B36: AUTOSAN SANOK D-35M | C36: NE04757 | D36: p-pa | E36: 1972 | F36: 16.03.1972 | G36: 26.10.2016 | H36: - | I36: 0 / 3500 | J36: 4600 | K36: 82160 | L36: - | M36: 0 | N36: - | O36: - | P36: - | Q36: - | R36: - | S36: - | T36: - | U36: - | W36: - | X36: - | Y36: - | Z36: - | AA36: - | AB36: - | AC36: - | AD36: - | AE36: - | AF36: - | AG36: - | AH36: - | AI36: - | AJ36: - | AK36: - | AL36: - | AM36: - | AN36: - | AQ36: X | AR36: X | AS36: X | AT36: X | AU36: X | AV36: X | AW36: =SUM(AP36:AR36,AT36:AV36) -> 0 | AX36: 2020. | AY36: 41314 | AZ36: 2021. | BA36: 41678 | BB36: Elbląg
A37: 30 | B37: Renault Kangoo Oasis 1,5 d | C37: NE90347 | D37: osob. | E37: 2012 | F37: 19.04.2012 | G37: 08.05.2017 | H37: 1461 / 66 | I37: 5 / 531 | J37: 1954 | K37: VF1KW25B547034819 | M37: 2 / 0 | N37: immobiliser autoalarm | O37: - | T37: 14460 | U37: 37700 | V37: 65231 | W37: 101120 | X37: 131219 | Y37: 181827 | Z37: 17400 | AA37: 17400 | AB37: 19300 | AC37: 21100 | AD37: 23400 | AE37: 23400 | AF37: 26100 | AG37: 32100 | AH37: 37000 | AI37: 44000 | AJ37: 59955 | AQ37: X | AV37: X | AW37: =SUM(AP37:AR37,AT37:AV37) -> 0 | AX37: 2020. | AY37: 41383 | AZ37: 2021. | BA37: 41747 | BB37: Elbląg
A38: 31 | B38: Wiola W3 | C38: NE53711 | D38: p-pa | E38: 2009 | F38: 06.05.2009 | G38: - | H38: - | I38: 0 / 310 | J38: 600 | K38: SUCW3F30F92001936 | L38: - | M38: - | N38: - | O38: - | P38: - | Q38: - | R38: - | S38: - | T38: - | U38: - | W38: - | X38: - | Y38: - | Z38: - | AA38: - | AB38: - | AC38: - | AD38: - | AE38: - | AF38: - | AG38: - | AH38: - | AI38: - | AJ38: - | AK38: - | AL38: - | AM38: - | AN38: - | AQ38: X | AR38: X | AS38: X | AT38: X | AU38: X | AV38: X | AW38: =SUM(AP38:AR38,AT38:AV38) -> 0 | AX38: 2020. | AY38: 41400 | AZ38: 2021. | BA38: 41764 | BB38: Elbląg
A39: 32 | B39: Renault Trafic Pack Clim | C39: NE84968 | D39: ciężarowy | E39: 2011 | F39: 16.05.2011 | G39: 12.06.2016 | H39: 1995 / 84 | I39: 6 / 1035 | J39: 2960 | K39: VF1FLBHB6BY379567 | L39: - | M39: 2 / 0 | N39: autoalarm immobiliser z transponderem | O39: - | P39: - | Q39: - | R39: - | S39: 9134 | T39: 33534 | U39: 51460 | V39: 71264 | W39: 91400 | X39: 110580 | Y39: 150127 | Z39: 26200 | AA39: 26200 | AB39: 28800 | AC39: 33300 | AD39: 37000 | AE39: 37000 | AF39: 40000 | AG39: 43500 | AH39: 49500 | AI39: 60000 | AJ39: 75000 | AK39: 113869.71 | AL39: - | AM39: - | AN39: - | AQ39: X | AV39: X | AW39: =SUM(AP39:AR39,AT39:AV39) -> 0 | AX39: 2020. | AY39: 41410 | AZ39: 2021. | BA39: 41774 | BB39: Elbląg
A40: 33 | B40: Renault Kangoo Oasis 1,5 d | C40: NE84969 | D40: osobowy | E40: 2011 | F40: 16.05.2011 | G40: 16.05.2016 | H40: 1461 / 66 | I40: 5 / 528 | J40: 1954 | K40: VF1KW25B545045810 | L40: - | M40: 2 / 0 | N40: autoalarm immobiliser | O40: - | P40: - | Q40: - | R40: - | S40: 11279 | T40: 38685 | U40: 60319 | V40: 89204 | W40: 120175 | X40: 147506 | Y40: 202046 | Z40: 15500 | AA40: 15500 | AB40: 16700 | AC40: 19300 | AD40: 21400 | AE40: 21400 | AF40: 24000 | AG40: 27600 | AH40: 32000 | AI40: 37000 | AJ40: 45000 | AK40: 54899.98 | AL40: - | AM40: - | AN40: - | AQ40: X | AV40: X | AW40: =SUM(AP40:AR40,AT40:AV40) -> 0 | AX40: 2020. | AY40: 41410 | AZ40: 2021. | BA40: 41774 | BB40: Elbląg
...

Sheet KĘTRZYN
A1: Załącznik nr 2c do OPZ Załącznik nr 2c do Umowy
A2: WYKAZ POJAZDÓW ZARZĄDU DRÓG WOJEWÓDZKICH W OLSZTYNIE REJON DRÓG W KĘTRZYNIE DO UBEZPIECZENIA NA LATA 2019-2020
A3: 4 | B3: 20 | C3: 8 | D3: 8 | E3: 5 | F3: 8 | G3: 8 | H3: 8 | I3: 9 | J3: 9 | K3: 9 | L3: 9 | M3: 8 | N3: 11 | O3: 7 | P3: 7 | Q3: 7 | R3: 7 | S3: 7 | T3: 7 | U3: 7 | V3: 7 | W3: 7 | X3: 7 | Y3: 7 | Z3: 9 | AA3: 7 | AB3: 7 | AC3: 7 | AD3: 9 | AE3: 7 | AF3: 7 | AG3: 7 | AH3: 7 | AI3: 7 | AJ3: 7 | AK3: 7 | AL3: 7 | AM3: 7 | AN3: 7 | AO3: 7 | AP3: 8 | AQ3: 8 | AR3: 8 | AS3: 8 | AT3: 8 | AU3: 8 | AV3: 8 | AW3: 9 | AX3: 4 | AY3: 4 | AZ3: 4 | BA3: 4 | BB3: 7 | BC3: 31
A4: lp | B4: Marka, model, typ pojazdu | C4: Nr rejestr. | D4: Rodzaj | E4: Rok prod. | F4: Data I rejestr. | G4: Data bad. techn. | H4: Poj. silnika / moc [kW] | I4: Liczba miejsc / ładowność w kg | J4: DMC [kg] | K4: Nr nadwozia | L4: Nr silnika | M4: Liczba kluczyków | N4: Zabezpiecz. | O4: Przebieg w km | P4: Przebieg w km 11.2008 | Q4: Przebieg w km 11.2009 | R4: Przebieg w km 11.2010 | S4: Przebieg 10.2011 [km] | T4: Przebieg 10.2012 [km] | U4: Przebieg 09.2013 [km] | V4: Przebieg 09.2014 [km] | W4: Przebieg 10.2015 [km] | X4: Przebieg 10.2016 [km] | Y4: Przebieg 06.2018 [km] | Z4: Wartość z VAT [zł] | AA4: Wartość 2020 | AB4: Wartość 2019 | AC4: Wartość 2018 | AD4: Wartość z VAT - 2 lata - 2017 i 2018 [zł] | AE4: Wartość 2017 | AF4: Wartość 2016 | AG4: Wartość 2015 | AH4: Wartość 2014 | AI4: Wartość 2013 | AJ4: Wartość 2012 | AK4: Wartość 2011 | AL4: Wartość 2010 | AM4: Wartość 2008/2009 | AN4: Wartość 2007/2008 | AO4: Wartość nowa | AP4: Składka [zł] * | AX4: Okres ubezpieczenia | BB4: Rejon | BC4: Uwagi
J5: dopuszczalna masa całkowita | M5: oryg./ nieoryg. | AP5: OC | AQ5: ZK zielona karta | AR5: AC | AS5: AC - % SU | AT5: NNW | AU5: Assistance podstawowy | AV5: Assistance rozszerzony | AW5: Łącznie za pojazd | AX5: od | AZ5: do
A6: 1 | B6: Kosiarka samobieżna HUSQVARNA TS 342 | C6: b/n | D6: kosiarka | E6: 2015 | F6: - | G6: - | H6: - | I6: - | J6: - | K6: - | L6: - | M6: - | N6: - | O6: - | P6: - | Q6: - | R6: - | S6: - | T6: - | U6: - | V6: - | W6: - | X6: - | Y6: - | Z6: - | AA6: - | AB6: - | AC6: - | AD6: - | AE6: - | AO6: 29191.89 | AQ6: X | AR6: X | AS6: X | AU6: X | AV6: X | AW6: =SUM(AP6:AR6,AT6:AV6) -> 0 | AX6: 2019. | AY6: 41640 | AZ6: 2019. | BA6: 42004 | BB6: Kętrzyn
A7: 2 | B7: URSUS C-385 | C7: NKEY375 | D7: ciągnik rolniczy | E7: 1971 | F7: 15.05.1973 | G7: 31.01.2016 | H7: 4562 | I7: 2 / | J7: 5010 | K7: 15754 | L7: 54809 | M7: 1/0 | N7: - | X7: - | Y7: 2508 | Z7: - | AA7: - | AB7: - | AC7: - | AD7: - | AE7: - | AQ7: X | AR7: X | AS7: X | AU7: X | AV7: X | AW7: =SUM(AP7:AR7,AT7:AV7) -> 0 | AX7: 2019. | AY7: 41640 | AZ7: 2019. | BA7: 42004 | BB7: Kętrzyn
A8: 3 | B8: URSUS C-360 | C8: NKEY153 | D8: ciągnik rolniczy | E8: 1985 | F8: 15.03.1985 | G8: 23.08.2015 | H8: 3120 | I8: 1 / | J8: - | K8: 531065 | L8: 28123 | M8: 1/0 | N8: - | X8: - | Y8: 5067 | Z8: - | AA8: - | AB8: - | AC8: - | AD8: - | AE8: - | AQ8: X | AR8: X | AS8: X | AU8: X | AV8: X | AW8: =SUM(AP8:AR8,AT8:AV8) -> 0 | AX8: 2019. | AY8: 41640 | AZ8: 2019. | BA8: 42004 | BB8: Kętrzyn
A9: 4 | B9: ZIŁ D-470 | C9: OLP1123 | D9: specjal. | E9: 1985 | F9: 29.10.1985 | G9: 14.10.2015 | H9: 19100 | I9: 3 / | J9: 9000 | K9: 66335 | L9: 8411I514 | M9: 1/0 | N9: - | X9: - | Y9: 10330 | Z9: - | AA9: - | AB9: - | AC9: - | AD9: - | AE9: - | AQ9: X | AR9: X | AS9: X | AU9: X | AV9: X | AW9: =SUM(AP9:AR9,AT9:AV9) -> 0 | AX9: 2019. | AY9: 41640 | AZ9: 2019. | BA9: 42004 | BB9: Kętrzyn
A10: 5 | B10: Autosan D-734 | C10: NKEP326 | D10: p-pa ciężarowa roln. | E10: 1990 | F10: 29.05.1990 | G10: 02.09.2016 | H10: - | I10: 0 / 4000 | J10: - | K10: 0267 | L10: - | M10: - | N10: - | X10: - | Y10: - | Z10: - | AA10: - | AB10: - | AC10: - | AD10: - | AE10: - | AQ10: X | AR10: X | AS10: X | AT10: X | AU10: X | AV10: X | AW10: =SUM(AP10:AR10,AT10:AV10) -> 0 | AX10: 2019. | AY10: 41640 | AZ10: 2019. | BA10: 42004 | BB10: Kętrzyn
A11: 6 | B11: Autosan D-732 | C11: NKEP316 | D11: p-pa ciężarowa roln. | E11: 1988 | F11: 06.04.1988 | G11: 27.08.2015 | H11: - | I11: 0 / 4000 | J11: - | K11: 47539 | L11: - | M11: - | N11: - | X11: - | Y11: - | Z11: - | AA11: - | AB11: - | AC11: - | AD11: - | AE11: - | AQ11: X | AR11: X | AS11: X | AT11: X | AU11: X | AV11: X | AW11: =SUM(AP11:AR11,AT11:AV11) -> 0 | AX11: 2019. | AY11: 41640 | AZ11: 2019. | BA11: 42004 | BB11: Kętrzyn
A12: 7 | B12: ZPC ŚWIDNIK 23.62 | C12: NKE83PE | D12: p-pa lekka | E12: 2007 | F12: 09.01.2008 | G12: - | H12: - | I12: 0 / 515 | J12: 750 | K12: SWH2362S17B004812 | L12: - | M12: - | N12: - | X12: - | Y12: - | Z12: - | AA12: - | AB12: - | AC12: - | AD12: - | AE12: - | AQ12: X | AR12: X | AS12: X | AT12: X | AU12: X | AV12: X | AW12: =SUM(AP12:AR12,AT12:AV12) -> 0 | AX12: 2019. | AY12: 41648 | AZ12: 2020. | BA12: 42012 | BB12: Kętrzyn
A13: 8 | B13: PRONAR T 653 | C13: NKE65PW | D13: przyczepa ciężarowa rolnicza | E13: 2016 | F13: 12.01.2017 | H13: - | I13: 0 / 4000 | J13: 5950 | K13: SZB6530XXH1X08962 | O13: - | P13: - | Q13: - | R13: - | S13: - | T13: - | U13: - | V13: - | W13: - | X13: - | Y13: - | Z13: 18000 | AA13: 15200 | AB13: 18000 | AC13: 22000 | AD13: 27060 | AE13: 27060 | AO13: 27060 | AQ13: X | AT13: X | AU13: X | AV13: X | AW13: =SUM(AP13:AR13,AT13:AV13) -> 0 | AX13: 2019. | AY13: 42747 | AZ13: 2020. | BA13: 43111 | BB13: Kętrzyn
A14: 9 | B14: ZPC ŚWIDNIK 23.62 | C14: NKE69PG | D14: p-pa lekka | E14: 2008 | F14: 08.01.2009 | G14: - | H14: - | I14: 0 / 515 | J14: 750 | K14: SWH2362S18B005357 | L14: - | M14: - | N14: - | O14: - | P14: - | Q14: - | R14: - | S14: - | T14: - | U14: - | W14: - | X14: - | Y14: - | Z14: - | AA14: - | AB14: - | AC14: - | AD14: - | AE14: - | AF14: - | AG14: - | AH14: - | AI14: - | AJ14: - | AK14: - | AL14: - | AM14: - | AN14: - | AQ14: X | AR14: X | AS14: X | AT14: X | AU14: X | AV14: X | AW14: =SUM(AP14:AR14,AT14:AV14) -> 0 | AX14: 2019. | AY14: 41292 | AZ14: 2020. | BA14: 41656 | BB14: Kętrzyn
A15: 10 | B15: ZPC ŚWIDNIK 23.62 | C15: NKE70PG | D15: p-pa lekka | E15: 2008 | F15: 08.01.2009 | G15: - | H15: - | I15: 0 / 515 | J15: 750 | K15: SWH2362S18B005356 | L15: - | M15: - | N15: - | O15: - | P15: - | Q15: - | R15: - | S15: - | T15: - | U15: - | W15: - | X15: - | Y15: - | Z15: - | AA15: - | AB15: - | AC15: - | AD15: - | AE15: - | AF15: - | AG15: - | AH15: - | AI15: - | AJ15: - | AK15: - | AL15: - | AM15: - | AN15: - | AQ15: X | AR15: X | AS15: X | AT15: X | AU15: X | AV15: X | AW15: =SUM(AP15:AR15,AT15:AV15) -> 0 | AX15: 2019. | AY15: 41292 | AZ15: 2020. | BA15: 41656 | BB15: Kętrzyn
A16: 11 | B16: SKODA FABIA Classic sedan 04 | C16: NKE68GU | D16: osob. | E16: 2004 | F16: 15.03.2004 | G16: 02.07.2015 | H16: 1390 / 55 | I16: 5 / | J16: 1605 | K16: TMBD46Y644023116 | L16: Y432420 | M16: 2 / 0 | N16: immobiliser | O16: 82805 | P16: 88552 | Q16: 95700 | R16: 103720 | S16: 111585 | T16: 118395 | U16: 124597 | V16: 134313 | W16: 143439 | X16: 151287 | Y16: 163698 | Z16: 6700 | AA16: 6200 | AB16: 6700 | AC16: 7300 | AD16: 8100 | AE16: 8100 | AF16: 8800 | AG16: 9600 | AH16: 10500 | AI16: 11500 | AJ16: 13500 | AK16: 15600 | AL16: 16800 | AM16: 18000 | AN16: 20000 | AQ16: X | AV16: X | AW16: =SUM(AP16:AR16,AT16:AV16) -> 0 | AX16: 2019. | AY16: 41348 | AZ16: 2020. | BA16: 41712 | BB16: Kętrzyn
A17: 12 | B17: Nissan Navara D40 SE Long 2.5D 4WD | C17: NO4704K | D17: ciężarowy | E17: 2014 | F17: 25.03.2014 | G17: 25.04.2014 | H17: 2488 / 140 | I17: 5 / 720 | J17: 2805 | K17: VSKCVND40U0544016 | M17: 2 / 0 | N17: autoalarm immobiliser | V17: 21408 | W17: 59715 | X17: 85294 | Y17: 116580 | Z17: 69000 | AA17: 61200 | AB17: 69000 | AC17: 73800 | AD17: 82000 | AE17: 82000 | AF17: 91000 | AG17: 105000 | AH17: 127182 | AQ17: X | AW17: =SUM(AP17:AR17,AT17:AV17) -> 0 | AX17: 2019. | AY17: 42087 | AZ17: 2020. | BA17: 42452 | BB17: Kętrzyn | BC17: Ubezpieczony: ZDW Olsztyn
A18: 13 | B18: Peugeot Partner Tepee Active BlueHDi kombi | C18: NKEFM86 | D18: osob. | E18: 2016 | F18: 15.04.2016 | H18: 1560 / 73 | I18: 5 / 686 | J18: 2060 | K18: VF37JBHY6GJ522257 | M18: 2 / 0 | N18: immobiliser autoalarm | X18: 11654 | Y18: 71521 | Z18: 46000 | AA18: 42000 | AB18: 46000 | AC18: 49300 | AD18: 58000 | AE18: 58000 | AF18: 72570 | AO18: 72570 | AQ18: X | AW18: =SUM(AP18:AR18,AT18:AV18) -> 0 | AX18: 2019. | AY18: 42475 | AZ18: 2020. | BA18: 42839 | BB18: Kętrzyn
A19: 14 | B19: Renault Kangoo Oasis 1,5 d | C19: NKE36VC | D19: osob. | E19: 2012 | F19: 19.04.2012 | G19: 09.05.2016 | H19: 1461 / 66 | I19: 5 / 531 | J19: 1954 | K19: VF1KW25B547034821 | M19: 2 / 0 | N19: immobiliser autoalarm | O19: - | T19: 5286 | U19: 16980 | V19: 32145 | W19: 46437 | X19: 59863 | Y19: 82799 | Z19: 22000 | AA19: 20500 | AB19: 22000 | AC19: 23900 | AD19: 26600 | AE19: 26600 | AF19: 29200 | AG19: 33800 | AH19: 38000 | AI19: 45000 | AJ19: 59955 | AQ19: X | AV19: X | AW19: =SUM(AP19:AR19,AT19:AV19) -> 0 | AX19: 2019. | AY19: 41383 | AZ19: 2020. | BA19: 41747 | BB19: Kętrzyn
A20: 15 | B20: Renault Kangoo Oasis 1,5 d | C20: NKE37VC | D20: osob. | E20: 2012 | F20: 19.04.2012 | G20: 19.04.2015 | H20: 1461 / 66 | I20: 5 / 531 | J20: 1954 | K20: VF1KW25B547034820 | M20: 2 / 0 | N20: immobiliser autoalarm | O20: - | T20: 5479 | U20: 17136 | V20: 32148 | W20: 45900 | X20: 60418 | Y20: 86040 | Z20: 22000 | AA20: 20500 | AB20: 22000 | AC20: 23900 | AD20: 26600 | AE20: 26600 | AF20: 29200 | AG20: 33800 | AH20: 38000 | AI20: 45000 | AJ20: 59955 | AQ20: X | AV20: X | AW20: =SUM(AP20:AR20,AT20:AV20) -> 0 | AX20: 2019. | AY20: 41383 | AZ20: 2020. | BA20: 41747 | BB20: Kętrzyn
A21: 16 | B21: SKODA OCTAVIA II LIFTBACK AMBIENTE TSI | C21: NKE10KX | D21: osob. | E21: 2009 | F21: 29.04.2009 | G21: 08.05.2015 | H21: 1798 / 118 | I21: 5 / | J21: 1965 | K21: TMBCK61Z492052921 | L21: CDA032738 | M21: 2 / 0 | N21: autoalarm immobiliser z transponderem | O21: - | P21: - | Q21: 12992 | R21: 31826 | S21: 51793 | T21: 69740 | U21: 84555 | V21: 102367 | W21: 123703 | X21: 142322 | Y21: 178217 | Z21: 20300 | AA21: 18400 | AB21: 20300 | AC21: 23400 | AD21: 26000 | AE21: 26000 | AF21: 28000 | AG21: 30000 | AH21: 33000 | AI21: 38000 | AJ21: 44000 | AK21: 52000 | AL21: 61000 | AM21: 71400 | AN21: - | AQ21: X | AV21: X | AW21: =SUM(AP21:AR21,AT21:AV21) -> 0 | AX21: 2019. | AY21: 41393 | AZ21: 2020. | BA21: 41757 | BB21: Kętrzyn
A22: 17 | B22: Renault Trafic Pack Clim | C22: NKE13TU | D22: ciężar. | E22: 2011 | F22: 09.05.2011 | G22: 15.04.2015 | H22: 1995 / 84 | I22: 6 / 1035 | J22: 2960 | K22: VF1FLBHB6BY382202 | L22: - | M22: 2 / 0 | N22: autoalarm immobiliser z transponderem | O22: - | P22: - | Q22: - | R22: - | S22: 6427 | T22: 21880 | U22: 34232 | V22: 49028 | W22: 62716 | X22: 78114 | Y22: 102269 | Z22: 31000 | AA22: 27800 | AB22: 31000 | AC22: 34600 | AD22: 38500 | AE22: 38500 | AF22: 41500 | AG22: 44600 | AH22: 51000 | AI22: 61000 | AJ22: 75000 | AK22: 113869.71 | AL22: - | AM22: - | AN22: - | AQ22: X | AV22: X | AW22: =SUM(AP22:AR22,AT22:AV22) -> 0 | AX22: 2019. | AY22: 41403 | AZ22: 2020. | BA22: 41767 | BB22: Kętrzyn
A23: 18 | B23: Renault Trafic Pack Clim | C23: NKE14TU | D23: ciężar. | E23: 2011 | F23: 09.05.2011 | G23: 08.05.2016 | H23: 1995 / 84 | I23: 6 / 1035 | J23: 2960 | K23: VF1FLBHB6BV413730 | L23: - | M23: 2 / 0 | N23: autoalarm, immobiliser z transponderem | O23: - | P23: - | Q23: - | R23: - | S23: 6346 | T23: 22675 | U23: 38610 | V23: 56683 | W23: 73775 | X23: 91247 | Y23: 121585 | Z23: 29900 | AA23: 27000 | AB23: 29900 | AC23: 34300 | AD23: 38100 | AE23: 38100 | AF23: 41000 | AG23: 44200 | AH23: 51000 | AI23: 61000 | AJ23: 75000 | AK23: 113869.71 | AL23: - | AM23: - | AN23: - | AQ23: X | AV23: X | AW23: =SUM(AP23:AR23,AT23:AV23) -> 0 | AX23: 2019. | AY23: 41403 | AZ23: 2020. | BA23: 41767 | BB23: Kętrzyn
A24: 19 | B24: Renault Kangoo Oasis 1,5 d | C24: NKE41TU | D24: osobowy | E24: 2011 | F24: 11.05.2011 | G24: 08.05.2016 | H24: 1461 / 66 | I24: 5 / 528 | J24: 1954 | K24: VF1KW25B545045802 | L24: - | M24: 2 / 0 | N24: autoalarm immobiliser | O24: - | P24: - | Q24: - | R24: - | S24: 7173 | T24: 24363 | U24: 38492 | V24: 57147 | W24: 71572 | X24: 84401 | Y24: 108813 | Z24: 19000 | AA24: 18000 | AB24: 19000 | AC24: 21400 | AD24: 23800 | AE24: 23800 | AF24: 25600 | AG24: 29200 | AH24: 33000 | AI24: 38000 | AJ24: 45000 | AK24: 54899.9 | AL24: - | AM24: - | AN24: - | AQ24: X | AV24: X | AW24: =SUM(AP24:AR24,AT24:AV24) -> 0 | AX24: 2019. | AY24: 41405 | AZ24: 2020. | BA24: 41769 | BB24: Kętrzyn
A25: 20 | B25: SKODA FABIA Classic sedan | C25: NKEW576 | D25: osob. | E25: 2003 | F25: 21.05.2003 | G25: 15.05.2015 | H25: 1390 / 55 | I25: 5 / | J25: 1605 | K25: TMBDC467433805273 | L25: BBY398567 | M25: 2 / 0 | N25: immobiliser | O25: 116696 | P25: 129067 | Q25: 133408 | R25: 138002 | S25: 144861 | T25: 149650 | U25: 154274 | V25: 161301 | W25: 166900 | X25: 173517 | Y25: 195171 | Z25: 6000 | AA25: 5500 | AB25: 6000 | AC25: 6500 | AD25: 7200 | AE25: 7200 | AF25: 7900 | AG25: 8500 | AH25: 9500 | AI25: 10000 | AJ25: 11000 | AK25: 12500 | AL25: 14400 | AM25: 15400 | AN25: 18000 | AQ25: X | AV25: X | AW25: =SUM(AP25:AR25,AT25:AV25) -> 0 | AX25: 2019. | AY25: 41415 | AZ25: 2020. | BA25: 41779 | BB25: Kętrzyn
A26: 21 | B26: Renault Trafic Furgon Pack Clim 2,9t L2H1 dCi | C26: NKE46LG | D26: ciężar. | E26: 2009 | F26: 20.07.2009 | G26: 17.08.2015 | H26: 1995 / 84 | I26: 6 / 1235 | J26: 2960 | K26: VF1FLBHB69V350358 | L26: - | M26: 2 / 0 | N26: autoalarm, immobiliser z transponderem | O26: - | P26: - | Q26: 6863 | R26: 33733 | S26: 64877 | T26: 95820 | U26: 110269 | V26: 132314 | W26: 153666 | X26: 177784 | Y26: 217392 | Z26: 22300 | AA26: 20300 | AB26: 22300 | AC26: 24700 | AD26: 27400 | AE26: 27400 | AF26: 29100 | AG26: 31400 | AH26: 35000 | AI26: 40000 | AJ26: 48000 | AK26: 62000 | AL26: 77000 | AM26: 100333 | AN26: - | AQ26: X | AV26: X | AW26: =SUM(AP26:AR26,AT26:AV26) -> 0 | AX26: 2019. | AY26: 41475 | AZ26: 2020. | BA26: 41839 | BB26: Kętrzyn
A27: 22 | B27: Renault Trafic Furgon Pack Clim 2,9t L2H1 dCi | C27: NKE48LG | D27: ciężar. | E27: 2009 | F27: 20.07.2009 | G27: 20.07.2015 | H27: 1995 / 84 | I27: 6 / 1235 | J27: 2960 | K27: VF1FLBHB69V350359 | L27: - | M27: 2 / 0 | N27: autoalarm, immobiliser z transponderem | O27: - | P27: - | Q27: 8012 | R27: 39199 | S27: 65604 | T27: 89371 | U27: 124880 | V27: 158573 | W27: 190717 | X27: 222454 | Y27: 262174 | Z27: 20400 | AA27: 18500 | AB27: 20400 | AC27: 23000 | AD27: 25500 | AE27: 25500 | AF27: 28000 | AG27: 30300 | AH27: 34000 | AI27: 40000 | AJ27: 48000 | AK27: 61000 | AL27: 77000 | AM27: 100333 | AN27: - | AQ27: X | AV27: X | AW27: =SUM(AP27:AR27,AT27:AV27) -> 0 | AX27: 2019. | AY27: 41475 | AZ27: 2020. | BA27: 41839 | BB27: Kętrzyn
A28: 23 | B28: Wiola W3H | C28: NKE02PW | D28: przyczepa lekka | E28: 2016 | F28: 25.08.2016 | H28: - | I28: 0 / 458 | J28: 750 | K28: SUCE4ASA4G1000240 | M28: - | N28: - | X28: - | Y28: - | Z28: 11150 | AA28: 9560 | AB28: 11150 | AC28: 13200 | AD28: 15900 | AE28: 15900 | AF28: 19919 | AO28: =7988 + 11931 -> 19919 | AQ28: X | AT28: X | AU28: X | AV28: X | AW28: =SUM(AP28:AR28,AT28:AV28) -> 0 | AX28: 2019. | AY28: 42607 | AZ28: 2020. | BA28: 42971 | BB28: Kętrzyn | BC28: przyczepa z dostosowaniem do przewozu tablicy ostrzegawczej typu U26C o wartości 6680 zł
A29: 24 | B29: Wiola W3H | C29: NKE03PW | D29: przyczepa lekka | E29: 2016 | F29: 25.08.2016 | H29: - | I29: 0 / 458 | J29: 750 | K29: SUCE4ASA4G1000238 | M29: - | N29: - | X29: - | Y29: - | Z29: 4470 | AA29: 3830 | AB29: 4470 | AC29: 5300 | AD29: 6400 | AE29: 6400 | AF29: 7988 | AO29: 7988 | AQ29: X | AT29: X | AU29: X | AV29: X | AW29: =SUM(AP29:AR29,AT29:AV29) -> 0 | AX29: 2019. | AY29: 42607 | AZ29: 2020. | BA29: 42971 | BB29: Kętrzyn | BC29: przyczepa bez tablicy
A30: 25 | B30: Wiola W1 | C30: NKE02PY | D30: przyczepa ciężarowa skrzyniowa | E30: 2017 | F30: 23.08.2017 | H30: - | I30: 0 / 509 | J30: 751 | K30: SUCE5ASA3H1001403 | M30: - | N30: - | O30: - | P30: - | Q30: - | R30: - | S30: - | T30: - | U30: - | V30: - | W30: - | X30: - | Y30: - | Z30: 12930 | AA30: 10970 | AB30: 12930 | AC30: 15670 | AD30: 19593.2 | AE30: 19593.2 | AO30: =7539.2 + 12054 -> 19593.2 | AQ30: X | AT30: X | AU30: X | AV30: X | AW30: =SUM(AP30:AR30,AT30:AV30) -> 0 | AX30: 2019. | AY30: 42970 | AZ30: 2020. | BA30: 43334 | BB30: Kętrzyn | BC30: Przyczepa z dostosowaniem do przewozu tablicy ostrzegawczej typu U26C o wartości 7950 zł z plandeką i podjazdami
A31: 26 | B31: CASE IH Farmall 95A | C31: NKE26YG | D31: ciągnik rolniczy | E31: 2016 | F31: 31.10.2016 | H31: 3387 / 73 | I31: 2 / | J31: 6000 | K31: ZGLB00821 | M31: 2 / 0 | N31: - | X31: - | Y31: 669 | Z31: 136000 | AA31: 127200 | AB31: 136000 | AC31: 146500 | AD31: 164000 | AE31: 164000 | AF31: 175890 | AO31: 175890 | AQ31: X | AU31: X | AV31: X | AW31: =SUM(AP31:AR31,AT31:AV31) -> 0 | AX31: 2019. | AY31: 43039 | AZ31: 2020. | BA31: 43403 | BB31: Kętrzyn
A32: 27 | B32: Citroen Berlingo B9 VP XTR VTI 120 Kombi | C32: NKEGS34 | D32: osob. | E32: 2016 | F32: 08.12.2016 | H32: 1598 / 88 | I32: 5 / | J32: 2000 | K32: VF77J5FS6GJ865415 | M32: 2 / 0 | N32: autoalarm immobiliser | Y32: 15072 | Z32: 35000 | AA32: 31000 | AB32: 35000 | AC32: 45800 | AD32: 54100 | AE32: 54100 | AF32: 67650 | AO32: 67650 | AQ32: X | AW32: =SUM(AP32:AR32,AT32:AV32) -> 0 | AX32: 2019. | AY32: 43077 | AZ32: 2020. | BA32: 43441 | BB32: Kętrzyn
A33: 28 | B33: WIOLA W-600H | C33: NKE86PU | D33: przyczepa lekka | E33: 2015 | F33: 15.12.2015 | H33: - | I33: 0 / 284 | J33: 500 | K33: SUCE3ASA3F1000543 | M33: - | N33: - | X33: - | Y33: - | Z33: 8470 | AA33: 7590 | AB33: 8470 | AC33: 9880 | AD33: 11700 | AE33: 11700 | AF33: =4500 + 9700 -> 14200 | AG33: 17650.5 | AO33: =5596.5 + 12054 -> 17650.5 | AQ33: X | AT33: X | AU33: X | AV33: X | AW33: =SUM(AP33:AR33,AT33:AV33) -> 0 | AX33: 2019. | AY33: 42719 | AZ33: 2020. | BA33: 43083 | BB33: Kętrzyn | BC33: przyczepa z dostosowaniem do przewozu tablicy ostrzegawczej typu U26C o wartości 5780 zł
AI34: =SUM(AI7:AI33) -> 389500 | AJ34: =SUM(AJ7:AJ33) -> 479410 | AP34: =SUM(AP6:AP33) -> 0 | AQ34: X | AR34: =SUM(AR6:AR33) -> 0 | AS34: X | AT34: =SUM(AT6:AT33) -> 0 | AU34: =SUM(AU6:AU33) -> 0 | AV34: =SUM(AV6:AV33) -> 0 | AW34: =SUM(AW6:AW33) -> 0 | AX34: Razem 2019 rok
A35: * | B35: w przypadku bezskładkowego objęcia ochroną danego zakresu ubezpieczenia proszę wpisać 0 zł | AP35: =SUM(AP34:AV34) -> 0 | AX35: Ogółem 2019 rok
A36: 29 | B36: Kosiarka samobieżna HUSQVARNA TS 342 | C36: b/n | D36: kosiarka | E36: 2015 | F36: - | G36: - | H36: - | I36: - | J36: - | K36: - | L36: - | M36: - | N36: - | O36: - | P36: - | Q36: - | R36: - | S36: - | T36: - | U36: - | V36: - | W36: - | X36: - | Y36: - | Z36: - | AA36: - | AB36: - | AC36: - | AD36: - | AE36: - | AO36: 29191.89 | AQ36: X | AR36: X | AS36: X | AU36: X | AV36: X | AW36: =SUM(AP36:AR36,AT36:AV36) -> 0 | AX36: 2020. | AY36: 41640 | AZ36: 2020. | BA36: 42004 | BB36: Kętrzyn
A37: 30 | B37: URSUS C-385 | C37: NKEY375 | D37: ciągnik rolniczy | E37: 1971 | F37: 15.05.1973 | G37: 31.01.2016 | H37: 4562 | I37: 2 / | J37: 5010 | K37: 15754 | L37: 54809 | M37: 1/0 | N37: - | X37: - | Y37: 2508 | Z37: - | AA37: - | AB37: - | AC37: - | AD37: - | AE37: - | AQ37: X | AR37: X | AS37: X | AU37: X | AV37: X | AW37: =SUM(AP37:AR37,AT37:AV37) -> 0 | AX37: 2020. | AY37: 41640 | AZ37: 2020. | BA37: 42004 | BB37: Kętrzyn
A38: 31 | B38: URSUS C-360 | C38: NKEY153 | D38: ciągnik rolniczy | E38: 1985 | F38: 15.03.1985 | G38: 23.08.2015 | H38: 3120 | I38: 1 / | J38: - | K38: 531065 | L38: 28123 | M38: 1/0 | N38: - | X38: - | Y38: 5067 | Z38: - | AA38: - | AB38: - | AC38: - | AD38: - | AE38: - | AQ38: X | AR38: X | AS38: X | AU38: X | AV38: X | AW38: =SUM(AP38:AR38,AT38:AV38) -> 0 | AX38: 2020. | AY38: 41640 | AZ38: 2020. | BA38: 42004 | BB38: Kętrzyn
A39: 32 | B39: ZIŁ D-470 | C39: OLP1123 | D39: specjal. | E39: 1985 | F39: 29.10.1985 | G39: 14.10.2015 | H39: 19100 | I39: 3 / | J39: 9000 | K39: 66335 | L39: 8411I514 | M39: 1/0 | N39: - | X39: - | Y39: 10330 | Z39: - | AA39: - | AB39: - | AC39: - | AD39: - | AE39: - | AQ39: X | AR39: X | AS39: X | AU39: X | AV39: X | AW39: =SUM(AP39:AR39,AT39:AV39) -> 0 | AX39: 2020. | AY39: 41640 | AZ39: 2020. | BA39: 42004 | BB39: Kętrzyn
A40: 33 | B40: Autosan D-734 | C40: NKEP326 | D40: przyczepa ciężarowa rolnicza | E40: 1990 | F40: 29.05.1990 | G40: 02.09.2016 | H40: - | I40: 0 / 4000 | J40: - | K40: 0267 | L40: - | M40: - | N40: - | X40: - | Y40: - | Z40: - | AA40: - | AB40: - | AC40: - | AD40: - | AE40: - | AQ40: X | AR40: X | AS40: X | AT40: X | AU40: X | AV40: X | AW40: =SUM(AP40:AR40,AT40:AV40) -> 0 | AX40: 2020. | AY40: 41640 | AZ40: 2020. | BA40: 42004 | BB40: Kętrzyn
...

Sheet NIDZICA
A1: Załącznik nr 2d do OPZ Załącznik nr 2d do Umowy
A2: WYKAZ POJAZDÓW ZARZĄDU DRÓG WOJEWÓDZKICH W OLSZTYNIE REJON DRÓG W NIDZICY DO UBEZPIECZENIA NA LATA 2019-2020
A3: 4 | B3: 20 | C3: 8 | D3: 8 | E3: 5 | F3: 8 | G3: 8 | H3: 8 | I3: 9 | J3: 9 | K3: 9 | L3: 9 | M3: 8 | N3: 11 | O3: 7 | P3: 7 | Q3: 7 | R3: 7 | S3: 7 | T3: 7 | U3: 7 | V3: 7 | W3: 7 | X3: 7 | Y3: 7 | Z3: 9 | AA3: 7 | AB3: 7 | AC3: 7 | AD3: 9 | AE3: 7 | AF3: 7 | AG3: 7 | AH3: 7 | AI3: 7 | AJ3: 7 | AK3: 7 | AL3: 7 | AM3: 7 | AN3: 7 | AO3: 7 | AP3: 8 | AQ3: 8 | AR3: 8 | AS3: 8 | AT3: 8 | AU3: 8 | AV3: 8 | AW3: 9 | AX3: 4 | AY3: 4 | AZ3: 4 | BA3: 4 | BB3: 7 | BC3: 31
A4: lp | B4: Marka, model, typ pojazdu | C4: Nr rejestr. | D4: Rodzaj | E4: Rok prod. | F4: Data I rejestr. | G4: Data bad. techn. | H4: Poj. silnika / moc [kW] | I4: Liczba miejsc / ładowność w kg | J4: DMC [kg] | K4: Nr nadwozia | L4: Nr silnika | M4: Liczba kluczyków | N4: Zabezpiecz. | O4: Przebieg w km | P4: Przebieg w km 11.2008 | Q4: Przebieg w km 11.2009 | R4: Przebieg w km 11.2010 | S4: Przebieg 10.2011 [km] | T4: Przebieg 10.2012 [km] | U4: Przebieg 09.2013 [km] | V4: Przebieg 09.2014 [km] | W4: Przebieg 10.2015 [km] | X4: Przebieg 10.2016 [km] | Y4: Przebieg 06.2018 [km] | Z4: Wartość z VAT [zł] | AA4: Wartość 2020 | AB4: Wartość 2019 | AC4: Wartość 2018 | AD4: Wartość z VAT - 2 lata - 2017 i 2018 [zł] | AE4: Wartość 2017 | AF4: Wartość 2016 | AG4: Wartość 2015 | AH4: Wartość 2014 | AI4: Wartość 2013 | AJ4: Wartość 2012 | AK4: Wartość 2011 | AL4: Wartość 2010 | AM4: Wartość 2008/2009 | AN4: Wartość 2007/2008 | AO4: Wartość nowa | AP4: Składka [zł] * | AX4: Okres ubezpieczenia | BB4: Rejon | BC4: Uwagi
J5: dopuszczalna masa całkowita | M5: oryg./ nieoryg. | AP5: OC | AQ5: ZK zielona karta | AR5: AC | AS5: AC - % SU | AT5: NNW | AU5: Assistance podstawowy | AV5: Assistance rozszerzony | AW5: Łącznie za pojazd | AX5: od | AZ5: do
A6: 1 | B6: Rębak CPG5-EX z silnik. 25HP Honda V-Twin | C6: b/n | D6: przyczepa specjalist. | E6: 2014 | F6: - | G6: - | H6: - | I6: - | J6: - | K6: 18122014A | M6: - | N6: - | O6: - | P6: - | Q6: - | R6: - | S6: - | T6: - | U6: - | V6: - | W6: - | X6: - | Y6: - | Z6: - | AA6: - | AB6: - | AC6: - | AD6: - | AE6: - | AF6: - | AG6: - | AH6: - | AI6: - | AJ6: - | AK6: - | AL6: - | AM6: - | AN6: - | AO6: - | AQ6: X | AR6: X | AS6: X | AT6: X | AU6: X | AV6: X | AW6: =SUM(AP6:AR6,AT6:AV6) -> 0 | AX6: 2019. | AY6: 41640 | AZ6: 2019. | BA6: 42004 | BB6: Nidzica | BC6: rozdrabniacz do gałęzi
A7: 2 | B7: Kosiarka samobieżna Husqvarna TS342 | C7: b/n | D7: kosiarka | E7: 2015 | F7: - | G7: - | H7: - | I7: - | J7: - | K7: 111014A001246 | O7: - | P7: - | Q7: - | R7: - | S7: - | T7: - | U7: - | V7: - | W7: - | X7: - | Y7: - | Z7: - | AA7: - | AB7: - | AC7: - | AD7: - | AE7: - | AF7: - | AG7: - | AH7: - | AI7: - | AJ7: - | AK7: - | AL7: - | AM7: - | AN7: - | AO7: - | AQ7: X | AR7: X | AS7: X | AU7: X | AV7: X | AW7: =SUM(AP7:AR7,AT7:AV7) -> 0 | AX7: 2019. | AY7: 41640 | AZ7: 2019. | BA7: 42004 | BB7: Nidzica
A8: 3 | B8: URSUS C-385 | C8: OLM948B | D8: ciągnik rolniczy | E8: 1980 | F8: 12.02.1980 | G8: 09.09.2017 | H8: 4562 / | I8: 2 / 15200 | J8: 5170 | K8: 2303 | L8: 59968 | M8: 2 / 0 | N8: - | X8: - | Y8: - | Z8: - | AA8: - | AB8: - | AC8: - | AD8: - | AE8: - | AF8: - | AQ8: X | AR8: X | AS8: X | AU8: X | AV8: X | AW8: =SUM(AP8:AR8,AT8:AV8) -> 0 | AX8: 2019. | AY8: 41640 | AZ8: 2019. | BA8: 42004 | BB8: Nidzica
A9: 4 | B9: URSUS C-360 3P | C9: OLM796F | D9: ciągnik rolniczy | E9: 1985 | F9: 31.10.1985 | G9: 09.09.2017 | H9: 3120 / | I9: 1 / 10500 | J9: 2886 | K9: 540349 | L9: 394381 | M9: 2 / 0 | N9: - | X9: - | Y9: - | Z9: - | AA9: - | AB9: - | AC9: - | AD9: - | AE9: - | AF9: - | AQ9: X | AR9: X | AS9: X | AU9: X | AV9: X | AW9: =SUM(AP9:AR9,AT9:AV9) -> 0 | AX9: 2019. | AY9: 41640 | AZ9: 2019. | BA9: 42004 | BB9: Nidzica
A10: 5 | B10: AUTOSAN D-732 | C10: NNIY152 | D10: p-pa | E10: 1987 | F10: 19.11.1987 | G10: 25.07.2017 | H10: - | I10: 0 / 4000 | J10: 5630 | K10: 43969 | L10: - | M10: - | N10: - | X10: - | Y10: - | Z10: - | AA10: - | AB10: - | AC10: - | AD10: - | AE10: - | AF10: - | AQ10: X | AR10: X | AS10: X | AT10: X | AU10: X | AV10: X | AW10: =SUM(AP10:AR10,AT10:AV10) -> 0 | AX10: 2019. | AY10: 41640 | AZ10: 2019. | BA10: 42004 | BB10: Nidzica
